From mboxrd@z Thu Jan  1 00:00:00 1970
Return-Path: <test-report-bounces@dpdk.org>
Received: from mails.dpdk.org (mails.dpdk.org [217.70.189.124])
	by inbox.dpdk.org (Postfix) with ESMTP id 1817A459FA
	for <public@inbox.dpdk.org>; Sat, 28 Sep 2024 00:59:05 +0200 (CEST)
Received: from mails.dpdk.org (localhost [127.0.0.1])
	by mails.dpdk.org (Postfix) with ESMTP id 14B934025D;
	Sat, 28 Sep 2024 00:59:05 +0200 (CEST)
Received: from mail-pf1-f227.google.com (mail-pf1-f227.google.com
 [209.85.210.227])
 by mails.dpdk.org (Postfix) with ESMTP id 95A0140156
 for <test-report@dpdk.org>; Sat, 28 Sep 2024 00:59:03 +0200 (CEST)
Received: by mail-pf1-f227.google.com with SMTP id
 d2e1a72fcca58-71b20ffd809so1761137b3a.0
 for <test-report@dpdk.org>; Fri, 27 Sep 2024 15:59:03 -0700 (PDT)
DKIM-Signature: v=1; a=rsa-sha256; c=relaxed/relaxed;
 d=iol.unh.edu; s=unh-iol; t=1727477942; x=1728082742; darn=dpdk.org;
 h=references:in-reply-to:cc:to:from:subject:message-id:date:from:to
 :cc:subject:date:message-id:reply-to;
 bh=mD02fcdhNOpTF/+XMfNyueRdvk6nYhSbAqjrbzVNWBs=;
 b=T1dGsmq0Zk6FgfFBP25wC0O6M/feEh3scsWfJkkz+UvmZDMdijkPoQTtLmAmsINGI7
 ec8nRYRGUhowRVEc4xlKytOz9WdognysDa/3edpXbzXaJQKKb0gLE4ZIQ7eJ3XKWEVxF
 243oC7vNQhIOj3VuBBUSt3mZ984CMQhEv33tY=
X-Google-DKIM-Signature: v=1; a=rsa-sha256; c=relaxed/relaxed;
 d=1e100.net; s=20230601; t=1727477942; x=1728082742;
 h=references:in-reply-to:cc:to:from:subject:message-id:date
 :x-gm-message-state:from:to:cc:subject:date:message-id:reply-to;
 bh=mD02fcdhNOpTF/+XMfNyueRdvk6nYhSbAqjrbzVNWBs=;
 b=dwwFbAQlQ59ACo0xI7/jeGq8q8MTSTQXeHDYO+RiWrRIYvkh37rwh/8z5o+uJtImMB
 a15j/emGGdsX4HJ+EwJC6vZYhjTu024Wcpkd5JRmJmwoRKa/hQaqYMe0QkQJ832GNuAc
 fMa+iu5oRcf0gxo0WUtuSSf4eMaLxnKomEH5pIl8Xct9osvZZo+X33dpThdXMCdiK4jm
 OR3l8L4aL06VXxNSbRmK+t1MKJ/P1LT/Ln6Q4QVOzz9Ye7YWZoXAAqRADQCSeVag4nNa
 sgz67R8amqv9qJUQVgjXa97WNv9UARcPoBBQKEFcQ8dx6QzBvUYaYkZENG4KhsYl2WPB
 c8fA==
X-Gm-Message-State: AOJu0YxvhtDmt/XN5YJ5jDdPXK/UOl2SBDSY7WsrK3chQOM1ybpo9wXS
 dyoDMLAAMDHILvnLAa6ogRtl0+SWYkmLHpUYUmP0P5nHUexDEUbqwK+yQGXsSIf6Pvb/3L4Tn4t
 p7ukiqHuoy84ImMBMPUlkUc32/Faqgvq/zK/MeJGE
X-Google-Smtp-Source: AGHT+IEKAP4W1nISo1puLgeFRiAe4JZYVyLN/hcGT++FzSoKz6rreXFUikqE/jI1P5ITh8vqtVSujo9dSTzA
X-Received: by 2002:a05:6a21:3941:b0:1ce:dd2e:d875 with SMTP id
 adf61e73a8af0-1d4fa78a35emr7225216637.37.1727477942492; 
 Fri, 27 Sep 2024 15:59:02 -0700 (PDT)
Received: from postal.iol.unh.edu (postal.iol.unh.edu. [132.177.123.84])
 by smtp-relay.gmail.com with ESMTPS id
 d2e1a72fcca58-71b26495541sm169141b3a.1.2024.09.27.15.59.02
 (version=TLS1_2 cipher=ECDHE-ECDSA-AES128-GCM-SHA256 bits=128/128);
 Fri, 27 Sep 2024 15:59:02 -0700 (PDT)
X-Relaying-Domain: iol.unh.edu
Date: Fri, 27 Sep 2024 15:59:02 -0700 (PDT)
Message-ID: <66f738b6.050a0220.13036.c237SMTPIN_ADDED_MISSING@mx.google.com>
Received: from [172.17.0.4] (unknown [172.18.0.217])
 by postal.iol.unh.edu (Postfix) with ESMTP id 824C6605C351;
 Fri, 27 Sep 2024 18:59:01 -0400 (EDT)
Subject: |SUCCESS| pw144535-144550 [PATCH] [16/16] mempool: annotate mempool 
From: dpdklab@iol.unh.edu
To: Test Report <test-report@dpdk.org>
Cc: dpdk-test-reports@iol.unh.edu
In-Reply-To: <20240927204742.546164-17-stephen@networkplumber.org>
References: <20240927204742.546164-17-stephen@networkplumber.org>
Content-Type: text/plain
X-BeenThere: test-report@dpdk.org
X-Mailman-Version: 2.1.29
Precedence: list
List-Id: automatic DPDK test reports <test-report.dpdk.org>
List-Unsubscribe: <https://mails.dpdk.org/options/test-report>,
 <mailto:test-report-request@dpdk.org?subject=unsubscribe>
List-Archive: <http://mails.dpdk.org/archives/test-report/>
List-Post: <mailto:test-report@dpdk.org>
List-Help: <mailto:test-report-request@dpdk.org?subject=help>
List-Subscribe: <https://mails.dpdk.org/listinfo/test-report>,
 <mailto:test-report-request@dpdk.org?subject=subscribe>
Errors-To: test-report-bounces@dpdk.org

Test-Label: iol-sample-apps-testing
Test-Status: SUCCESS
http://dpdk.org/patch/144550

_Testing PASS_

Submitter: Stephen Hemminger <stephen@networkplumber.org>
Date: Friday, September 27 2024 20:45:52 
DPDK git baseline: Repo:dpdk
  Branch: master
  CommitID:41dd9a6bc2d9c6e20e139ad713cc9d172572dd43

144535-144550 --> testing pass

Upstream job id: Template-DTS-Pipeline#183767

Test environment and result as below:

+--------------------+----------------------+----------------------+
|    Environment     | dpdk_fips_validation | compressdev_zlib_pmd |
+====================+======================+======================+
| Ubuntu 20.04       | PASS                 | SKIPPED              |
+--------------------+----------------------+----------------------+
| Ubuntu 22.04 (ARM) | SKIPPED              | PASS                 |
+--------------------+----------------------+----------------------+
| Ubuntu 22.04       | SKIPPED              | PASS                 |
+--------------------+----------------------+----------------------+


Ubuntu 20.04
	Kernel: Depends on container host
	Compiler: gcc (Ubuntu 9.4.0-1ubuntu1~20.04.2) 9.4.0

Ubuntu 22.04 (ARM)
	Kernel: 5.15.0-97-generic
	Compiler: gcc gcc (Ubuntu 11.4.0-1ubuntu1~22.04) 11.4.0

Ubuntu 22.04
	Kernel: 5.15.0-100-generic
	Compiler: gcc gcc (Ubuntu 11.4.0-1ubuntu1~22.04) 11.4.0

To view detailed results, visit:
https://lab.dpdk.org/results/dashboard/patchsets/31161/

UNH-IOL DPDK Community Lab

To manage your email subscriptions, visit: 
https://lab.dpdk.org/results/dashboard/preferences/subscriptions/