From mboxrd@z Thu Jan  1 00:00:00 1970
Return-Path: <test-report-bounces@dpdk.org>
Received: from mails.dpdk.org (mails.dpdk.org [217.70.189.124])
	by inbox.dpdk.org (Postfix) with ESMTP id 08FED45A50
	for <public@inbox.dpdk.org>; Sat, 28 Sep 2024 19:44:53 +0200 (CEST)
Received: from mails.dpdk.org (localhost [127.0.0.1])
	by mails.dpdk.org (Postfix) with ESMTP id 047D84027A;
	Sat, 28 Sep 2024 19:44:53 +0200 (CEST)
Received: from mail-vs1-f99.google.com (mail-vs1-f99.google.com
 [209.85.217.99]) by mails.dpdk.org (Postfix) with ESMTP id CEB8E40273
 for <test-report@dpdk.org>; Sat, 28 Sep 2024 19:44:49 +0200 (CEST)
Received: by mail-vs1-f99.google.com with SMTP id
 ada2fe7eead31-4a3075662b6so825078137.1
 for <test-report@dpdk.org>; Sat, 28 Sep 2024 10:44:49 -0700 (PDT)
DKIM-Signature: v=1; a=rsa-sha256; c=relaxed/relaxed;
 d=iol.unh.edu; s=unh-iol; t=1727545489; x=1728150289; darn=dpdk.org;
 h=references:in-reply-to:cc:to:from:subject:message-id:date:from:to
 :cc:subject:date:message-id:reply-to;
 bh=rTT9OxY3HzYKvyMZyNerbVFiJf60uxPwJ9Qc7zsI+Q0=;
 b=XuhS4evsWfvj23jfjMg70xvytn+9veqQHMGkJD4M8gQZgnofS6KvBEbtN/W0zw0P4q
 M3vkqJ2JiMxKAW0GvAy1DB9wmGFtQ0Vb2JucR/8PnQwQHIGC87icBIy3xI5vWDVQHh03
 vPAphs5OuDOYmpghpeR7dspxDeHCZkRb263Y0=
X-Google-DKIM-Signature: v=1; a=rsa-sha256; c=relaxed/relaxed;
 d=1e100.net; s=20230601; t=1727545489; x=1728150289;
 h=references:in-reply-to:cc:to:from:subject:message-id:date
 :x-gm-message-state:from:to:cc:subject:date:message-id:reply-to;
 bh=rTT9OxY3HzYKvyMZyNerbVFiJf60uxPwJ9Qc7zsI+Q0=;
 b=FqZiTgnnp4vOWNGsNuqhXuUKvkXn++LxwIkAynCPyCgJJlF9tArNVnPWfYKcdZVZlC
 Mljs6zvR2JJBzvbLQMy0liL+0b78Ppyn4aXDHj+qYTq6lMlgZJOdGdfIxVq+6MYqjR0Y
 lcxj8GFhHZC0vP50glSWNpVnjtlJ2TzE1h+SJ3ZNj7oI5clWEq/UHdMO9PXxqqk4cQDT
 /GIVAAB4spD7UU2QJhfYE/8az2JCu+auBkJzL165sLA4AtxQJatUgqvrN13QcIYmyEFP
 nYZp+o+gsWbM5/f5xM+AmLg5LmW6r2pdEDkprg2nF2IcikegpVZOcMzstTvRf0AKyASI
 akhQ==
X-Gm-Message-State: AOJu0Yw6YqbwziyVGj3WGesrMQbJvXTvv4lEdV3qQWr5dKe8lHwRpFFP
 2vsEInZ+aHi3Mua14cixE1sckVFiaJp2KPuGjM+DDKycSq6tub0swis2ctNkEYxLa6lwof1DTt8
 bo2S2L5G8CoVaTzC2duXWSd6/NnBLpiXLNcTVhDwg
X-Google-Smtp-Source: AGHT+IGjw7oKFkdbFglmiQrj8afnsLTCuXLcc5svwr6MJAv1sFy7ZESZROK7kO/1Pjnrkn2qexwqSxZfb0BK
X-Received: by 2002:a05:6102:f07:b0:49b:d1d1:8f7d with SMTP id
 ada2fe7eead31-4a2e11518c4mr6977912137.26.1727545489125; 
 Sat, 28 Sep 2024 10:44:49 -0700 (PDT)
Received: from postal.iol.unh.edu (postal.iol.unh.edu. [132.177.123.84])
 by smtp-relay.gmail.com with ESMTPS id
 a1e0cc1a2514c-84eb220f02csm182588241.20.2024.09.28.10.44.49
 (version=TLS1_2 cipher=ECDHE-ECDSA-AES128-GCM-SHA256 bits=128/128);
 Sat, 28 Sep 2024 10:44:49 -0700 (PDT)
X-Relaying-Domain: iol.unh.edu
Date: Sat, 28 Sep 2024 10:44:49 -0700 (PDT)
Message-ID: <66f84091.b00a0220.e595a.dbbaSMTPIN_ADDED_MISSING@mx.google.com>
Received: from [172.21.0.3] (unknown [172.18.0.240])
 by postal.iol.unh.edu (Postfix) with ESMTP id BC84B605C351;
 Sat, 28 Sep 2024 13:44:48 -0400 (EDT)
Subject: |SUCCESS| pw144584-144591 [PATCH] [v9,8/8] test-pmd: add a JSON pack
From: dpdklab@iol.unh.edu
To: Test Report <test-report@dpdk.org>
Cc: dpdk-test-reports@iol.unh.edu
In-Reply-To: <20240928162035.849326-9-stephen@networkplumber.org>
References: <20240928162035.849326-9-stephen@networkplumber.org>
Content-Type: text/plain
X-BeenThere: test-report@dpdk.org
X-Mailman-Version: 2.1.29
Precedence: list
List-Id: automatic DPDK test reports <test-report.dpdk.org>
List-Unsubscribe: <https://mails.dpdk.org/options/test-report>,
 <mailto:test-report-request@dpdk.org?subject=unsubscribe>
List-Archive: <http://mails.dpdk.org/archives/test-report/>
List-Post: <mailto:test-report@dpdk.org>
List-Help: <mailto:test-report-request@dpdk.org?subject=help>
List-Subscribe: <https://mails.dpdk.org/listinfo/test-report>,
 <mailto:test-report-request@dpdk.org?subject=subscribe>
Errors-To: test-report-bounces@dpdk.org

Test-Label: iol-sample-apps-testing
Test-Status: SUCCESS
http://dpdk.org/patch/144591

_Testing PASS_

Submitter: Stephen Hemminger <stephen@networkplumber.org>
Date: Saturday, September 28 2024 16:18:38 
DPDK git baseline: Repo:dpdk
  Branch: master
  CommitID:41dd9a6bc2d9c6e20e139ad713cc9d172572dd43

144584-144591 --> testing pass

Upstream job id: Template-DTS-Pipeline#183878

Test environment and result as below:

+--------------------+----------------------+----------------------+
|    Environment     | dpdk_fips_validation | compressdev_zlib_pmd |
+====================+======================+======================+
| Ubuntu 20.04       | PASS                 | SKIPPED              |
+--------------------+----------------------+----------------------+
| Ubuntu 22.04 (ARM) | SKIPPED              | PASS                 |
+--------------------+----------------------+----------------------+
| Ubuntu 22.04       | SKIPPED              | PASS                 |
+--------------------+----------------------+----------------------+


Ubuntu 20.04
	Kernel: Depends on container host
	Compiler: gcc (Ubuntu 9.4.0-1ubuntu1~20.04.2) 9.4.0

Ubuntu 22.04 (ARM)
	Kernel: 5.15.0-97-generic
	Compiler: gcc gcc (Ubuntu 11.4.0-1ubuntu1~22.04) 11.4.0

Ubuntu 22.04
	Kernel: 5.15.0-100-generic
	Compiler: gcc gcc (Ubuntu 11.4.0-1ubuntu1~22.04) 11.4.0

To view detailed results, visit:
https://lab.dpdk.org/results/dashboard/patchsets/31167/

UNH-IOL DPDK Community Lab

To manage your email subscriptions, visit: 
https://lab.dpdk.org/results/dashboard/preferences/subscriptions/