From mboxrd@z Thu Jan  1 00:00:00 1970
Return-Path: <test-report-bounces@dpdk.org>
Received: from mails.dpdk.org (mails.dpdk.org [217.70.189.124])
	by inbox.dpdk.org (Postfix) with ESMTP id BE3E545A54
	for <public@inbox.dpdk.org>; Sun, 29 Sep 2024 07:36:40 +0200 (CEST)
Received: from mails.dpdk.org (localhost [127.0.0.1])
	by mails.dpdk.org (Postfix) with ESMTP id B979F40273;
	Sun, 29 Sep 2024 07:36:40 +0200 (CEST)
Received: from mail-oo1-f100.google.com (mail-oo1-f100.google.com
 [209.85.161.100])
 by mails.dpdk.org (Postfix) with ESMTP id 5693C400D5
 for <test-report@dpdk.org>; Sun, 29 Sep 2024 07:36:39 +0200 (CEST)
Received: by mail-oo1-f100.google.com with SMTP id
 006d021491bc7-5e77c6ed92bso1061949eaf.0
 for <test-report@dpdk.org>; Sat, 28 Sep 2024 22:36:39 -0700 (PDT)
DKIM-Signature: v=1; a=rsa-sha256; c=relaxed/relaxed;
 d=iol.unh.edu; s=unh-iol; t=1727588198; x=1728192998; darn=dpdk.org;
 h=cc:to:from:subject:message-id:date:from:to:cc:subject:date
 :message-id:reply-to;
 bh=ppFlASSR6NoDspTx7KBauQdqB4vAcXvz6fpQ2IDfiiE=;
 b=ctS71Ty4dtP8U0g25fMz4jmf8iP/jSKjXRnvsb8E/av+tkpP1W9EVnPK7z7Ams8kZI
 hTwOJKqNXNQohNzUAbER/Hh5dIJ58Rm2CiF4JN7R7Tnw9hIqsnJetGbAfk6ianqV+sAB
 0xl38F8OPAjynNm/3QR1Z3BtfC5491+eWHuwE=
X-Google-DKIM-Signature: v=1; a=rsa-sha256; c=relaxed/relaxed;
 d=1e100.net; s=20230601; t=1727588198; x=1728192998;
 h=cc:to:from:subject:message-id:date:x-gm-message-state:from:to:cc
 :subject:date:message-id:reply-to;
 bh=ppFlASSR6NoDspTx7KBauQdqB4vAcXvz6fpQ2IDfiiE=;
 b=wVpysF9Ls2v+1iJUPrc9mECTPequ+TTCO6m5C0fZz4KDZmNHaQxXg1D7ohJuPrNmtc
 NBN79k3L+LcEW1/rttWoQJaO2ZHjNccHQUjmMI2gPSB1jjfS8tBZLZXy2tsQi3RpkWpu
 JeLBTfZlBoZqym/CZYiFsa79py8wN3s7aH180pbFB2puvUePWMHAg3CgWCwfrPiXknYK
 NMQI7PkmaFLwYDLslvHCJYlsRgSbU6/Mcrtynd0ZQ0+Unzz8lJoFQ/tJoY9iK/H6duNb
 9JUOe+kEYgeESaJRUwIQ1dkLq/2FN/NjiGF/Hpfxh3lirvpS+y2lzx5jKopblpfWFfRy
 BovA==
X-Gm-Message-State: AOJu0YwnbaCvnRPBeSekRCsg9I82Xlxhf5gXrQWIVZh6uRkNRntzlFLu
 ooLEQW++EuFSGfD66evF0dT4YMhcnpxP7U2kqX7CPFyQGHPunbfLR0Qx0OiwpwQyJKAc7+HQYIs
 Re4s7TBe4r79UCwSzcSjzkCSbExhbsKljlzTOOyWPx23HzZdL
X-Google-Smtp-Source: AGHT+IEByu4QuNUAdtC7jdTcyHKJ5LyyLYM+ZiMCLH5ptQciES4wGG/cb74X6PUHdlrQRz5Co/yMQFsxIjkU
X-Received: by 2002:a05:6870:d893:b0:277:d3c7:f7a1 with SMTP id
 586e51a60fabf-28710bcfd49mr5394993fac.33.1727588198121; 
 Sat, 28 Sep 2024 22:36:38 -0700 (PDT)
Received: from postal.iol.unh.edu (postal.iol.unh.edu.
 [2606:4100:3880:1234::84]) by smtp-relay.gmail.com with ESMTPS id
 586e51a60fabf-2870f7e7c57sm257166fac.12.2024.09.28.22.36.38
 (version=TLS1_2 cipher=ECDHE-ECDSA-AES128-GCM-SHA256 bits=128/128);
 Sat, 28 Sep 2024 22:36:38 -0700 (PDT)
X-Relaying-Domain: iol.unh.edu
Date: Sat, 28 Sep 2024 22:36:38 -0700 (PDT)
Message-ID: <66f8e766.050a0220.2f645d.406dSMTPIN_ADDED_MISSING@mx.google.com>
Received: from [172.21.0.4] (unknown [172.18.0.240])
 by postal.iol.unh.edu (Postfix) with ESMTP id 59E6A605C351;
 Sun, 29 Sep 2024 01:36:37 -0400 (EDT)
Subject: |SUCCESS| [GIT MASTER] e8eb14e00d56027bef8569d68cf00e39670edca2
From: dpdklab@iol.unh.edu
To: Test Report <test-report@dpdk.org>
Cc: dpdk-test-reports@iol.unh.edu, Xueming Li <xuemingl@nvidia.com>,
 Christian Ehrhardt <christian.ehrhardt@canonical.com>,
 Kevin Traynor <ktraynor@redhat.com>, Luca Boccassi <bluca@debian.org>
Content-Type: text/plain
X-BeenThere: test-report@dpdk.org
X-Mailman-Version: 2.1.29
Precedence: list
List-Id: automatic DPDK test reports <test-report.dpdk.org>
List-Unsubscribe: <https://mails.dpdk.org/options/test-report>,
 <mailto:test-report-request@dpdk.org?subject=unsubscribe>
List-Archive: <http://mails.dpdk.org/archives/test-report/>
List-Post: <mailto:test-report@dpdk.org>
List-Help: <mailto:test-report-request@dpdk.org?subject=help>
List-Subscribe: <https://mails.dpdk.org/listinfo/test-report>,
 <mailto:test-report-request@dpdk.org?subject=subscribe>
Errors-To: test-report-bounces@dpdk.org

_Testing PASS_

Branch: tags/v23.11

e8eb14e00d56027bef8569d68cf00e39670edca2 --> testing pass

Upstream job id: Windows-Compile-DPDK-Native#22562

Test environment and result as below:

+---------------------+-----------------------+----------------------+--------------------+-------------------+
|     Environment     | dpdk_win_llvm_compile | dpdk_mingw64_compile | dpdk_meson_compile | dpdk_msvc_compile |
+=====================+=======================+======================+====================+===================+
| Windows Server 2022 | PASS                  | PASS                 | SKIPPED            | PASS              |
+---------------------+-----------------------+----------------------+--------------------+-------------------+
| FreeBSD 13.3        | SKIPPED               | SKIPPED              | PASS               | SKIPPED           |
+---------------------+-----------------------+----------------------+--------------------+-------------------+
| FreeBSD 14.1        | SKIPPED               | SKIPPED              | PASS               | SKIPPED           |
+---------------------+-----------------------+----------------------+--------------------+-------------------+


Windows Server 2022
	Kernel: 10.0.20348.2031
	Compiler: clang 15.0.7, gcc 14.1.0 (MinGW), and MSVC VS 19.39.33521

FreeBSD 13.3
	Kernel: 13.3-RELEASE-p5
	Compiler: clang 17.0.6

FreeBSD 14.1
	Kernel: 14.1-RELEASE-p3
	Compiler: clang 18.1.5

To view detailed results, visit:
https://lab.dpdk.org/results/dashboard/tarballs/30767/

UNH-IOL DPDK Community Lab

To manage your email subscriptions, visit: 
https://lab.dpdk.org/results/dashboard/preferences/subscriptions/