From mboxrd@z Thu Jan  1 00:00:00 1970
Return-Path: <test-report-bounces@dpdk.org>
Received: from mails.dpdk.org (mails.dpdk.org [217.70.189.124])
	by inbox.dpdk.org (Postfix) with ESMTP id 8AB1E45A5A
	for <public@inbox.dpdk.org>; Sun, 29 Sep 2024 10:18:26 +0200 (CEST)
Received: from mails.dpdk.org (localhost [127.0.0.1])
	by mails.dpdk.org (Postfix) with ESMTP id 54B134027C;
	Sun, 29 Sep 2024 10:18:26 +0200 (CEST)
Received: from mail-oo1-f100.google.com (mail-oo1-f100.google.com
 [209.85.161.100])
 by mails.dpdk.org (Postfix) with ESMTP id C562340273
 for <test-report@dpdk.org>; Sun, 29 Sep 2024 10:18:24 +0200 (CEST)
Received: by mail-oo1-f100.google.com with SMTP id
 006d021491bc7-5d5f24d9df8so1682484eaf.2
 for <test-report@dpdk.org>; Sun, 29 Sep 2024 01:18:24 -0700 (PDT)
DKIM-Signature: v=1; a=rsa-sha256; c=relaxed/relaxed;
 d=iol.unh.edu; s=unh-iol; t=1727597904; x=1728202704; darn=dpdk.org;
 h=cc:to:from:subject:message-id:date:from:to:cc:subject:date
 :message-id:reply-to;
 bh=RVOTdruqnVOu5YBoWsw4BHSOxwjDFBW1EKhHE80CzvQ=;
 b=TjqRkdgKlS+G62yEr7QagG9fktmx0C8GnJ7uRUImT0N8R5uLpizuPYReYw6r0GHK6Q
 Gv8P1LEiERGRba6WFiMfe1NL20BMeh8NxpHnsyNjMrM95wa1iJqyw24Wvz7QupWmrWJe
 RA5BW1vPZG+2sNjY4nDodXd+5fUCt7wM610xw=
X-Google-DKIM-Signature: v=1; a=rsa-sha256; c=relaxed/relaxed;
 d=1e100.net; s=20230601; t=1727597904; x=1728202704;
 h=cc:to:from:subject:message-id:date:x-gm-message-state:from:to:cc
 :subject:date:message-id:reply-to;
 bh=RVOTdruqnVOu5YBoWsw4BHSOxwjDFBW1EKhHE80CzvQ=;
 b=OuYOZtOvgpEREBUUg68IFrcDIfvYeCc5mt+s4IM0nIBN6yJRJ5EOiBfkKeziDX1T93
 0UBf+52Tl71zyVjolw7BSVRuqONF7PxRTW3amNVJ2yDBq0XWkCx7olrEDYy/ZiHc5VaL
 khDD4H1GpAWn04ZPV2jcjxaxBh0KpwCejbTbPkH7QwJjPzI02SExe+F4Zw/Xi+JMQp7g
 gv5xVx9BKoCqARfmhHy+y/jGXE/3RZUUi/RmrQRek6H9Dqi2XxYgAw5P3nziqyeyiay4
 rzzru2gUEXAtBe871dbCdSmEVADoXpZYJwEKeDRN5C+YivQmV87MT0m9hSCfu1xdwDn2
 fmrA==
X-Gm-Message-State: AOJu0YwNhZ+/L7CmAib15tFuoKSmc51xdJDonvD8X/R+C0iZHQX9KAi1
 YtLsctsKak1zRwtyBUj+LikRtH37Jz1l5z5jF7rGYqcPeqtmDZKP4nd/yNubEfR0W+bGNTNYexN
 IgXoPvbL3+UU0CsWTBpszJjP/lQj3n7rsO7CLfWgP1SPhQdSI
X-Google-Smtp-Source: AGHT+IGcalrx+CZLyn+ewGNDM13/uaxO3DnEWz2Qo82a4+tTTTQAHe8kUX06uj3vhxl6D0CzAhQbluyOxkUr
X-Received: by 2002:a05:6870:468a:b0:27b:5abb:7def with SMTP id
 586e51a60fabf-28710a59448mr5161776fac.20.1727597903841; 
 Sun, 29 Sep 2024 01:18:23 -0700 (PDT)
Received: from postal.iol.unh.edu (postal.iol.unh.edu.
 [2606:4100:3880:1234::84]) by smtp-relay.gmail.com with ESMTPS id
 586e51a60fabf-2870fa01516sm248540fac.43.2024.09.29.01.18.23
 (version=TLS1_2 cipher=ECDHE-ECDSA-AES128-GCM-SHA256 bits=128/128);
 Sun, 29 Sep 2024 01:18:23 -0700 (PDT)
X-Relaying-Domain: iol.unh.edu
Date: Sun, 29 Sep 2024 01:18:23 -0700 (PDT)
Message-ID: <66f90d4f.050a0220.ccc45.3f34SMTPIN_ADDED_MISSING@mx.google.com>
Received: from [172.17.0.3] (unknown [172.18.0.217])
 by postal.iol.unh.edu (Postfix) with ESMTP id 27A3E6050A6B;
 Sun, 29 Sep 2024 04:18:23 -0400 (EDT)
Subject: |SUCCESS| [GIT MASTER] e8eb14e00d56027bef8569d68cf00e39670edca2
From: dpdklab@iol.unh.edu
To: Test Report <test-report@dpdk.org>
Cc: dpdk-test-reports@iol.unh.edu, Xueming Li <xuemingl@nvidia.com>,
 Christian Ehrhardt <christian.ehrhardt@canonical.com>,
 Kevin Traynor <ktraynor@redhat.com>, Luca Boccassi <bluca@debian.org>
Content-Type: text/plain
X-BeenThere: test-report@dpdk.org
X-Mailman-Version: 2.1.29
Precedence: list
List-Id: automatic DPDK test reports <test-report.dpdk.org>
List-Unsubscribe: <https://mails.dpdk.org/options/test-report>,
 <mailto:test-report-request@dpdk.org?subject=unsubscribe>
List-Archive: <http://mails.dpdk.org/archives/test-report/>
List-Post: <mailto:test-report@dpdk.org>
List-Help: <mailto:test-report-request@dpdk.org?subject=help>
List-Subscribe: <https://mails.dpdk.org/listinfo/test-report>,
 <mailto:test-report-request@dpdk.org?subject=subscribe>
Errors-To: test-report-bounces@dpdk.org

_Testing PASS_

Branch: tags/v23.11

e8eb14e00d56027bef8569d68cf00e39670edca2 --> testing pass

Upstream job id: Generic-DPDK-Compile-Meson#306885

Test environment and result as below:

+---------------------+-----------------------+----------------------+--------------------+-------------------+------------------+-------------------+
|     Environment     | dpdk_win_llvm_compile | dpdk_mingw64_compile | dpdk_meson_compile | dpdk_msvc_compile | dpdk_compile_ovs | dpdk_compile_spdk |
+=====================+=======================+======================+====================+===================+==================+===================+
| Windows Server 2022 | PASS                  | PASS                 | SKIPPED            | PASS              | SKIPPED          | SKIPPED           |
+---------------------+-----------------------+----------------------+--------------------+-------------------+------------------+-------------------+
| FreeBSD 13.3        | SKIPPED               | SKIPPED              | PASS               | SKIPPED           | SKIPPED          | SKIPPED           |
+---------------------+-----------------------+----------------------+--------------------+-------------------+------------------+-------------------+
| FreeBSD 14.1        | SKIPPED               | SKIPPED              | PASS               | SKIPPED           | SKIPPED          | SKIPPED           |
+---------------------+-----------------------+----------------------+--------------------+-------------------+------------------+-------------------+
| Debian Bullseye     | SKIPPED               | SKIPPED              | PASS               | SKIPPED           | PASS             | PASS              |
+---------------------+-----------------------+----------------------+--------------------+-------------------+------------------+-------------------+
| Debian 12           | SKIPPED               | SKIPPED              | PASS               | SKIPPED           | PASS             | PASS              |
+---------------------+-----------------------+----------------------+--------------------+-------------------+------------------+-------------------+
| Fedora 37           | SKIPPED               | SKIPPED              | PASS               | SKIPPED           | PASS             | PASS              |
+---------------------+-----------------------+----------------------+--------------------+-------------------+------------------+-------------------+
| Fedora 38 (Clang)   | SKIPPED               | SKIPPED              | PASS               | SKIPPED           | PASS             | PASS              |
+---------------------+-----------------------+----------------------+--------------------+-------------------+------------------+-------------------+
| Fedora 38           | SKIPPED               | SKIPPED              | PASS               | SKIPPED           | PASS             | PASS              |
+---------------------+-----------------------+----------------------+--------------------+-------------------+------------------+-------------------+
| Fedora 39 (Clang)   | SKIPPED               | SKIPPED              | PASS               | SKIPPED           | PASS             | PASS              |
+---------------------+-----------------------+----------------------+--------------------+-------------------+------------------+-------------------+
| CentOS Stream 9     | SKIPPED               | SKIPPED              | PASS               | SKIPPED           | PASS             | PASS              |
+---------------------+-----------------------+----------------------+--------------------+-------------------+------------------+-------------------+
| Fedora 39           | SKIPPED               | SKIPPED              | PASS               | SKIPPED           | PASS             | PASS              |
+---------------------+-----------------------+----------------------+--------------------+-------------------+------------------+-------------------+
| Fedora 40 (Clang)   | SKIPPED               | SKIPPED              | PASS               | SKIPPED           | PASS             | PASS              |
+---------------------+-----------------------+----------------------+--------------------+-------------------+------------------+-------------------+
| Fedora 40           | SKIPPED               | SKIPPED              | PASS               | SKIPPED           | PASS             | PASS              |
+---------------------+-----------------------+----------------------+--------------------+-------------------+------------------+-------------------+
| openSUSE Leap 15    | SKIPPED               | SKIPPED              | PASS               | SKIPPED           | PASS             | SKIPPED           |
+---------------------+-----------------------+----------------------+--------------------+-------------------+------------------+-------------------+
| RHEL8               | SKIPPED               | SKIPPED              | PASS               | SKIPPED           | PASS             | SKIPPED           |
+---------------------+-----------------------+----------------------+--------------------+-------------------+------------------+-------------------+
| RHEL9               | SKIPPED               | SKIPPED              | PASS               | SKIPPED           | PASS             | SKIPPED           |
+---------------------+-----------------------+----------------------+--------------------+-------------------+------------------+-------------------+
| Ubuntu 20.04        | SKIPPED               | SKIPPED              | PASS               | SKIPPED           | PASS             | SKIPPED           |
+---------------------+-----------------------+----------------------+--------------------+-------------------+------------------+-------------------+
| Ubuntu 22.04        | SKIPPED               | SKIPPED              | PASS               | SKIPPED           | PASS             | PASS              |
+---------------------+-----------------------+----------------------+--------------------+-------------------+------------------+-------------------+
| Ubuntu 24.04        | SKIPPED               | SKIPPED              | PASS               | SKIPPED           | PASS             | PASS              |
+---------------------+-----------------------+----------------------+--------------------+-------------------+------------------+-------------------+
| Alpine              | SKIPPED               | SKIPPED              | PASS               | SKIPPED           | PASS             | SKIPPED           |
+---------------------+-----------------------+----------------------+--------------------+-------------------+------------------+-------------------+


Windows Server 2022
	Kernel: 10.0.20348.2031
	Compiler: clang 15.0.7, gcc 14.1.0 (MinGW), and MSVC VS 19.39.33521

FreeBSD 13.3
	Kernel: 13.3-RELEASE-p5
	Compiler: clang 17.0.6

FreeBSD 14.1
	Kernel: 14.1-RELEASE-p3
	Compiler: clang 18.1.5

Debian Bullseye
	Kernel: Depends on container host
	Compiler: gcc (Debian 10.2.1-6) 10.2.1 20210110

Debian 12
	Kernel: Depends on container host
	Compiler: gcc (Debian 12.2.0-14) 12.2.0

Fedora 37
	Kernel: Depends on container host system
	Compiler: gcc 12.3.1 20230508 (Red Hat 12.3.1-1)

Fedora 38 (Clang)
	Kernel: Depends on container host
	Compiler: clang 16.0.6 (Fedora 16.0.6-4.fc38)

Fedora 38
	Kernel: Depends on container host
	Compiler: gcc 13.2.1 20240316 (Red Hat 13.2.1-7)

Fedora 39 (Clang)
	Kernel: Depends on container host
	Compiler: clang 17.0.6 (Fedora 17.0.6-2.fc39)

CentOS Stream 9
	Kernel: Depends on container host
	Compiler: gcc 11.4.1 20231218 (Red Hat 11.4.1-3)

Fedora 39
	Kernel: Depends on container host
	Compiler: gcc 13.3.1 20240522 (Red Hat 13.3.1-1)

Fedora 40 (Clang)
	Kernel: Depends on container host
	Compiler: clang 18.1.6 (Fedora 18.1.6-3.fc40)

Fedora 40
	Kernel: Depends on container host
	Compiler: gcc 14.2.1 20240801 (Red Hat 14.2.1-1)

openSUSE Leap 15
	Kernel: Depends on container host
	Compiler: gcc (SUSE Linux) 7.5.0

RHEL8
	Kernel: Depends on container host
	Compiler: gcc 8.5.0 20210514 (Red Hat 8.5.0-22)

RHEL9
	Kernel: Depends on container host
	Compiler: gcc 11.4.1 20231218 (Red Hat 11.4.1-3)

Ubuntu 20.04
	Kernel: Depends on container host
	Compiler: gcc (Ubuntu 9.4.0-1ubuntu1~20.04.2) 9.4.0

Ubuntu 22.04
	Kernel: Depends on container host
	Compiler: gcc (Ubuntu 11.4.0-1ubuntu1~22.04) 11.4.0

Ubuntu 24.04
	Kernel: Depends on container host
	Compiler: gcc (Ubuntu 13.2.0-23ubuntu4) 13.2.0

Alpine
	Kernel: Depends on container host
	Compiler: gcc (Alpine 13.2.1_git20240309) 13.2.1 20240309

To view detailed results, visit:
https://lab.dpdk.org/results/dashboard/tarballs/30767/

UNH-IOL DPDK Community Lab

To manage your email subscriptions, visit: 
https://lab.dpdk.org/results/dashboard/preferences/subscriptions/