From mboxrd@z Thu Jan  1 00:00:00 1970
Return-Path: <test-report-bounces@dpdk.org>
Received: from mails.dpdk.org (mails.dpdk.org [217.70.189.124])
	by inbox.dpdk.org (Postfix) with ESMTP id C724D45A66
	for <public@inbox.dpdk.org>; Mon, 30 Sep 2024 11:13:44 +0200 (CEST)
Received: from mails.dpdk.org (localhost [127.0.0.1])
	by mails.dpdk.org (Postfix) with ESMTP id 9DECB40299;
	Mon, 30 Sep 2024 11:13:44 +0200 (CEST)
Received: from mail-ua1-f99.google.com (mail-ua1-f99.google.com
 [209.85.222.99]) by mails.dpdk.org (Postfix) with ESMTP id 985094027D
 for <test-report@dpdk.org>; Mon, 30 Sep 2024 11:13:43 +0200 (CEST)
Received: by mail-ua1-f99.google.com with SMTP id
 a1e0cc1a2514c-84eaa16442aso997794241.2
 for <test-report@dpdk.org>; Mon, 30 Sep 2024 02:13:43 -0700 (PDT)
DKIM-Signature: v=1; a=rsa-sha256; c=relaxed/relaxed;
 d=iol.unh.edu; s=unh-iol; t=1727687623; x=1728292423; darn=dpdk.org;
 h=cc:to:from:subject:message-id:date:from:to:cc:subject:date
 :message-id:reply-to;
 bh=hcM+XyeAZ9gzFuojjp0aCAXNyomv8I6pkABcR2W6Pfs=;
 b=JKmXhmIqiVaZVr7O4/kc1MOZJgcC32MnIopt/S/LVN7CMghy1OKyFgAob6JDa6K3WO
 5c0BpUlMBpfdFiLsFwbuf5k54kBvwQ35twnznnrbz2BmV+phd5kxpZ0SDaf6Ur9eaQ04
 rYUZnTGrkbO08wfITiquN2ZC9nvYd2jwPNE5A=
X-Google-DKIM-Signature: v=1; a=rsa-sha256; c=relaxed/relaxed;
 d=1e100.net; s=20230601; t=1727687623; x=1728292423;
 h=cc:to:from:subject:message-id:date:x-gm-message-state:from:to:cc
 :subject:date:message-id:reply-to;
 bh=hcM+XyeAZ9gzFuojjp0aCAXNyomv8I6pkABcR2W6Pfs=;
 b=CSUTgraUZFsaAU550Ny6/qxWe3dvjRDUjJem0/t9b0qIX/rZ4hfYQr7pyIFwP6kwHu
 IneuXDp/6a+L+I14cVse12VxqvoTncYvr6f0e6UuAhH56QfYHrSb2O46FlE6WS952z4g
 c2zGJR1cpUJAy4cUklD0yJRRrbnC+GdqBuldDq3Xv6FMV9+gBn7V5ecrRWWGqbTK7q5w
 d8sV7z5jsAKGI8zlqaa9pavtAPZ7pqbhMRnAwTaRuNGEDDrOu6x16uVruKyhkcvIMIjA
 6bBy+VU6ApgsDIr84YXf4lJdHyVKo1j5tiBdCBBDmPWbw0J7duthL2rITOdDhrT+OG5g
 wyaA==
X-Gm-Message-State: AOJu0YzpoCmG9e1QoUvwjyVWDzhKEwam4sqzQGMljThxlmgEIshxd3Uk
 ZaHk3mK0cBqD2JBQy0mvXsoCY63BxnYf+TUhhZNpQsWwjDFmCXu3wLgHsIPq9Edh2N5YW02mqMH
 m6tX3D+ifc05PikLlxL8zgAfZH9Sbh9AO+ZQSBzhdA8b6scHR
X-Google-Smtp-Source: AGHT+IEQT1VbK/c2zaLZiXBXwf2qLqo654qv9lLDC1XUpOrfYR7J7BC8HlvaZ+HBeVxvRnozQCBHLSV/i20n
X-Received: by 2002:a05:6102:a07:b0:4a3:a671:9f2e with SMTP id
 ada2fe7eead31-4a3a671aa24mr3576166137.14.1727687622793; 
 Mon, 30 Sep 2024 02:13:42 -0700 (PDT)
Received: from postal.iol.unh.edu (postal.iol.unh.edu.
 [2606:4100:3880:1234::84]) by smtp-relay.gmail.com with ESMTPS id
 a1e0cc1a2514c-84ef3256dccsm63210241.5.2024.09.30.02.13.42
 (version=TLS1_2 cipher=ECDHE-ECDSA-AES128-GCM-SHA256 bits=128/128);
 Mon, 30 Sep 2024 02:13:42 -0700 (PDT)
X-Relaying-Domain: iol.unh.edu
Date: Mon, 30 Sep 2024 02:13:42 -0700 (PDT)
Message-ID: <66fa6bc6.050a0220.1f06a8.4ca1SMTPIN_ADDED_MISSING@mx.google.com>
Received: from [172.21.0.2] (unknown [172.18.0.240])
 by postal.iol.unh.edu (Postfix) with ESMTP id 690866050A6B;
 Mon, 30 Sep 2024 05:13:42 -0400 (EDT)
Subject: |SUCCESS| [GIT MASTER] d20fd65f258afb5b572fe686b7d1032aeb95e079
From: dpdklab@iol.unh.edu
To: Test Report <test-report@dpdk.org>
Cc: dpdk-test-reports@iol.unh.edu, Xueming Li <xuemingl@nvidia.com>,
 Christian Ehrhardt <christian.ehrhardt@canonical.com>,
 Kevin Traynor <ktraynor@redhat.com>, Luca Boccassi <bluca@debian.org>
Content-Type: text/plain
X-BeenThere: test-report@dpdk.org
X-Mailman-Version: 2.1.29
Precedence: list
List-Id: automatic DPDK test reports <test-report.dpdk.org>
List-Unsubscribe: <https://mails.dpdk.org/options/test-report>,
 <mailto:test-report-request@dpdk.org?subject=unsubscribe>
List-Archive: <http://mails.dpdk.org/archives/test-report/>
List-Post: <mailto:test-report@dpdk.org>
List-Help: <mailto:test-report-request@dpdk.org?subject=help>
List-Subscribe: <https://mails.dpdk.org/listinfo/test-report>,
 <mailto:test-report-request@dpdk.org?subject=subscribe>
Errors-To: test-report-bounces@dpdk.org

_Testing PASS_

Branch: tags/v21.11

d20fd65f258afb5b572fe686b7d1032aeb95e079 --> testing pass

Upstream job id: Generic-DPDK-Compile-Meson#307204

Test environment and result as below:

+---------------------+-----------------------+----------------------+--------------------+
|     Environment     | dpdk_win_llvm_compile | dpdk_mingw64_compile | dpdk_meson_compile |
+=====================+=======================+======================+====================+
| Windows Server 2022 | PASS                  | PASS                 | SKIPPED            |
+---------------------+-----------------------+----------------------+--------------------+
| FreeBSD 13.3        | SKIPPED               | SKIPPED              | PASS               |
+---------------------+-----------------------+----------------------+--------------------+
| FreeBSD 14.1        | SKIPPED               | SKIPPED              | PASS               |
+---------------------+-----------------------+----------------------+--------------------+
| CentOS Stream 9     | SKIPPED               | SKIPPED              | PASS               |
+---------------------+-----------------------+----------------------+--------------------+
| Debian Bullseye     | SKIPPED               | SKIPPED              | PASS               |
+---------------------+-----------------------+----------------------+--------------------+
| Debian 12           | SKIPPED               | SKIPPED              | PASS               |
+---------------------+-----------------------+----------------------+--------------------+
| Fedora 37           | SKIPPED               | SKIPPED              | PASS               |
+---------------------+-----------------------+----------------------+--------------------+
| Fedora 38           | SKIPPED               | SKIPPED              | PASS               |
+---------------------+-----------------------+----------------------+--------------------+
| Fedora 39 (Clang)   | SKIPPED               | SKIPPED              | PASS               |
+---------------------+-----------------------+----------------------+--------------------+
| Fedora 39           | SKIPPED               | SKIPPED              | PASS               |
+---------------------+-----------------------+----------------------+--------------------+
| Fedora 40 (Clang)   | SKIPPED               | SKIPPED              | PASS               |
+---------------------+-----------------------+----------------------+--------------------+
| Fedora 40           | SKIPPED               | SKIPPED              | PASS               |
+---------------------+-----------------------+----------------------+--------------------+
| openSUSE Leap 15    | SKIPPED               | SKIPPED              | PASS               |
+---------------------+-----------------------+----------------------+--------------------+
| RHEL8               | SKIPPED               | SKIPPED              | PASS               |
+---------------------+-----------------------+----------------------+--------------------+
| RHEL9               | SKIPPED               | SKIPPED              | PASS               |
+---------------------+-----------------------+----------------------+--------------------+
| Ubuntu 20.04        | SKIPPED               | SKIPPED              | PASS               |
+---------------------+-----------------------+----------------------+--------------------+
| Ubuntu 22.04        | SKIPPED               | SKIPPED              | PASS               |
+---------------------+-----------------------+----------------------+--------------------+
| Ubuntu 24.04        | SKIPPED               | SKIPPED              | PASS               |
+---------------------+-----------------------+----------------------+--------------------+
| RHEL 7              | SKIPPED               | SKIPPED              | PASS               |
+---------------------+-----------------------+----------------------+--------------------+
| Fedora 38 (Clang)   | SKIPPED               | SKIPPED              | PASS               |
+---------------------+-----------------------+----------------------+--------------------+


Windows Server 2022
	Kernel: 10.0.20348.2031
	Compiler: clang 15.0.7, gcc 14.1.0 (MinGW), and MSVC VS 19.39.33521

FreeBSD 13.3
	Kernel: 13.3-RELEASE-p5
	Compiler: clang 17.0.6

FreeBSD 14.1
	Kernel: 14.1-RELEASE-p3
	Compiler: clang 18.1.5

CentOS Stream 9
	Kernel: Depends on container host
	Compiler: gcc 11.4.1 20231218 (Red Hat 11.4.1-3)

Debian Bullseye
	Kernel: Depends on container host
	Compiler: gcc (Debian 10.2.1-6) 10.2.1 20210110

Debian 12
	Kernel: Depends on container host
	Compiler: gcc (Debian 12.2.0-14) 12.2.0

Fedora 37
	Kernel: Depends on container host system
	Compiler: gcc 12.3.1 20230508 (Red Hat 12.3.1-1)

Fedora 38
	Kernel: Depends on container host
	Compiler: gcc 13.2.1 20240316 (Red Hat 13.2.1-7)

Fedora 39 (Clang)
	Kernel: Depends on container host
	Compiler: clang 17.0.6 (Fedora 17.0.6-2.fc39)

Fedora 39
	Kernel: Depends on container host
	Compiler: gcc 13.3.1 20240522 (Red Hat 13.3.1-1)

Fedora 40 (Clang)
	Kernel: Depends on container host
	Compiler: clang 18.1.6 (Fedora 18.1.6-3.fc40)

Fedora 40
	Kernel: Depends on container host
	Compiler: gcc 14.2.1 20240801 (Red Hat 14.2.1-1)

openSUSE Leap 15
	Kernel: Depends on container host
	Compiler: gcc (SUSE Linux) 7.5.0

RHEL8
	Kernel: Depends on container host
	Compiler: gcc 8.5.0 20210514 (Red Hat 8.5.0-22)

RHEL9
	Kernel: Depends on container host
	Compiler: gcc 11.4.1 20231218 (Red Hat 11.4.1-3)

Ubuntu 20.04
	Kernel: Depends on container host
	Compiler: gcc (Ubuntu 9.4.0-1ubuntu1~20.04.2) 9.4.0

Ubuntu 22.04
	Kernel: Depends on container host
	Compiler: gcc (Ubuntu 11.4.0-1ubuntu1~22.04) 11.4.0

Ubuntu 24.04
	Kernel: Depends on container host
	Compiler: gcc (Ubuntu 13.2.0-23ubuntu4) 13.2.0

RHEL 7
	Kernel: Depends on container host
	Compiler: gcc 4.8.5 20150623 (Red Hat 4.8.5-44)

Fedora 38 (Clang)
	Kernel: Depends on container host
	Compiler: clang 16.0.6 (Fedora 16.0.6-4.fc38)

To view detailed results, visit:
https://lab.dpdk.org/results/dashboard/tarballs/30776/

UNH-IOL DPDK Community Lab

To manage your email subscriptions, visit: 
https://lab.dpdk.org/results/dashboard/preferences/subscriptions/