From mboxrd@z Thu Jan  1 00:00:00 1970
Return-Path: <test-report-bounces@dpdk.org>
Received: from mails.dpdk.org (mails.dpdk.org [217.70.189.124])
	by inbox.dpdk.org (Postfix) with ESMTP id B4B9145A68
	for <public@inbox.dpdk.org>; Mon, 30 Sep 2024 16:42:32 +0200 (CEST)
Received: from mails.dpdk.org (localhost [127.0.0.1])
	by mails.dpdk.org (Postfix) with ESMTP id B1D0A4027C;
	Mon, 30 Sep 2024 16:42:32 +0200 (CEST)
Received: from mail-io1-f98.google.com (mail-io1-f98.google.com
 [209.85.166.98]) by mails.dpdk.org (Postfix) with ESMTP id 57E6C4014F
 for <test-report@dpdk.org>; Mon, 30 Sep 2024 16:42:31 +0200 (CEST)
Received: by mail-io1-f98.google.com with SMTP id
 ca18e2360f4ac-82cdb749598so267172739f.1
 for <test-report@dpdk.org>; Mon, 30 Sep 2024 07:42:31 -0700 (PDT)
DKIM-Signature: v=1; a=rsa-sha256; c=relaxed/relaxed;
 d=iol.unh.edu; s=unh-iol; t=1727707350; x=1728312150; darn=dpdk.org;
 h=references:in-reply-to:cc:to:from:subject:message-id:date:from:to
 :cc:subject:date:message-id:reply-to;
 bh=iVB5u1khzphEf5qvdCzgim88OCq1elyWSgjYqGZYckI=;
 b=DfVVscYIiIl9FJt3MX/CXXsiMH0ampolhDCd3hHnxnvtNfjPwku+PnKiOp5VZ6Y3wV
 4ph2o+lXXfHyuZS+l8UW6enkJBPmFcv7c2H/xfDhLqoT29dF7Pn/sWbDkL+tZtuwyqHT
 QYFiBEi6xCicjVjfvSgWXASOYrS7DggvNZjOA=
X-Google-DKIM-Signature: v=1; a=rsa-sha256; c=relaxed/relaxed;
 d=1e100.net; s=20230601; t=1727707350; x=1728312150;
 h=references:in-reply-to:cc:to:from:subject:message-id:date
 :x-gm-message-state:from:to:cc:subject:date:message-id:reply-to;
 bh=iVB5u1khzphEf5qvdCzgim88OCq1elyWSgjYqGZYckI=;
 b=PFF4Of/POwkWB/bqHbxkTzH7v26alhTd1qlTqQ0v15hrsTqHghOn3F8y++pefHr8nq
 hgRff8hYdGJzlgyHK9ajrQ0BfhL3s+CnhluMGPslkushpuJkFH+2WA32vFKE0trl+O10
 fsuWUyu1KMSl4iUbWbP4pUcT5TWvrckUIWqWzGOxn3RmPJZQ3HukZdRD9sTZDIssa3/b
 zT5IAAgRsALbsiHwSI6guKQopRG8ufYP02hmt5BjK6muU3Q9XJFP4WUyVcr7tfT1tkQV
 mpJV51j422hZeuZLE1XlVEFD7PE9j3nsRd+M2C5LGTED9IeGUpB7ytq+dHdvM1H9WKgG
 RAdA==
X-Gm-Message-State: AOJu0YynpKhG6wa+YfUP4RaYgrT/TALql1OkjYtad3rZMklgMDD6x98s
 5FAXBaDk0HpxUIpkYw2rPox2gIa7ML72AVcpkDwa2TmMJsXu6QVZXoEgz5TU3W03u93bodYZvGk
 uJLkBHiwz659jlQk34Im4pe+Tc3jzYVYe6jPQF4mPMZSlDb2jpqNl2JpO
X-Google-Smtp-Source: AGHT+IF51CThPiW5QtGYt3oGFzGUTNQNfQ7C+8Tx7g8n2yWtIHQiC6oQ2PypcJmWbNlTCKzxXgXDXwhFnrE9
X-Received: by 2002:a05:6602:13cf:b0:82c:f9f0:ff5d with SMTP id
 ca18e2360f4ac-8349324fc1dmr1153932239f.12.1727707350587; 
 Mon, 30 Sep 2024 07:42:30 -0700 (PDT)
Received: from postal.iol.unh.edu (postal.iol.unh.edu.
 [2606:4100:3880:1234::84]) by smtp-relay.gmail.com with ESMTPS id
 ca18e2360f4ac-834936df6e1sm10839739f.19.2024.09.30.07.42.30
 (version=TLS1_2 cipher=ECDHE-ECDSA-AES128-GCM-SHA256 bits=128/128);
 Mon, 30 Sep 2024 07:42:30 -0700 (PDT)
X-Relaying-Domain: iol.unh.edu
Date: Mon, 30 Sep 2024 07:42:30 -0700 (PDT)
Message-ID: <66fab8d6.050a0220.1e9c1a.7fc5SMTPIN_ADDED_MISSING@mx.google.com>
Received: from [172.21.0.3] (unknown [172.18.0.240])
 by postal.iol.unh.edu (Postfix) with ESMTP id 12A056050A6B;
 Mon, 30 Sep 2024 10:42:30 -0400 (EDT)
Subject: |SUCCESS| pw144646-144648 [PATCH] [v3,3/3] examples/ptpclient: add f
From: dpdklab@iol.unh.edu
To: Test Report <test-report@dpdk.org>
Cc: dpdk-test-reports@iol.unh.edu
In-Reply-To: <20240930084216.1174034-4-mingjinx.ye@intel.com>
References: <20240930084216.1174034-4-mingjinx.ye@intel.com>
Content-Type: text/plain
X-BeenThere: test-report@dpdk.org
X-Mailman-Version: 2.1.29
Precedence: list
List-Id: automatic DPDK test reports <test-report.dpdk.org>
List-Unsubscribe: <https://mails.dpdk.org/options/test-report>,
 <mailto:test-report-request@dpdk.org?subject=unsubscribe>
List-Archive: <http://mails.dpdk.org/archives/test-report/>
List-Post: <mailto:test-report@dpdk.org>
List-Help: <mailto:test-report-request@dpdk.org?subject=help>
List-Subscribe: <https://mails.dpdk.org/listinfo/test-report>,
 <mailto:test-report-request@dpdk.org?subject=subscribe>
Errors-To: test-report-bounces@dpdk.org

Test-Label: iol-compile-amd64-testing
Test-Status: SUCCESS
http://dpdk.org/patch/144648

_Testing PASS_

Submitter: Mingjin Ye <mingjinx.ye@intel.com>
Date: Monday, September 30 2024 08:42:16 
DPDK git baseline: Repo:dpdk
  Branch: master
  CommitID:bf0ff8df59c7e32f95c0b542cc4a7918f8a3da84

144646-144648 --> testing pass

Upstream job id: Generic-DPDK-Compile-Meson#307344

Test environment and result as below:

+---------------------+--------------------+-----------------------+-------------------+----------------------+------------------+-------------------+
|     Environment     | dpdk_meson_compile | dpdk_win_llvm_compile | dpdk_msvc_compile | dpdk_mingw64_compile | dpdk_compile_ovs | dpdk_compile_spdk |
+=====================+====================+=======================+===================+======================+==================+===================+
| FreeBSD 13.3        | PASS               | SKIPPED               | SKIPPED           | SKIPPED              | SKIPPED          | SKIPPED           |
+---------------------+--------------------+-----------------------+-------------------+----------------------+------------------+-------------------+
| FreeBSD 14.1        | PASS               | SKIPPED               | SKIPPED           | SKIPPED              | SKIPPED          | SKIPPED           |
+---------------------+--------------------+-----------------------+-------------------+----------------------+------------------+-------------------+
| CentOS Stream 9     | PASS               | SKIPPED               | SKIPPED           | SKIPPED              | PASS             | PASS              |
+---------------------+--------------------+-----------------------+-------------------+----------------------+------------------+-------------------+
| Debian Bullseye     | PASS               | SKIPPED               | SKIPPED           | SKIPPED              | PASS             | PASS              |
+---------------------+--------------------+-----------------------+-------------------+----------------------+------------------+-------------------+
| Debian 12           | PASS               | SKIPPED               | SKIPPED           | SKIPPED              | PASS             | PASS              |
+---------------------+--------------------+-----------------------+-------------------+----------------------+------------------+-------------------+
| Fedora 37           | PASS               | SKIPPED               | SKIPPED           | SKIPPED              | PASS             | PASS              |
+---------------------+--------------------+-----------------------+-------------------+----------------------+------------------+-------------------+
| Fedora 38 (Clang)   | PASS               | SKIPPED               | SKIPPED           | SKIPPED              | PASS             | PASS              |
+---------------------+--------------------+-----------------------+-------------------+----------------------+------------------+-------------------+
| Fedora 38           | PASS               | SKIPPED               | SKIPPED           | SKIPPED              | PASS             | PASS              |
+---------------------+--------------------+-----------------------+-------------------+----------------------+------------------+-------------------+
| Fedora 39 (Clang)   | PASS               | SKIPPED               | SKIPPED           | SKIPPED              | PASS             | PASS              |
+---------------------+--------------------+-----------------------+-------------------+----------------------+------------------+-------------------+
| Fedora 39           | PASS               | SKIPPED               | SKIPPED           | SKIPPED              | PASS             | PASS              |
+---------------------+--------------------+-----------------------+-------------------+----------------------+------------------+-------------------+
| Fedora 40 (Clang)   | PASS               | SKIPPED               | SKIPPED           | SKIPPED              | PASS             | PASS              |
+---------------------+--------------------+-----------------------+-------------------+----------------------+------------------+-------------------+
| Fedora 40           | PASS               | SKIPPED               | SKIPPED           | SKIPPED              | PASS             | PASS              |
+---------------------+--------------------+-----------------------+-------------------+----------------------+------------------+-------------------+
| openSUSE Leap 15    | PASS               | SKIPPED               | SKIPPED           | SKIPPED              | PASS             | SKIPPED           |
+---------------------+--------------------+-----------------------+-------------------+----------------------+------------------+-------------------+
| RHEL8               | PASS               | SKIPPED               | SKIPPED           | SKIPPED              | PASS             | SKIPPED           |
+---------------------+--------------------+-----------------------+-------------------+----------------------+------------------+-------------------+
| RHEL9               | PASS               | SKIPPED               | SKIPPED           | SKIPPED              | PASS             | SKIPPED           |
+---------------------+--------------------+-----------------------+-------------------+----------------------+------------------+-------------------+
| Ubuntu 20.04        | PASS               | SKIPPED               | SKIPPED           | SKIPPED              | PASS             | SKIPPED           |
+---------------------+--------------------+-----------------------+-------------------+----------------------+------------------+-------------------+
| Ubuntu 22.04        | PASS               | SKIPPED               | SKIPPED           | SKIPPED              | PASS             | PASS              |
+---------------------+--------------------+-----------------------+-------------------+----------------------+------------------+-------------------+
| Ubuntu 24.04        | PASS               | SKIPPED               | SKIPPED           | SKIPPED              | PASS             | PASS              |
+---------------------+--------------------+-----------------------+-------------------+----------------------+------------------+-------------------+
| Alpine              | PASS               | SKIPPED               | SKIPPED           | SKIPPED              | PASS             | SKIPPED           |
+---------------------+--------------------+-----------------------+-------------------+----------------------+------------------+-------------------+
| Windows Server 2022 | SKIPPED            | PASS                  | PASS              | PASS                 | SKIPPED          | SKIPPED           |
+---------------------+--------------------+-----------------------+-------------------+----------------------+------------------+-------------------+


FreeBSD 13.3
	Kernel: 13.3-RELEASE-p5
	Compiler: clang 17.0.6

FreeBSD 14.1
	Kernel: 14.1-RELEASE-p3
	Compiler: clang 18.1.5

CentOS Stream 9
	Kernel: Depends on container host
	Compiler: gcc 11.4.1 20231218 (Red Hat 11.4.1-3)

Debian Bullseye
	Kernel: Depends on container host
	Compiler: gcc (Debian 10.2.1-6) 10.2.1 20210110

Debian 12
	Kernel: Depends on container host
	Compiler: gcc (Debian 12.2.0-14) 12.2.0

Fedora 37
	Kernel: Depends on container host system
	Compiler: gcc 12.3.1 20230508 (Red Hat 12.3.1-1)

Fedora 38 (Clang)
	Kernel: Depends on container host
	Compiler: clang 16.0.6 (Fedora 16.0.6-4.fc38)

Fedora 38
	Kernel: Depends on container host
	Compiler: gcc 13.2.1 20240316 (Red Hat 13.2.1-7)

Fedora 39 (Clang)
	Kernel: Depends on container host
	Compiler: clang 17.0.6 (Fedora 17.0.6-2.fc39)

Fedora 39
	Kernel: Depends on container host
	Compiler: gcc 13.3.1 20240522 (Red Hat 13.3.1-1)

Fedora 40 (Clang)
	Kernel: Depends on container host
	Compiler: clang 18.1.6 (Fedora 18.1.6-3.fc40)

Fedora 40
	Kernel: Depends on container host
	Compiler: gcc 14.2.1 20240801 (Red Hat 14.2.1-1)

openSUSE Leap 15
	Kernel: Depends on container host
	Compiler: gcc (SUSE Linux) 7.5.0

RHEL8
	Kernel: Depends on container host
	Compiler: gcc 8.5.0 20210514 (Red Hat 8.5.0-22)

RHEL9
	Kernel: Depends on container host
	Compiler: gcc 11.4.1 20231218 (Red Hat 11.4.1-3)

Ubuntu 20.04
	Kernel: Depends on container host
	Compiler: gcc (Ubuntu 9.4.0-1ubuntu1~20.04.2) 9.4.0

Ubuntu 22.04
	Kernel: Depends on container host
	Compiler: gcc (Ubuntu 11.4.0-1ubuntu1~22.04) 11.4.0

Ubuntu 24.04
	Kernel: Depends on container host
	Compiler: gcc (Ubuntu 13.2.0-23ubuntu4) 13.2.0

Alpine
	Kernel: Depends on container host
	Compiler: gcc (Alpine 13.2.1_git20240309) 13.2.1 20240309

Windows Server 2022
	Kernel: 10.0.20348.2031
	Compiler: clang 15.0.7, gcc 14.1.0 (MinGW), and MSVC VS 19.39.33521

To view detailed results, visit:
https://lab.dpdk.org/results/dashboard/patchsets/31179/

UNH-IOL DPDK Community Lab

To manage your email subscriptions, visit: 
https://lab.dpdk.org/results/dashboard/preferences/subscriptions/