From mboxrd@z Thu Jan  1 00:00:00 1970
Return-Path: <test-report-bounces@dpdk.org>
Received: from mails.dpdk.org (mails.dpdk.org [217.70.189.124])
	by inbox.dpdk.org (Postfix) with ESMTP id B1BE045A73
	for <public@inbox.dpdk.org>; Tue,  1 Oct 2024 04:36:48 +0200 (CEST)
Received: from mails.dpdk.org (localhost [127.0.0.1])
	by mails.dpdk.org (Postfix) with ESMTP id 7E5E540268;
	Tue,  1 Oct 2024 04:36:48 +0200 (CEST)
Received: from mail-oi1-f228.google.com (mail-oi1-f228.google.com
 [209.85.167.228])
 by mails.dpdk.org (Postfix) with ESMTP id 66E3940267
 for <test-report@dpdk.org>; Tue,  1 Oct 2024 04:36:47 +0200 (CEST)
Received: by mail-oi1-f228.google.com with SMTP id
 5614622812f47-3e0719668e8so2233145b6e.0
 for <test-report@dpdk.org>; Mon, 30 Sep 2024 19:36:47 -0700 (PDT)
DKIM-Signature: v=1; a=rsa-sha256; c=relaxed/relaxed;
 d=iol.unh.edu; s=unh-iol; t=1727750206; x=1728355006; darn=dpdk.org;
 h=references:in-reply-to:cc:to:from:subject:message-id:date:from:to
 :cc:subject:date:message-id:reply-to;
 bh=83X1d7KTauLtNJy/oLaE3q4Ucrj6uO14s6mg4FwndYc=;
 b=fN1IPe0Hck6SWrtumJLcQTDz/0xlMpZ2TbJHPBRPFg6+f8iaHBXmpHOcWouBQB3sKf
 /Hy50WWPKMaH/Hpo+Uk+RPRzg+iP/+osdwgwySuOtqFs1a0NR+82T4/XFqghnFZlHZ52
 7B9KMAL/dRt1HmIPF8va+979USXP1bDBUuvi4=
X-Google-DKIM-Signature: v=1; a=rsa-sha256; c=relaxed/relaxed;
 d=1e100.net; s=20230601; t=1727750206; x=1728355006;
 h=references:in-reply-to:cc:to:from:subject:message-id:date
 :x-gm-message-state:from:to:cc:subject:date:message-id:reply-to;
 bh=83X1d7KTauLtNJy/oLaE3q4Ucrj6uO14s6mg4FwndYc=;
 b=ul1bRGNcgsUVTibUM518z70fdOf4H5vp66oF7R7l/zWdV3hmCaxZf81tjfjAmTdoYa
 /jIJWRKAGtHHsVHUNh54rcIRogxbU/klj5RtioEyfOm3OHrtokgYPReoGqNzpBrrS8j7
 Je52ZAUEtAZ9fL6804O8BXUsRoRJpeVQpnRfRT9ihyiKQxtbuhIizAZeIzoVnDjKIJa0
 Io+og88tmMbNfF8ukHH8IwLEy1SilaKkA5XT2l0z+/1oFVosuXC7+iPBtGiYKqhCKGHS
 H8Zv+GqNSrvQL9OvweeQ/7jBAwZGGMmMQTPf0djz5MbzAANqy19pGjqwuAMOhNC+OHK1
 BynQ==
X-Gm-Message-State: AOJu0YzZrpX/RwwgU1sYjkU/wdCa1BVl7LINkVbmTE1vBCaipGuCTwjZ
 k8e7NWKt05yLSi+ifPeA3FLrxRR+sKW3H76cUUt6vHzpuM9L1Q/cicm0/bgT0Uq28ir78oVVXyx
 RKFd8N2B1M9miSliZrm883V7bBRjTPia0sPmenwbXWtyKum3K9qyIcKUM
X-Google-Smtp-Source: AGHT+IHSR3kyFSdR/rOI2bKzUKm+BjTg6ozRYB4mJJdrCgCt2VlSkTLsnkygF6SvHq30/c3+a48eJQQPJ6c2
X-Received: by 2002:a05:6808:4486:b0:3e0:5189:bef1 with SMTP id
 5614622812f47-3e393984312mr9162186b6e.23.1727750206618; 
 Mon, 30 Sep 2024 19:36:46 -0700 (PDT)
Received: from postal.iol.unh.edu (postal.iol.unh.edu.
 [2606:4100:3880:1234::84]) by smtp-relay.gmail.com with ESMTPS id
 006d021491bc7-5e770da495csm200047eaf.1.2024.09.30.19.36.46
 (version=TLS1_2 cipher=ECDHE-ECDSA-AES128-GCM-SHA256 bits=128/128);
 Mon, 30 Sep 2024 19:36:46 -0700 (PDT)
X-Relaying-Domain: iol.unh.edu
Date: Mon, 30 Sep 2024 19:36:46 -0700 (PDT)
Message-ID: <66fb603e.4a0a0220.339535.e81aSMTPIN_ADDED_MISSING@mx.google.com>
Received: from [172.21.0.3] (unknown [172.18.0.240])
 by postal.iol.unh.edu (Postfix) with ESMTP id 6F40D605C380;
 Mon, 30 Sep 2024 22:36:45 -0400 (EDT)
Subject: |SUCCESS| pw144703 [PATCH] [v2] examples/flow_filtering: introduce u
From: dpdklab@iol.unh.edu
To: Test Report <test-report@dpdk.org>
Cc: dpdk-test-reports@iol.unh.edu
In-Reply-To: <20240930164015.541137-1-shperetz@nvidia.com>
References: <20240930164015.541137-1-shperetz@nvidia.com>
Content-Type: text/plain
X-BeenThere: test-report@dpdk.org
X-Mailman-Version: 2.1.29
Precedence: list
List-Id: automatic DPDK test reports <test-report.dpdk.org>
List-Unsubscribe: <https://mails.dpdk.org/options/test-report>,
 <mailto:test-report-request@dpdk.org?subject=unsubscribe>
List-Archive: <http://mails.dpdk.org/archives/test-report/>
List-Post: <mailto:test-report@dpdk.org>
List-Help: <mailto:test-report-request@dpdk.org?subject=help>
List-Subscribe: <https://mails.dpdk.org/listinfo/test-report>,
 <mailto:test-report-request@dpdk.org?subject=subscribe>
Errors-To: test-report-bounces@dpdk.org

Test-Label: iol-unit-arm64-testing
Test-Status: SUCCESS
http://dpdk.org/patch/144703

_Testing PASS_

Submitter: Shani Peretz <shperetz@nvidia.com>
Date: Monday, September 30 2024 16:40:15 
DPDK git baseline: Repo:dpdk
  Branch: master
  CommitID:bf0ff8df59c7e32f95c0b542cc4a7918f8a3da84

144703 --> testing pass

Upstream job id: Generic-Unit-Test-DPDK#268199

Test environment and result as below:

+-----------------------------+----------------+--------------+---------------------------+------------------------------+
|         Environment         | dpdk_unit_test | lpm_autotest | cryptodev_sw_zuc_autotest | cryptodev_sw_snow3g_autotest |
+=============================+================+==============+===========================+==============================+
| CentOS Stream 9 (ARM)       | PASS           | SKIPPED      | SKIPPED                   | SKIPPED                      |
+-----------------------------+----------------+--------------+---------------------------+------------------------------+
| Debian 11 (Buster) (ARM)    | PASS           | SKIPPED      | SKIPPED                   | SKIPPED                      |
+-----------------------------+----------------+--------------+---------------------------+------------------------------+
| Fedora 37 (ARM)             | PASS           | SKIPPED      | SKIPPED                   | SKIPPED                      |
+-----------------------------+----------------+--------------+---------------------------+------------------------------+
| Debian 12 (arm)             | PASS           | SKIPPED      | PASS                      | PASS                         |
+-----------------------------+----------------+--------------+---------------------------+------------------------------+
| Fedora 38 (ARM)             | PASS           | SKIPPED      | SKIPPED                   | SKIPPED                      |
+-----------------------------+----------------+--------------+---------------------------+------------------------------+
| Fedora 38 (ARM Clang)       | PASS           | SKIPPED      | SKIPPED                   | SKIPPED                      |
+-----------------------------+----------------+--------------+---------------------------+------------------------------+
| Fedora 39 (ARM)             | PASS           | SKIPPED      | SKIPPED                   | SKIPPED                      |
+-----------------------------+----------------+--------------+---------------------------+------------------------------+
| Fedora 39 (ARM Clang)       | PASS           | SKIPPED      | SKIPPED                   | SKIPPED                      |
+-----------------------------+----------------+--------------+---------------------------+------------------------------+
| Fedora 40 (ARM)             | PASS           | SKIPPED      | SKIPPED                   | SKIPPED                      |
+-----------------------------+----------------+--------------+---------------------------+------------------------------+
| Fedora 40 (ARM Clang)       | PASS           | SKIPPED      | SKIPPED                   | SKIPPED                      |
+-----------------------------+----------------+--------------+---------------------------+------------------------------+
| RHEL9 (ARM)                 | PASS           | SKIPPED      | SKIPPED                   | SKIPPED                      |
+-----------------------------+----------------+--------------+---------------------------+------------------------------+
| Ubuntu 20.04 (ARM)          | PASS           | SKIPPED      | SKIPPED                   | SKIPPED                      |
+-----------------------------+----------------+--------------+---------------------------+------------------------------+
| Ubuntu 22.04 (ARM)          | PASS           | SKIPPED      | SKIPPED                   | SKIPPED                      |
+-----------------------------+----------------+--------------+---------------------------+------------------------------+
| Ubuntu 24.04 (ARM)          | PASS           | SKIPPED      | SKIPPED                   | SKIPPED                      |
+-----------------------------+----------------+--------------+---------------------------+------------------------------+
| 32-bit Ubuntu 20.04.4 (ARM) | PASS           | SKIPPED      | SKIPPED                   | SKIPPED                      |
+-----------------------------+----------------+--------------+---------------------------+------------------------------+
| Ubuntu 20.04 ARM SVE        | SKIPPED        | PASS         | SKIPPED                   | SKIPPED                      |
+-----------------------------+----------------+--------------+---------------------------+------------------------------+


CentOS Stream 9 (ARM)
	Kernel: Depends on container host
	Compiler: gcc 11.4.1 20231218 (Red Hat 11.4.1-3)

Debian 11 (Buster) (ARM)
	Kernel: Depends on container host
	Compiler: gcc (Debian 10.2.1-6) 10.2.1 20210110

Fedora 37 (ARM)
	Kernel: Depends on container host
	Compiler: gcc 12.3.1 20230508 (Red Hat 12.3.1-1)

Debian 12 (arm)
	Kernel: Depends on container host
	Compiler: gcc (Debian 12.2.0-14) 12.2.0

Fedora 38 (ARM)
	Kernel: Depends on container host
	Compiler: gcc 13.2.1 20240316 (Red Hat 13.2.1-7)

Fedora 38 (ARM Clang)
	Kernel: Depends on container host
	Compiler: clang 16.0.6 (Fedora 16.0.6-4.fc38)

Fedora 39 (ARM)
	Kernel: Depends on container host
	Compiler: gcc 13.3.1 20240522 (Red Hat 13.3.1-1)

Fedora 39 (ARM Clang)
	Kernel: Depends on container host
	Compiler: clang 17.0.6 (Fedora 17.0.6-2.fc39)

Fedora 40 (ARM)
	Kernel: Depends on container host
	Compiler: gcc 14.2.1 20240801 (Red Hat 14.2.1-1)

Fedora 40 (ARM Clang)
	Kernel: Depends on container host
	Compiler: clang 18.1.6 (Fedora 18.1.6-3.fc40)

RHEL9 (ARM)
	Kernel: Depends on container host
	Compiler: gcc 11.4.1 20231218 (Red Hat 11.4.1-3)

Ubuntu 20.04 (ARM)
	Kernel: Depends on container host
	Compiler: gcc (Ubuntu 9.4.0-1ubuntu1~20.04.2) 9.4.0

Ubuntu 22.04 (ARM)
	Kernel: Depends on container host
	Compiler: gcc (Ubuntu 11.4.0-1ubuntu1~22.04) 11.4.0

Ubuntu 24.04 (ARM)
	Kernel: Depends on container host
	Compiler: gcc (Ubuntu 13.2.0-23ubuntu4) 13.2.0

32-bit Ubuntu 20.04.4 (ARM)
	Kernel: 5.4.0-155-generic aarch64
	Compiler: gcc 9.4

Ubuntu 20.04 ARM SVE
	Kernel: Depends on container host
	Compiler: gcc (Ubuntu 10.5.0-1ubuntu1~20.04) 10.5.0

To view detailed results, visit:
https://lab.dpdk.org/results/dashboard/patchsets/31190/

UNH-IOL DPDK Community Lab

To manage your email subscriptions, visit: 
https://lab.dpdk.org/results/dashboard/preferences/subscriptions/