From mboxrd@z Thu Jan  1 00:00:00 1970
Return-Path: <test-report-bounces@dpdk.org>
Received: from mails.dpdk.org (mails.dpdk.org [217.70.189.124])
	by inbox.dpdk.org (Postfix) with ESMTP id 7046E45A7E
	for <public@inbox.dpdk.org>; Tue,  1 Oct 2024 19:55:34 +0200 (CEST)
Received: from mails.dpdk.org (localhost [127.0.0.1])
	by mails.dpdk.org (Postfix) with ESMTP id 56E334027C;
	Tue,  1 Oct 2024 19:55:34 +0200 (CEST)
Received: from mail-qv1-f97.google.com (mail-qv1-f97.google.com
 [209.85.219.97]) by mails.dpdk.org (Postfix) with ESMTP id 5237E40273
 for <test-report@dpdk.org>; Tue,  1 Oct 2024 19:55:33 +0200 (CEST)
Received: by mail-qv1-f97.google.com with SMTP id
 6a1803df08f44-6cb321145easo534656d6.1
 for <test-report@dpdk.org>; Tue, 01 Oct 2024 10:55:33 -0700 (PDT)
DKIM-Signature: v=1; a=rsa-sha256; c=relaxed/relaxed;
 d=iol.unh.edu; s=unh-iol; t=1727805332; x=1728410132; darn=dpdk.org;
 h=references:in-reply-to:cc:to:from:subject:message-id:date:from:to
 :cc:subject:date:message-id:reply-to;
 bh=aNcvUysNZi1qUis8CR9D/AZ7Kbf+BthfHZBkHsQaiJY=;
 b=FEuxnFm5CnlS92R75SBmMAfzvnVaUdDRujtmIgDy5m+xb//VCdzV0NEoTWy3GVW89d
 xwoxGVkR9WUvNxSOEt5SGyq+gR0ocHiZ/RZrbz+pjv3/Gqazx08gXE/Chx3asUdeCA6Y
 47UudXGVK73111W+9YFvFLwFrYkRZYE1m99m8=
X-Google-DKIM-Signature: v=1; a=rsa-sha256; c=relaxed/relaxed;
 d=1e100.net; s=20230601; t=1727805332; x=1728410132;
 h=references:in-reply-to:cc:to:from:subject:message-id:date
 :x-gm-message-state:from:to:cc:subject:date:message-id:reply-to;
 bh=aNcvUysNZi1qUis8CR9D/AZ7Kbf+BthfHZBkHsQaiJY=;
 b=bfmdkEG+Dhmly8VkkGJGb0x51olkOihW3b1LgS8aXe1rurJJY3Ih33I/vwOobpM4Mt
 LmzhzOxZDhUrk7wb/PxeBNIlMHzu513msbhFruVVZbcCtugxrbM9r5wuzg+R5T2/Y5Ob
 3i/TeaaEfbQjUlee0TK0hg4AQ3XkTUOhqWAKgtJ6kVsvmf/M8kRJH4fg8/g8DXji47lm
 4xATWpPyWgZD9bBY9ojRrEGjCkgPbyArIFvpEvKzTL6nXHREwI0f/boq+qz5T4jGQwtt
 7vpowZdUVx2HlUiSypJ0D4dEGwNlfPLCvPK+jhAHALTP6YSZhLgIDrdPgPD3Hhw3Dfd+
 zsYA==
X-Gm-Message-State: AOJu0YyNZWKm0k8IQYFQrr/ffpNFLFAURqhByTifwj6lCqn+XXcRPISZ
 joLb4A56aqsihWKkw5iaZw83ldc5uFNohP7tG1Lxp3fcraZSryP6ssBE46NbzjQqVcRoBhQFObJ
 Y99YcgjSw6BgpShKkMFzbudhQVOihquqwLtSvUriU
X-Google-Smtp-Source: AGHT+IG8OCa/TiXpy4Wi1Fq5BUlxesf1w2IrsWPCrCF+KM4V08oxeDgtdPL1RSlTbPKLbwmyKltGm5CzCYkg
X-Received: by 2002:a05:6214:ca1:b0:6cb:55e4:54d5 with SMTP id
 6a1803df08f44-6cb7299362amr75870236d6.10.1727805332687; 
 Tue, 01 Oct 2024 10:55:32 -0700 (PDT)
Received: from postal.iol.unh.edu (postal.iol.unh.edu. [132.177.123.84])
 by smtp-relay.gmail.com with ESMTPS id
 6a1803df08f44-6cb3b68307bsm3039986d6.50.2024.10.01.10.55.32
 (version=TLS1_2 cipher=ECDHE-ECDSA-AES128-GCM-SHA256 bits=128/128);
 Tue, 01 Oct 2024 10:55:32 -0700 (PDT)
X-Relaying-Domain: iol.unh.edu
Date: Tue, 01 Oct 2024 10:55:32 -0700 (PDT)
Message-ID: <66fc3794.d40a0220.3cb3ad.7420SMTPIN_ADDED_MISSING@mx.google.com>
Received: from [172.17.0.4] (unknown [172.18.0.217])
 by postal.iol.unh.edu (Postfix) with ESMTP id 62757605C351;
 Tue,  1 Oct 2024 13:55:32 -0400 (EDT)
Subject: |SUCCESS| pw144807 [PATCH] [v3,1/1] net/octeon_ep: add device remova
From: dpdklab@iol.unh.edu
To: Test Report <test-report@dpdk.org>
Cc: dpdk-test-reports@iol.unh.edu
In-Reply-To: <20241001083837.1308452-1-vattunuru@marvell.com>
References: <20241001083837.1308452-1-vattunuru@marvell.com>
Content-Type: text/plain
X-BeenThere: test-report@dpdk.org
X-Mailman-Version: 2.1.29
Precedence: list
List-Id: automatic DPDK test reports <test-report.dpdk.org>
List-Unsubscribe: <https://mails.dpdk.org/options/test-report>,
 <mailto:test-report-request@dpdk.org?subject=unsubscribe>
List-Archive: <http://mails.dpdk.org/archives/test-report/>
List-Post: <mailto:test-report@dpdk.org>
List-Help: <mailto:test-report-request@dpdk.org?subject=help>
List-Subscribe: <https://mails.dpdk.org/listinfo/test-report>,
 <mailto:test-report-request@dpdk.org?subject=subscribe>
Errors-To: test-report-bounces@dpdk.org

Test-Label: iol-unit-amd64-testing
Test-Status: SUCCESS
http://dpdk.org/patch/144807

_Testing PASS_

Submitter: Vamsi Krishna <vattunuru@marvell.com>
Date: Tuesday, October 01 2024 08:38:37 
DPDK git baseline: Repo:dpdk
  Branch: master
  CommitID:ae03728dd31175d055f7df4e141f9944eccf9444

144807 --> testing pass

Upstream job id: Generic-Unit-Test-DPDK#268666

Test environment and result as below:

+---------------------+----------------+
|     Environment     | dpdk_unit_test |
+=====================+================+
| Windows Server 2022 | PASS           |
+---------------------+----------------+
| CentOS Stream 9     | PASS           |
+---------------------+----------------+
| Debian Bullseye     | PASS           |
+---------------------+----------------+
| Fedora 37           | PASS           |
+---------------------+----------------+
| Debian 12           | PASS           |
+---------------------+----------------+
| Fedora 38           | PASS           |
+---------------------+----------------+
| Fedora 39 (Clang)   | PASS           |
+---------------------+----------------+
| Fedora 38 (Clang)   | PASS           |
+---------------------+----------------+
| Fedora 39           | PASS           |
+---------------------+----------------+
| Fedora 40           | PASS           |
+---------------------+----------------+
| Fedora 40 (Clang)   | PASS           |
+---------------------+----------------+
| RHEL8               | PASS           |
+---------------------+----------------+
| RHEL9               | PASS           |
+---------------------+----------------+
| Ubuntu 22.04        | PASS           |
+---------------------+----------------+
| Ubuntu 20.04        | PASS           |
+---------------------+----------------+
| Ubuntu 24.04        | PASS           |
+---------------------+----------------+


Windows Server 2022
	Kernel: 10.0.20348.2031
	Compiler: clang 15.0.7, gcc 14.1.0 (MinGW), and MSVC VS 19.39.33521

CentOS Stream 9
	Kernel: Depends on container host
	Compiler: gcc 11.4.1 20231218 (Red Hat 11.4.1-3)

Debian Bullseye
	Kernel: Depends on container host
	Compiler: gcc (Debian 10.2.1-6) 10.2.1 20210110

Fedora 37
	Kernel: Depends on container host system
	Compiler: gcc 12.3.1 20230508 (Red Hat 12.3.1-1)

Debian 12
	Kernel: Depends on container host
	Compiler: gcc (Debian 12.2.0-14) 12.2.0

Fedora 38
	Kernel: Depends on container host
	Compiler: gcc 13.2.1 20240316 (Red Hat 13.2.1-7)

Fedora 39 (Clang)
	Kernel: Depends on container host
	Compiler: clang 17.0.6 (Fedora 17.0.6-2.fc39)

Fedora 38 (Clang)
	Kernel: Depends on container host
	Compiler: clang 16.0.6 (Fedora 16.0.6-4.fc38)

Fedora 39
	Kernel: Depends on container host
	Compiler: gcc 13.3.1 20240522 (Red Hat 13.3.1-1)

Fedora 40
	Kernel: Depends on container host
	Compiler: gcc 14.2.1 20240801 (Red Hat 14.2.1-1)

Fedora 40 (Clang)
	Kernel: Depends on container host
	Compiler: clang 18.1.6 (Fedora 18.1.6-3.fc40)

RHEL8
	Kernel: Depends on container host
	Compiler: gcc 8.5.0 20210514 (Red Hat 8.5.0-22)

RHEL9
	Kernel: Depends on container host
	Compiler: gcc 11.4.1 20231218 (Red Hat 11.4.1-3)

Ubuntu 22.04
	Kernel: Depends on container host
	Compiler: gcc (Ubuntu 11.4.0-1ubuntu1~22.04) 11.4.0

Ubuntu 20.04
	Kernel: Depends on container host
	Compiler: gcc (Ubuntu 9.4.0-1ubuntu1~20.04.2) 9.4.0

Ubuntu 24.04
	Kernel: Depends on container host
	Compiler: gcc (Ubuntu 13.2.0-23ubuntu4) 13.2.0

To view detailed results, visit:
https://lab.dpdk.org/results/dashboard/patchsets/31200/

UNH-IOL DPDK Community Lab

To manage your email subscriptions, visit: 
https://lab.dpdk.org/results/dashboard/preferences/subscriptions/