From mboxrd@z Thu Jan  1 00:00:00 1970
Return-Path: <test-report-bounces@dpdk.org>
Received: from mails.dpdk.org (mails.dpdk.org [217.70.189.124])
	by inbox.dpdk.org (Postfix) with ESMTP id 9C53745A7F
	for <public@inbox.dpdk.org>; Tue,  1 Oct 2024 20:31:59 +0200 (CEST)
Received: from mails.dpdk.org (localhost [127.0.0.1])
	by mails.dpdk.org (Postfix) with ESMTP id 985A84027C;
	Tue,  1 Oct 2024 20:31:59 +0200 (CEST)
Received: from mail-qv1-f97.google.com (mail-qv1-f97.google.com
 [209.85.219.97]) by mails.dpdk.org (Postfix) with ESMTP id 7CE9440273
 for <test-report@dpdk.org>; Tue,  1 Oct 2024 20:31:58 +0200 (CEST)
Received: by mail-qv1-f97.google.com with SMTP id
 6a1803df08f44-6cb321145easo849186d6.1
 for <test-report@dpdk.org>; Tue, 01 Oct 2024 11:31:58 -0700 (PDT)
DKIM-Signature: v=1; a=rsa-sha256; c=relaxed/relaxed;
 d=iol.unh.edu; s=unh-iol; t=1727807518; x=1728412318; darn=dpdk.org;
 h=references:in-reply-to:cc:to:from:subject:message-id:date:from:to
 :cc:subject:date:message-id:reply-to;
 bh=Ng95gd/5OE3nmH5Zyxni8XfiP6j0NrEK+bkEF56tuKI=;
 b=eKBjBvZD0d1LXezS1ocBAaDckiqhpO3epmtScElbrR0aOxdv9zdf3RJrKxXPtJHlBy
 FcsYdiAryKHTpR1P5iHqSW4++xBBg0Q8ah/6jjJUS4JZSw9s8tYXwCKA0h3DUqSLFMmL
 WVnH3Izem9Q1cXD4ocva/R8YExyDgTZAFh2Ss=
X-Google-DKIM-Signature: v=1; a=rsa-sha256; c=relaxed/relaxed;
 d=1e100.net; s=20230601; t=1727807518; x=1728412318;
 h=references:in-reply-to:cc:to:from:subject:message-id:date
 :x-gm-message-state:from:to:cc:subject:date:message-id:reply-to;
 bh=Ng95gd/5OE3nmH5Zyxni8XfiP6j0NrEK+bkEF56tuKI=;
 b=I+/YVQw0fDMuPoRUBX82y26ofP8ZZb7IMSjICQHD9ZvHhYYXR2JMbJkATB0KtEm0tb
 kSmfjZ9lQxcVih+D8WBgc3pK3hdT/mn3awyPS66hSZMHhszkqImYXTOcVsHGdME0DZV2
 gtlq7vdAyjT7W22Y3lGGWKyLaEIqugBgdGwFLdBRNbtcqPTO5458hNzuV/xrnM0UktRN
 uW9ukCvbx12Gh2eef1pwBH6cRufhpyjRJp4TFxzluv+j0msim/A6cBVK09AOlDqP+lCR
 OywerAw0env4Hia4IAePtBRPzNeT9LmARaXF+pU5ErdgIWsZCj9Nf21y3DRoUWeZuR0i
 azxQ==
X-Gm-Message-State: AOJu0Yw9YuGeJPlRPp7sVOop/tke57jUSFFfqpagEWD03Evgw2JRwE09
 uOMQ3HttoAfgn1Hkz2W0M/4Ay5zDMvSgjAHigUhgi004gPrP2CdDCZx7+yQIpe8px7mGKghyWgy
 4vaWVu9l0g8ZtwD+NlWKVorHLUSE5AYeQUo5WQ/nLx92eNprnxMXcnz2L
X-Google-Smtp-Source: AGHT+IEoNAOcDX3EJPS1IKX9SkxFsu9Q3z+cAtgwF0Y6w6AGrTtStVrY/qCd6nlafYwAtFZUHhuv7f+w9vwi
X-Received: by 2002:a05:6214:5018:b0:6cb:42f6:674a with SMTP id
 6a1803df08f44-6cb729edab3mr72145266d6.18.1727807517841; 
 Tue, 01 Oct 2024 11:31:57 -0700 (PDT)
Received: from postal.iol.unh.edu (postal.iol.unh.edu.
 [2606:4100:3880:1234::84]) by smtp-relay.gmail.com with ESMTPS id
 6a1803df08f44-6cb3b606a10sm3205306d6.5.2024.10.01.11.31.57
 (version=TLS1_2 cipher=ECDHE-ECDSA-AES128-GCM-SHA256 bits=128/128);
 Tue, 01 Oct 2024 11:31:57 -0700 (PDT)
X-Relaying-Domain: iol.unh.edu
Date: Tue, 01 Oct 2024 11:31:57 -0700 (PDT)
Message-ID: <66fc401d.050a0220.0f40.7e05SMTPIN_ADDED_MISSING@mx.google.com>
Received: from [172.17.0.5] (unknown [172.18.0.217])
 by postal.iol.unh.edu (Postfix) with ESMTP id 78502605C351;
 Tue,  1 Oct 2024 14:31:57 -0400 (EDT)
Subject: |SUCCESS| pw144856 [PATCH] [v4] common/cnxk: fix IRQ reconfiguration
From: dpdklab@iol.unh.edu
To: Test Report <test-report@dpdk.org>
Cc: dpdk-test-reports@iol.unh.edu
In-Reply-To: <20241001131109.4210-1-pbhagavatula@marvell.com>
References: <20241001131109.4210-1-pbhagavatula@marvell.com>
Content-Type: text/plain
X-BeenThere: test-report@dpdk.org
X-Mailman-Version: 2.1.29
Precedence: list
List-Id: automatic DPDK test reports <test-report.dpdk.org>
List-Unsubscribe: <https://mails.dpdk.org/options/test-report>,
 <mailto:test-report-request@dpdk.org?subject=unsubscribe>
List-Archive: <http://mails.dpdk.org/archives/test-report/>
List-Post: <mailto:test-report@dpdk.org>
List-Help: <mailto:test-report-request@dpdk.org?subject=help>
List-Subscribe: <https://mails.dpdk.org/listinfo/test-report>,
 <mailto:test-report-request@dpdk.org?subject=subscribe>
Errors-To: test-report-bounces@dpdk.org

Test-Label: iol-compile-amd64-testing
Test-Status: SUCCESS
http://dpdk.org/patch/144856

_Testing PASS_

Submitter: Pavan Nikhilesh Bhagavatula <pbhagavatula@marvell.com>
Date: Tuesday, October 01 2024 13:11:09 
DPDK git baseline: Repo:dpdk
  Branch: master
  CommitID:ae03728dd31175d055f7df4e141f9944eccf9444

144856 --> testing pass

Upstream job id: Windows-Compile-DPDK-VS#3275

Test environment and result as below:

+---------------------+--------------------+-----------------------+----------------------+-------------------+
|     Environment     | dpdk_meson_compile | dpdk_win_llvm_compile | dpdk_mingw64_compile | dpdk_msvc_compile |
+=====================+====================+=======================+======================+===================+
| FreeBSD 13.4        | PASS               | SKIPPED               | SKIPPED              | SKIPPED           |
+---------------------+--------------------+-----------------------+----------------------+-------------------+
| FreeBSD 14.1        | PASS               | SKIPPED               | SKIPPED              | SKIPPED           |
+---------------------+--------------------+-----------------------+----------------------+-------------------+
| Windows Server 2022 | SKIPPED            | PASS                  | PASS                 | PASS              |
+---------------------+--------------------+-----------------------+----------------------+-------------------+


FreeBSD 13.4
	Kernel: 13.4-RELEASE-p1
	Compiler: clang 18.1.6

FreeBSD 14.1
	Kernel: 14.1-RELEASE-p3
	Compiler: clang 18.1.5

Windows Server 2022
	Kernel: 10.0.20348.2031
	Compiler: clang 15.0.7, gcc 14.1.0 (MinGW), and MSVC VS 19.39.33521

To view detailed results, visit:
https://lab.dpdk.org/results/dashboard/patchsets/31208/

UNH-IOL DPDK Community Lab

To manage your email subscriptions, visit: 
https://lab.dpdk.org/results/dashboard/preferences/subscriptions/