From mboxrd@z Thu Jan  1 00:00:00 1970
Return-Path: <test-report-bounces@dpdk.org>
Received: from mails.dpdk.org (mails.dpdk.org [217.70.189.124])
	by inbox.dpdk.org (Postfix) with ESMTP id 6F82045A88
	for <public@inbox.dpdk.org>; Wed,  2 Oct 2024 04:38:32 +0200 (CEST)
Received: from mails.dpdk.org (localhost [127.0.0.1])
	by mails.dpdk.org (Postfix) with ESMTP id 6446140268;
	Wed,  2 Oct 2024 04:38:32 +0200 (CEST)
Received: from mail-io1-f97.google.com (mail-io1-f97.google.com
 [209.85.166.97]) by mails.dpdk.org (Postfix) with ESMTP id 83D8540267
 for <test-report@dpdk.org>; Wed,  2 Oct 2024 04:38:30 +0200 (CEST)
Received: by mail-io1-f97.google.com with SMTP id
 ca18e2360f4ac-82ce1cd2026so228236739f.3
 for <test-report@dpdk.org>; Tue, 01 Oct 2024 19:38:30 -0700 (PDT)
DKIM-Signature: v=1; a=rsa-sha256; c=relaxed/relaxed;
 d=iol.unh.edu; s=unh-iol; t=1727836710; x=1728441510; darn=dpdk.org;
 h=references:in-reply-to:cc:to:from:subject:message-id:date:from:to
 :cc:subject:date:message-id:reply-to;
 bh=XzcrKBvo9ETiuP4woJMJxz8Sa2flR6ypFKMqh4R3tKE=;
 b=N9ZhapNDIH0JWhfdN7pOwa1EdDp2HBbAe7mrFeCMatiUSAIQiGl/T3vtgRjFzfdcZg
 nEhf4cpIcQHFs531nPsBYqEu/KR1GT4iSpesG9mqlt4NqcUWNGwCocUIh+Daf4gbRoPq
 MwT2gXnEFRdz0Yek8Hb0zvtCjgaOh2cddfY8w=
X-Google-DKIM-Signature: v=1; a=rsa-sha256; c=relaxed/relaxed;
 d=1e100.net; s=20230601; t=1727836710; x=1728441510;
 h=references:in-reply-to:cc:to:from:subject:message-id:date
 :x-gm-message-state:from:to:cc:subject:date:message-id:reply-to;
 bh=XzcrKBvo9ETiuP4woJMJxz8Sa2flR6ypFKMqh4R3tKE=;
 b=OHxUqo/D31MOyAdTmaYbaaboPlqOTbkneo6v67CA5mi7+UVD+OVCAtZrfmneXoJiLL
 V8lzhLfJTBBwDTRWua/+NtoZDCBivF58leTiTiv6enVrfQTYU+163n9ehWeaZt8CmsBC
 lgomDS9lTRoanT4Al/+3SgJeQbiq1Lg02dI+kwinPv623LRaA0nRbuNwBQux6+BkBwCS
 fLOh0OSIDgZ0kFYg5zWYzipI964i/N7hSWFoXUfboKeMg1KHyHjQ8cBJx389lwBqZ6bd
 oLjHUMZvjhoEPhcsuhfimivgxBoUHzRobp8Hlm56aRNwdgFQiU1vwVUHXzOJfUyxKAf2
 niSA==
X-Gm-Message-State: AOJu0YxCPT8HUvxC2k0DUO0s3fgeij7FFaZGgoUk/1c7FhQrhbWcR8YY
 SXuWVxynWaUykarlzkG+06YEliyfFw9tnPBitk97QhLOoViZ0fE+t4CZfkO/HpudHZQEDgJMYd5
 YO9BMZAgOwUIKrMH+VfGrWsiW8dTrxHo+KpV95rF7LKqAkWQv15N/p+SC
X-Google-Smtp-Source: AGHT+IGNZT9I8yJJcGbSBD9Og6g6EWAnS5/wiSG4C7hiuC7SP4v2FwTx1tsXNYHlLUMu/KXrIxUqT6tm30ly
X-Received: by 2002:a05:6e02:1948:b0:3a0:98cd:3754 with SMTP id
 e9e14a558f8ab-3a365932f78mr15364505ab.4.1727836709731; 
 Tue, 01 Oct 2024 19:38:29 -0700 (PDT)
Received: from postal.iol.unh.edu (postal.iol.unh.edu.
 [2606:4100:3880:1234::84]) by smtp-relay.gmail.com with ESMTPS id
 e9e14a558f8ab-3a344d96d9dsm4091575ab.45.2024.10.01.19.38.29
 (version=TLS1_2 cipher=ECDHE-ECDSA-AES128-GCM-SHA256 bits=128/128);
 Tue, 01 Oct 2024 19:38:29 -0700 (PDT)
X-Relaying-Domain: iol.unh.edu
Date: Tue, 01 Oct 2024 19:38:29 -0700 (PDT)
Message-ID: <66fcb225.050a0220.2d12c8.0644SMTPIN_ADDED_MISSING@mx.google.com>
Received: from [172.17.0.2] (unknown [172.18.0.217])
 by postal.iol.unh.edu (Postfix) with ESMTP id 41903605C351;
 Tue,  1 Oct 2024 22:38:29 -0400 (EDT)
Subject: |SUCCESS| pw144857-144862 [PATCH] [v4,6/6] examples: use eventdev pr
From: dpdklab@iol.unh.edu
To: Test Report <test-report@dpdk.org>
Cc: dpdk-test-reports@iol.unh.edu
In-Reply-To: <20241001131901.7920-7-pbhagavatula@marvell.com>
References: <20241001131901.7920-7-pbhagavatula@marvell.com>
Content-Type: text/plain
X-BeenThere: test-report@dpdk.org
X-Mailman-Version: 2.1.29
Precedence: list
List-Id: automatic DPDK test reports <test-report.dpdk.org>
List-Unsubscribe: <https://mails.dpdk.org/options/test-report>,
 <mailto:test-report-request@dpdk.org?subject=unsubscribe>
List-Archive: <http://mails.dpdk.org/archives/test-report/>
List-Post: <mailto:test-report@dpdk.org>
List-Help: <mailto:test-report-request@dpdk.org?subject=help>
List-Subscribe: <https://mails.dpdk.org/listinfo/test-report>,
 <mailto:test-report-request@dpdk.org?subject=subscribe>
Errors-To: test-report-bounces@dpdk.org

Test-Label: iol-sample-apps-testing
Test-Status: SUCCESS
http://dpdk.org/patch/144862

_Testing PASS_

Submitter: Pavan Nikhilesh Bhagavatula <pbhagavatula@marvell.com>
Date: Tuesday, October 01 2024 13:19:01 
DPDK git baseline: Repo:dpdk
  Branch: master
  CommitID:52a4028e4c33df32c691aa88751a659534b9ef02

144857-144862 --> testing pass

Upstream job id: ACVP-FIPS-testing#7132

Test environment and result as below:

+--------------------+----------------------+----------------------+
|    Environment     | compressdev_zlib_pmd | dpdk_fips_validation |
+====================+======================+======================+
| Ubuntu 22.04 (ARM) | PASS                 | SKIPPED              |
+--------------------+----------------------+----------------------+
| Ubuntu 22.04       | PASS                 | SKIPPED              |
+--------------------+----------------------+----------------------+
| Ubuntu 20.04       | SKIPPED              | PASS                 |
+--------------------+----------------------+----------------------+


Ubuntu 22.04 (ARM)
	Kernel: 5.15.0-97-generic
	Compiler: gcc gcc (Ubuntu 11.4.0-1ubuntu1~22.04) 11.4.0

Ubuntu 22.04
	Kernel: 5.15.0-100-generic
	Compiler: gcc gcc (Ubuntu 11.4.0-1ubuntu1~22.04) 11.4.0

Ubuntu 20.04
	Kernel: Depends on container host
	Compiler: gcc (Ubuntu 9.4.0-1ubuntu1~20.04.2) 9.4.0

To view detailed results, visit:
https://lab.dpdk.org/results/dashboard/patchsets/31209/

UNH-IOL DPDK Community Lab

To manage your email subscriptions, visit: 
https://lab.dpdk.org/results/dashboard/preferences/subscriptions/