From mboxrd@z Thu Jan  1 00:00:00 1970
Return-Path: <test-report-bounces@dpdk.org>
Received: from mails.dpdk.org (mails.dpdk.org [217.70.189.124])
	by inbox.dpdk.org (Postfix) with ESMTP id AA1F245A8D
	for <public@inbox.dpdk.org>; Wed,  2 Oct 2024 05:49:42 +0200 (CEST)
Received: from mails.dpdk.org (localhost [127.0.0.1])
	by mails.dpdk.org (Postfix) with ESMTP id 8334340268;
	Wed,  2 Oct 2024 05:49:42 +0200 (CEST)
Received: from mail-oa1-f97.google.com (mail-oa1-f97.google.com
 [209.85.160.97]) by mails.dpdk.org (Postfix) with ESMTP id EBA5E40267
 for <test-report@dpdk.org>; Wed,  2 Oct 2024 05:49:40 +0200 (CEST)
Received: by mail-oa1-f97.google.com with SMTP id
 586e51a60fabf-2877d7ae3e5so630088fac.3
 for <test-report@dpdk.org>; Tue, 01 Oct 2024 20:49:40 -0700 (PDT)
DKIM-Signature: v=1; a=rsa-sha256; c=relaxed/relaxed;
 d=iol.unh.edu; s=unh-iol; t=1727840980; x=1728445780; darn=dpdk.org;
 h=references:in-reply-to:cc:to:from:subject:message-id:date:from:to
 :cc:subject:date:message-id:reply-to;
 bh=nA5tJfsve12X+yj/HS06zvU0PM5BiRLY2UoDLX8E27Y=;
 b=gV/Q+4wUThDCwYCLlJrocg1wLjrhKamivrPg5db3lJIiD3dXUccHcnS8859kV8MAzn
 Ke4tVqPc8Khn5LaaZp0YW3XPdo0tqMSG4nqyXm+tBSwo/+QJUcshMa+7esw96Hjarf23
 QgHPyJJWt1Khy6ys5gukVzVjR9rcf2P+9FKUs=
X-Google-DKIM-Signature: v=1; a=rsa-sha256; c=relaxed/relaxed;
 d=1e100.net; s=20230601; t=1727840980; x=1728445780;
 h=references:in-reply-to:cc:to:from:subject:message-id:date
 :x-gm-message-state:from:to:cc:subject:date:message-id:reply-to;
 bh=nA5tJfsve12X+yj/HS06zvU0PM5BiRLY2UoDLX8E27Y=;
 b=UspybNfozIVGLglB50C1yKjI4e30bLkBUEl5yGiuNdIOfLbtGUeZsquHfE7bORnZUj
 ffWtos9/2nXD8GWezFK4j0wJxwbF1NchbPeKLyUZzTHnqHdcwP5+LRmHCk/SBm8t4n3M
 goW5nYuhajyFDFe+rjec9DeMvv1CWppEbC0REhQ645rBLJ7AX5hzaLRw1wu28Ak9aFOy
 /zZp94omJqPg0KmX0YqqAPaybLxKfFe/IwzJHEsp7+Ho94jX3gAYdlAd6GSROMrWZSst
 gsu+mRTUWTAcZVS1MVvjd5JxaAPDtZ6xQoPtJFke1MV9pD7ga82BEe29Se7xAq/ctMdK
 eDFA==
X-Gm-Message-State: AOJu0YzjTPECocpK+YbnJPmOPZ5MdyLq4ndxMLwREumRKaK6lkTUT8T9
 sx5gtVoxVuzm/r7DD5k2R5KzcmPAQsXPEFRdyJY90jRBOEdThXnt6RirNBfgHbbERyaZXkj25X5
 ySKFQIsF/dh4O+qI+QCEi1lwiAUdzFkg1X5Yuhi2f
X-Google-Smtp-Source: AGHT+IHU4TAnxND1ZK+yDcPlTqYara9HsAukX6ufttzI0J5rJx0XXQDjyI1RMHzto7IvvAN4aiM2KNqgexd6
X-Received: by 2002:a05:6870:961f:b0:261:16da:decb with SMTP id
 586e51a60fabf-28788a5200dmr1279625fac.11.1727840980102; 
 Tue, 01 Oct 2024 20:49:40 -0700 (PDT)
Received: from postal.iol.unh.edu (postal.iol.unh.edu. [132.177.123.84])
 by smtp-relay.gmail.com with ESMTPS id
 586e51a60fabf-2870f9a5361sm565116fac.33.2024.10.01.20.49.40
 (version=TLS1_2 cipher=ECDHE-ECDSA-AES128-GCM-SHA256 bits=128/128);
 Tue, 01 Oct 2024 20:49:40 -0700 (PDT)
X-Relaying-Domain: iol.unh.edu
Date: Tue, 01 Oct 2024 20:49:40 -0700 (PDT)
Message-ID: <66fcc2d4.050a0220.7780b.b0aeSMTPIN_ADDED_MISSING@mx.google.com>
Received: from [172.17.0.4] (unknown [172.18.0.217])
 by postal.iol.unh.edu (Postfix) with ESMTP id 7F21D605C351;
 Tue,  1 Oct 2024 23:49:39 -0400 (EDT)
Subject: |SUCCESS| pw144856 [PATCH] [v4] common/cnxk: fix IRQ reconfiguration
From: dpdklab@iol.unh.edu
To: Test Report <test-report@dpdk.org>
Cc: dpdk-test-reports@iol.unh.edu
In-Reply-To: <20241001131109.4210-1-pbhagavatula@marvell.com>
References: <20241001131109.4210-1-pbhagavatula@marvell.com>
Content-Type: text/plain
X-BeenThere: test-report@dpdk.org
X-Mailman-Version: 2.1.29
Precedence: list
List-Id: automatic DPDK test reports <test-report.dpdk.org>
List-Unsubscribe: <https://mails.dpdk.org/options/test-report>,
 <mailto:test-report-request@dpdk.org?subject=unsubscribe>
List-Archive: <http://mails.dpdk.org/archives/test-report/>
List-Post: <mailto:test-report@dpdk.org>
List-Help: <mailto:test-report-request@dpdk.org?subject=help>
List-Subscribe: <https://mails.dpdk.org/listinfo/test-report>,
 <mailto:test-report-request@dpdk.org?subject=subscribe>
Errors-To: test-report-bounces@dpdk.org

Test-Label: iol-compile-arm64-testing
Test-Status: SUCCESS
http://dpdk.org/patch/144856

_Testing PASS_

Submitter: Pavan Nikhilesh Bhagavatula <pbhagavatula@marvell.com>
Date: Tuesday, October 01 2024 13:11:09 
DPDK git baseline: Repo:dpdk
  Branch: master
  CommitID:ae03728dd31175d055f7df4e141f9944eccf9444

144856 --> testing pass

Upstream job id: Generic-DPDK-Compile-Meson#308354

Test environment and result as below:

+----------------------------------------+--------------------+
|              Environment               | dpdk_meson_compile |
+========================================+====================+
| RHEL9 (ARM)                            | PASS               |
+----------------------------------------+--------------------+
| Ubuntu 20.04 ARM GCC Cross Compile     | PASS               |
+----------------------------------------+--------------------+
| Ubuntu 20.04 ARM SVE                   | PASS               |
+----------------------------------------+--------------------+
| Debian 12 with MUSDK                   | PASS               |
+----------------------------------------+--------------------+
| Fedora 37 (ARM)                        | PASS               |
+----------------------------------------+--------------------+
| Fedora 38 (ARM)                        | PASS               |
+----------------------------------------+--------------------+
| Fedora 38 (ARM Clang)                  | PASS               |
+----------------------------------------+--------------------+
| Fedora 39 (ARM)                        | PASS               |
+----------------------------------------+--------------------+
| Fedora 39 (ARM Clang)                  | PASS               |
+----------------------------------------+--------------------+
| Fedora 40 (ARM)                        | PASS               |
+----------------------------------------+--------------------+
| Fedora 40 (ARM Clang)                  | PASS               |
+----------------------------------------+--------------------+
| Ubuntu 20.04 (ARM)                     | PASS               |
+----------------------------------------+--------------------+
| Ubuntu 22.04 (ARM)                     | PASS               |
+----------------------------------------+--------------------+
| Ubuntu 24.04 (ARM)                     | PASS               |
+----------------------------------------+--------------------+
| CentOS Stream 9 (ARM)                  | PASS               |
+----------------------------------------+--------------------+
| Debian 11 (Buster) (ARM)               | PASS               |
+----------------------------------------+--------------------+
| Debian 12 (arm)                        | PASS               |
+----------------------------------------+--------------------+
| Ubuntu 20.04 ARM Clang Cross Compile   | PASS               |
+----------------------------------------+--------------------+
| Ubuntu 20.04 aarch32 GCC Cross Compile | PASS               |
+----------------------------------------+--------------------+


RHEL9 (ARM)
	Kernel: Depends on container host
	Compiler: gcc 11.4.1 20231218 (Red Hat 11.4.1-3)

Ubuntu 20.04 ARM GCC Cross Compile
	Kernel: Depends on container host
	Compiler: aarch64-linux-gnu-gcc (Ubuntu 9.4.0-1ubuntu1~20.04.2) 9.4.0

Ubuntu 20.04 ARM SVE
	Kernel: Depends on container host
	Compiler: gcc (Ubuntu 10.5.0-1ubuntu1~20.04) 10.5.0

Debian 12 with MUSDK
	Kernel: Depends on container host
	Compiler: gcc (Debian 12.2.0-14) 12.2.0

Fedora 37 (ARM)
	Kernel: Depends on container host
	Compiler: gcc 12.3.1 20230508 (Red Hat 12.3.1-1)

Fedora 38 (ARM)
	Kernel: Depends on container host
	Compiler: gcc 13.2.1 20240316 (Red Hat 13.2.1-7)

Fedora 38 (ARM Clang)
	Kernel: Depends on container host
	Compiler: clang 16.0.6 (Fedora 16.0.6-4.fc38)

Fedora 39 (ARM)
	Kernel: Depends on container host
	Compiler: gcc 13.3.1 20240522 (Red Hat 13.3.1-1)

Fedora 39 (ARM Clang)
	Kernel: Depends on container host
	Compiler: clang 17.0.6 (Fedora 17.0.6-2.fc39)

Fedora 40 (ARM)
	Kernel: Depends on container host
	Compiler: gcc 14.2.1 20240801 (Red Hat 14.2.1-1)

Fedora 40 (ARM Clang)
	Kernel: Depends on container host
	Compiler: clang 18.1.6 (Fedora 18.1.6-3.fc40)

Ubuntu 20.04 (ARM)
	Kernel: Depends on container host
	Compiler: gcc (Ubuntu 9.4.0-1ubuntu1~20.04.2) 9.4.0

Ubuntu 22.04 (ARM)
	Kernel: Depends on container host
	Compiler: gcc (Ubuntu 11.4.0-1ubuntu1~22.04) 11.4.0

Ubuntu 24.04 (ARM)
	Kernel: Depends on container host
	Compiler: gcc (Ubuntu 13.2.0-23ubuntu4) 13.2.0

CentOS Stream 9 (ARM)
	Kernel: Depends on container host
	Compiler: gcc 11.4.1 20231218 (Red Hat 11.4.1-3)

Debian 11 (Buster) (ARM)
	Kernel: Depends on container host
	Compiler: gcc (Debian 10.2.1-6) 10.2.1 20210110

Debian 12 (arm)
	Kernel: Depends on container host
	Compiler: gcc (Debian 12.2.0-14) 12.2.0

Ubuntu 20.04 ARM Clang Cross Compile
	Kernel: Depends on container host
	Compiler: clang 10.0.0-4ubuntu1

Ubuntu 20.04 aarch32 GCC Cross Compile
	Kernel: Depends on container host
	Compiler: gcc 9.4.0

To view detailed results, visit:
https://lab.dpdk.org/results/dashboard/patchsets/31208/

UNH-IOL DPDK Community Lab

To manage your email subscriptions, visit: 
https://lab.dpdk.org/results/dashboard/preferences/subscriptions/