From mboxrd@z Thu Jan  1 00:00:00 1970
Return-Path: <test-report-bounces@dpdk.org>
Received: from mails.dpdk.org (mails.dpdk.org [217.70.189.124])
	by inbox.dpdk.org (Postfix) with ESMTP id 6C6D945A9D
	for <public@inbox.dpdk.org>; Wed,  2 Oct 2024 16:14:51 +0200 (CEST)
Received: from mails.dpdk.org (localhost [127.0.0.1])
	by mails.dpdk.org (Postfix) with ESMTP id 671FF4025E;
	Wed,  2 Oct 2024 16:14:51 +0200 (CEST)
Received: from mail-pl1-f226.google.com (mail-pl1-f226.google.com
 [209.85.214.226])
 by mails.dpdk.org (Postfix) with ESMTP id C441D4025C
 for <test-report@dpdk.org>; Wed,  2 Oct 2024 16:14:49 +0200 (CEST)
Received: by mail-pl1-f226.google.com with SMTP id
 d9443c01a7336-20b0b5cdb57so6639625ad.1
 for <test-report@dpdk.org>; Wed, 02 Oct 2024 07:14:49 -0700 (PDT)
DKIM-Signature: v=1; a=rsa-sha256; c=relaxed/relaxed;
 d=iol.unh.edu; s=unh-iol; t=1727878489; x=1728483289; darn=dpdk.org;
 h=references:in-reply-to:cc:to:from:subject:message-id:date:from:to
 :cc:subject:date:message-id:reply-to;
 bh=f7HFGMVrFjZwC7VOdXjJPl9xVEVkbWnHokdw35CwYQY=;
 b=QY6RTwsv00L7/cs9uVLHCO9uleOdlAPYMuHNlJ/hWKQVcm15g2v8Tx1FVXBpDPKmq6
 01ULXAj6uM3TEGcvwWzAW0zArdmtZDb/wd9l8IBxFDaMzBz8Wc1qEIdqA1GFMHAoG3k7
 Itjo6JeoK2W8709EkkrdghrHEk5WjjKQi/JHg=
X-Google-DKIM-Signature: v=1; a=rsa-sha256; c=relaxed/relaxed;
 d=1e100.net; s=20230601; t=1727878489; x=1728483289;
 h=references:in-reply-to:cc:to:from:subject:message-id:date
 :x-gm-message-state:from:to:cc:subject:date:message-id:reply-to;
 bh=f7HFGMVrFjZwC7VOdXjJPl9xVEVkbWnHokdw35CwYQY=;
 b=mf67QcyYbNBI6kx49GprCvvMLOBiaVIlKZsCYdAYS7V+hWY83u4+uGLGgE1jaK76/f
 kMgcQfIUqM0rI+6p7R0QhNKrebA2tXY3LWo/rueZtemSNWJ5VN75RUCTzSNVnbdTSpEh
 SXkPeYeIQ2dTICAU1v48UHMRI4mzxdriEtpi1l1YPvBzhYDzsSwJG8+qzqmfRsAG+mhh
 XHvXHql/9tjOYNxY84adLeb+cJzwQK5ihB4maKgUBZrDZw0fmYgyf3/bUYahU/DL5fpm
 236OIj217MjGpm8PXu3Z/FgHO6dbsgO6JTOINqnXxSUvQ0RKWkqOZyY+wbnK7QBt4mHT
 shIg==
X-Gm-Message-State: AOJu0YxrjkAEsqRx3gyYcQg/9RjNuLHA0oJeM6FJHTxzqraJ10OlrN+W
 g4iqvoVHtY78LREvHeVBMh6n2rt+IIl2DwiPPAoC31P10XRmqnKPo94upi9YY7JpJaCFW9MLGdk
 4Kvrz01SyfplImVIdfUqyJJ53kicjgD/I2/uFgbqpCniwFxVId9ZDhAtN
X-Google-Smtp-Source: AGHT+IHkmSLzmWrxEcgvA0cTf5tOXNY4FdkqID4XShBSAjr5oWwXZKWpoB+tgikUBJyBM6SQClIFjjGB5nMN
X-Received: by 2002:a17:903:228b:b0:20b:db4:d913 with SMTP id
 d9443c01a7336-20bc5b8828dmr54618685ad.11.1727878488847; 
 Wed, 02 Oct 2024 07:14:48 -0700 (PDT)
Received: from postal.iol.unh.edu (postal.iol.unh.edu.
 [2606:4100:3880:1234::84]) by smtp-relay.gmail.com with ESMTPS id
 d9443c01a7336-20b37e5e9c4sm2659505ad.130.2024.10.02.07.14.48
 (version=TLS1_2 cipher=ECDHE-ECDSA-AES128-GCM-SHA256 bits=128/128);
 Wed, 02 Oct 2024 07:14:48 -0700 (PDT)
X-Relaying-Domain: iol.unh.edu
Date: Wed, 02 Oct 2024 07:14:48 -0700 (PDT)
Message-ID: <66fd5558.170a0220.4f63c.3935SMTPIN_ADDED_MISSING@mx.google.com>
Received: from [172.17.0.2] (unknown [172.18.0.217])
 by postal.iol.unh.edu (Postfix) with ESMTP id 45ADD6050A6B;
 Wed,  2 Oct 2024 10:14:48 -0400 (EDT)
Subject: |SUCCESS| pw144891 [PATCH] [RFC,v15] mempool: fix mempool cache size
From: dpdklab@iol.unh.edu
To: Test Report <test-report@dpdk.org>
Cc: dpdk-test-reports@iol.unh.edu
In-Reply-To: <20241002112506.2425092-1-mb@smartsharesystems.com>
References: <20241002112506.2425092-1-mb@smartsharesystems.com>
Content-Type: text/plain
X-BeenThere: test-report@dpdk.org
X-Mailman-Version: 2.1.29
Precedence: list
List-Id: automatic DPDK test reports <test-report.dpdk.org>
List-Unsubscribe: <https://mails.dpdk.org/options/test-report>,
 <mailto:test-report-request@dpdk.org?subject=unsubscribe>
List-Archive: <http://mails.dpdk.org/archives/test-report/>
List-Post: <mailto:test-report@dpdk.org>
List-Help: <mailto:test-report-request@dpdk.org?subject=help>
List-Subscribe: <https://mails.dpdk.org/listinfo/test-report>,
 <mailto:test-report-request@dpdk.org?subject=subscribe>
Errors-To: test-report-bounces@dpdk.org

Test-Label: iol-compile-amd64-testing
Test-Status: SUCCESS
http://dpdk.org/patch/144891

_Testing PASS_

Submitter: Morten Brorup <mb@smartsharesystems.com>
Date: Wednesday, October 02 2024 11:25:06 
DPDK git baseline: Repo:dpdk
  Branch: master
  CommitID:b3846244b2b9245356d398d802ba3c975b2f4f63

144891 --> testing pass

Upstream job id: Generic-DPDK-Compile-Meson#308707

Test environment and result as below:

+---------------------+----------------------+-------------------+-----------------------+--------------------+------------------+-------------------+
|     Environment     | dpdk_mingw64_compile | dpdk_msvc_compile | dpdk_win_llvm_compile | dpdk_meson_compile | dpdk_compile_ovs | dpdk_compile_spdk |
+=====================+======================+===================+=======================+====================+==================+===================+
| Windows Server 2022 | PASS                 | PASS              | PASS                  | SKIPPED            | SKIPPED          | SKIPPED           |
+---------------------+----------------------+-------------------+-----------------------+--------------------+------------------+-------------------+
| FreeBSD 13.4        | SKIPPED              | SKIPPED           | SKIPPED               | PASS               | SKIPPED          | SKIPPED           |
+---------------------+----------------------+-------------------+-----------------------+--------------------+------------------+-------------------+
| FreeBSD 14.1        | SKIPPED              | SKIPPED           | SKIPPED               | PASS               | SKIPPED          | SKIPPED           |
+---------------------+----------------------+-------------------+-----------------------+--------------------+------------------+-------------------+
| CentOS Stream 9     | SKIPPED              | SKIPPED           | SKIPPED               | PASS               | PASS             | PASS              |
+---------------------+----------------------+-------------------+-----------------------+--------------------+------------------+-------------------+
| Debian Bullseye     | SKIPPED              | SKIPPED           | SKIPPED               | PASS               | PASS             | PASS              |
+---------------------+----------------------+-------------------+-----------------------+--------------------+------------------+-------------------+
| Debian 12           | SKIPPED              | SKIPPED           | SKIPPED               | PASS               | PASS             | PASS              |
+---------------------+----------------------+-------------------+-----------------------+--------------------+------------------+-------------------+
| Fedora 37           | SKIPPED              | SKIPPED           | SKIPPED               | PASS               | PASS             | PASS              |
+---------------------+----------------------+-------------------+-----------------------+--------------------+------------------+-------------------+
| Fedora 38 (Clang)   | SKIPPED              | SKIPPED           | SKIPPED               | PASS               | PASS             | PASS              |
+---------------------+----------------------+-------------------+-----------------------+--------------------+------------------+-------------------+
| Fedora 38           | SKIPPED              | SKIPPED           | SKIPPED               | PASS               | PASS             | PASS              |
+---------------------+----------------------+-------------------+-----------------------+--------------------+------------------+-------------------+
| Fedora 39 (Clang)   | SKIPPED              | SKIPPED           | SKIPPED               | PASS               | PASS             | PASS              |
+---------------------+----------------------+-------------------+-----------------------+--------------------+------------------+-------------------+
| Fedora 39           | SKIPPED              | SKIPPED           | SKIPPED               | PASS               | PASS             | PASS              |
+---------------------+----------------------+-------------------+-----------------------+--------------------+------------------+-------------------+
| Fedora 40 (Clang)   | SKIPPED              | SKIPPED           | SKIPPED               | PASS               | PASS             | PASS              |
+---------------------+----------------------+-------------------+-----------------------+--------------------+------------------+-------------------+
| Fedora 40           | SKIPPED              | SKIPPED           | SKIPPED               | PASS               | PASS             | PASS              |
+---------------------+----------------------+-------------------+-----------------------+--------------------+------------------+-------------------+
| openSUSE Leap 15    | SKIPPED              | SKIPPED           | SKIPPED               | PASS               | PASS             | SKIPPED           |
+---------------------+----------------------+-------------------+-----------------------+--------------------+------------------+-------------------+
| RHEL8               | SKIPPED              | SKIPPED           | SKIPPED               | PASS               | PASS             | SKIPPED           |
+---------------------+----------------------+-------------------+-----------------------+--------------------+------------------+-------------------+
| RHEL9               | SKIPPED              | SKIPPED           | SKIPPED               | PASS               | PASS             | SKIPPED           |
+---------------------+----------------------+-------------------+-----------------------+--------------------+------------------+-------------------+
| Ubuntu 20.04        | SKIPPED              | SKIPPED           | SKIPPED               | PASS               | PASS             | SKIPPED           |
+---------------------+----------------------+-------------------+-----------------------+--------------------+------------------+-------------------+
| Ubuntu 22.04        | SKIPPED              | SKIPPED           | SKIPPED               | PASS               | PASS             | PASS              |
+---------------------+----------------------+-------------------+-----------------------+--------------------+------------------+-------------------+
| Ubuntu 24.04        | SKIPPED              | SKIPPED           | SKIPPED               | PASS               | PASS             | PASS              |
+---------------------+----------------------+-------------------+-----------------------+--------------------+------------------+-------------------+
| Alpine              | SKIPPED              | SKIPPED           | SKIPPED               | PASS               | PASS             | SKIPPED           |
+---------------------+----------------------+-------------------+-----------------------+--------------------+------------------+-------------------+


Windows Server 2022
	Kernel: 10.0.20348.2031
	Compiler: clang 15.0.7, gcc 14.1.0 (MinGW), and MSVC VS 19.39.33521

FreeBSD 13.4
	Kernel: 13.4-RELEASE-p1
	Compiler: clang 18.1.6

FreeBSD 14.1
	Kernel: 14.1-RELEASE-p3
	Compiler: clang 18.1.5

CentOS Stream 9
	Kernel: Depends on container host
	Compiler: gcc 11.4.1 20231218 (Red Hat 11.4.1-3)

Debian Bullseye
	Kernel: Depends on container host
	Compiler: gcc (Debian 10.2.1-6) 10.2.1 20210110

Debian 12
	Kernel: Depends on container host
	Compiler: gcc (Debian 12.2.0-14) 12.2.0

Fedora 37
	Kernel: Depends on container host system
	Compiler: gcc 12.3.1 20230508 (Red Hat 12.3.1-1)

Fedora 38 (Clang)
	Kernel: Depends on container host
	Compiler: clang 16.0.6 (Fedora 16.0.6-4.fc38)

Fedora 38
	Kernel: Depends on container host
	Compiler: gcc 13.2.1 20240316 (Red Hat 13.2.1-7)

Fedora 39 (Clang)
	Kernel: Depends on container host
	Compiler: clang 17.0.6 (Fedora 17.0.6-2.fc39)

Fedora 39
	Kernel: Depends on container host
	Compiler: gcc 13.3.1 20240522 (Red Hat 13.3.1-1)

Fedora 40 (Clang)
	Kernel: Depends on container host
	Compiler: clang 18.1.6 (Fedora 18.1.6-3.fc40)

Fedora 40
	Kernel: Depends on container host
	Compiler: gcc 14.2.1 20240801 (Red Hat 14.2.1-1)

openSUSE Leap 15
	Kernel: Depends on container host
	Compiler: gcc (SUSE Linux) 7.5.0

RHEL8
	Kernel: Depends on container host
	Compiler: gcc 8.5.0 20210514 (Red Hat 8.5.0-22)

RHEL9
	Kernel: Depends on container host
	Compiler: gcc 11.4.1 20231218 (Red Hat 11.4.1-3)

Ubuntu 20.04
	Kernel: Depends on container host
	Compiler: gcc (Ubuntu 9.4.0-1ubuntu1~20.04.2) 9.4.0

Ubuntu 22.04
	Kernel: Depends on container host
	Compiler: gcc (Ubuntu 11.4.0-1ubuntu1~22.04) 11.4.0

Ubuntu 24.04
	Kernel: Depends on container host
	Compiler: gcc (Ubuntu 13.2.0-23ubuntu4) 13.2.0

Alpine
	Kernel: Depends on container host
	Compiler: gcc (Alpine 13.2.1_git20240309) 13.2.1 20240309

To view detailed results, visit:
https://lab.dpdk.org/results/dashboard/patchsets/31219/

UNH-IOL DPDK Community Lab

To manage your email subscriptions, visit: 
https://lab.dpdk.org/results/dashboard/preferences/subscriptions/