From mboxrd@z Thu Jan  1 00:00:00 1970
Return-Path: <test-report-bounces@dpdk.org>
Received: from mails.dpdk.org (mails.dpdk.org [217.70.189.124])
	by inbox.dpdk.org (Postfix) with ESMTP id 3F8B445A82
	for <public@inbox.dpdk.org>; Wed,  2 Oct 2024 22:51:36 +0200 (CEST)
Received: from mails.dpdk.org (localhost [127.0.0.1])
	by mails.dpdk.org (Postfix) with ESMTP id 3ACEE40285;
	Wed,  2 Oct 2024 22:51:36 +0200 (CEST)
Received: from mail-il1-f228.google.com (mail-il1-f228.google.com
 [209.85.166.228])
 by mails.dpdk.org (Postfix) with ESMTP id F1BDA4027C
 for <test-report@dpdk.org>; Wed,  2 Oct 2024 22:51:33 +0200 (CEST)
Received: by mail-il1-f228.google.com with SMTP id
 e9e14a558f8ab-3a1a3090f93so901515ab.1
 for <test-report@dpdk.org>; Wed, 02 Oct 2024 13:51:33 -0700 (PDT)
DKIM-Signature: v=1; a=rsa-sha256; c=relaxed/relaxed;
 d=iol.unh.edu; s=unh-iol; t=1727902293; x=1728507093; darn=dpdk.org;
 h=references:in-reply-to:cc:to:from:subject:message-id:date:from:to
 :cc:subject:date:message-id:reply-to;
 bh=4x7H5BqZT2fga2hN9pLkGV+SBj70FNacB2eddXaAbYc=;
 b=HWREBR4LyCYn0ORKcUFhfu4/wZQ3D8jIn7Ta9tXKS7QD+Dv6IEyOghqovuWBxsEfEE
 pPtrZ1zEdGUJ+5kQ7g7Jg1lLzCSttB4XommLH8e7lGFMy5LqrUIzCAh8bjPG4HGLOAiW
 LOTBv3Zr14fvUsz4Iepw7IkdibeluCqYYf3yk=
X-Google-DKIM-Signature: v=1; a=rsa-sha256; c=relaxed/relaxed;
 d=1e100.net; s=20230601; t=1727902293; x=1728507093;
 h=references:in-reply-to:cc:to:from:subject:message-id:date
 :x-gm-message-state:from:to:cc:subject:date:message-id:reply-to;
 bh=4x7H5BqZT2fga2hN9pLkGV+SBj70FNacB2eddXaAbYc=;
 b=QFbrg1HJSVIeI525fqaHsKdR9pDZhrQqEf2FZRE8JTWCJeEFqSu2a+ubAkd7NoYolE
 8hhEpV5/iBoGDzYfdqTgbJHJuqMRRRPBMrToz1Q08oYzsAfq5ACkjl9mkNdlJJMi6gFc
 zntQd3Ee9Avx9Pusg0WIHJlg532R6W3V3kDo8u5xiatoq6xtyN6CXSq+bJk7cVeCwrgF
 bIZ+AwsDzsMFqaV5Q7POP3Lc6/N4Dah8lQbG5yR562Dvd2kYdQiV0hTpyqpPQci058tF
 kItnIv0TjCGViXF28teuyVJRY7BiKuig3WcsZ9JCyGwYsJF5U44LJ8pTHux7ZZ36Zc1e
 Mu6w==
X-Gm-Message-State: AOJu0YzvMy1YKiyL+lYP7tzYC+G+YVjd/iLICcIPTn53/47abpJBkhGB
 SW9ub+Uo+QBwnoTsTRC8Oc2353LIBRW8fxKQHBF8xJz5NOVHPra4RHX/kSik4B3yEbveEBV1s8j
 /xAuxl+bxIhz491i11fd6f8TTxWE5QBb0mzKrNKKxSEzO5f5qcfg+boaQ
X-Google-Smtp-Source: AGHT+IHD+ZSN00JiLlUnIJ2/ELUMPxD0fRotPL13yysn6pS1uHcZr2nd11XP0TdKHWTI/35kxOTIqXlJ9m+w
X-Received: by 2002:a05:6e02:194c:b0:3a1:a163:ba64 with SMTP id
 e9e14a558f8ab-3a365912354mr46305715ab.3.1727902293159; 
 Wed, 02 Oct 2024 13:51:33 -0700 (PDT)
Received: from postal.iol.unh.edu (postal.iol.unh.edu.
 [2606:4100:3880:1234::84]) by smtp-relay.gmail.com with ESMTPS id
 41be03b00d2f7-7e6db5efd5asm455098a12.29.2024.10.02.13.51.33
 (version=TLS1_2 cipher=ECDHE-ECDSA-AES128-GCM-SHA256 bits=128/128);
 Wed, 02 Oct 2024 13:51:33 -0700 (PDT)
X-Relaying-Domain: iol.unh.edu
Date: Wed, 02 Oct 2024 13:51:33 -0700 (PDT)
Message-ID: <66fdb255.630a0220.dce7f.2a96SMTPIN_ADDED_MISSING@mx.google.com>
Received: from [172.17.0.2] (unknown [172.18.0.217])
 by postal.iol.unh.edu (Postfix) with ESMTP id 6AA2F605C351;
 Wed,  2 Oct 2024 16:51:32 -0400 (EDT)
Subject: |SUCCESS| pw144932-144933 [PATCH] [2/2] ethdev: fix race on ports fo
From: dpdklab@iol.unh.edu
To: Test Report <test-report@dpdk.org>
Cc: dpdk-test-reports@iol.unh.edu
In-Reply-To: <20241002155709.2522273-3-david.marchand@redhat.com>
References: <20241002155709.2522273-3-david.marchand@redhat.com>
Content-Type: text/plain
X-BeenThere: test-report@dpdk.org
X-Mailman-Version: 2.1.29
Precedence: list
List-Id: automatic DPDK test reports <test-report.dpdk.org>
List-Unsubscribe: <https://mails.dpdk.org/options/test-report>,
 <mailto:test-report-request@dpdk.org?subject=unsubscribe>
List-Archive: <http://mails.dpdk.org/archives/test-report/>
List-Post: <mailto:test-report@dpdk.org>
List-Help: <mailto:test-report-request@dpdk.org?subject=help>
List-Subscribe: <https://mails.dpdk.org/listinfo/test-report>,
 <mailto:test-report-request@dpdk.org?subject=subscribe>
Errors-To: test-report-bounces@dpdk.org

Test-Label: iol-compile-arm64-testing
Test-Status: SUCCESS
http://dpdk.org/patch/144933

_Testing PASS_

Submitter: David Marchand <david.marchand@redhat.com>
Date: Wednesday, October 02 2024 15:57:08 
DPDK git baseline: Repo:dpdk
  Branch: master
  CommitID:b3846244b2b9245356d398d802ba3c975b2f4f63

144932-144933 --> testing pass

Upstream job id: Generic-DPDK-Compile-Meson#308860

Test environment and result as below:

+----------------------------------------+--------------------+
|              Environment               | dpdk_meson_compile |
+========================================+====================+
| RHEL9 (ARM)                            | PASS               |
+----------------------------------------+--------------------+
| Ubuntu 20.04 ARM GCC Cross Compile     | PASS               |
+----------------------------------------+--------------------+
| Ubuntu 20.04 ARM SVE                   | PASS               |
+----------------------------------------+--------------------+
| Debian 12 with MUSDK                   | PASS               |
+----------------------------------------+--------------------+
| Fedora 37 (ARM)                        | PASS               |
+----------------------------------------+--------------------+
| Fedora 38 (ARM)                        | PASS               |
+----------------------------------------+--------------------+
| Fedora 38 (ARM Clang)                  | PASS               |
+----------------------------------------+--------------------+
| Fedora 39 (ARM)                        | PASS               |
+----------------------------------------+--------------------+
| Fedora 39 (ARM Clang)                  | PASS               |
+----------------------------------------+--------------------+
| Fedora 40 (ARM)                        | PASS               |
+----------------------------------------+--------------------+
| Fedora 40 (ARM Clang)                  | PASS               |
+----------------------------------------+--------------------+
| Ubuntu 20.04 (ARM)                     | PASS               |
+----------------------------------------+--------------------+
| Ubuntu 22.04 (ARM)                     | PASS               |
+----------------------------------------+--------------------+
| Ubuntu 24.04 (ARM)                     | PASS               |
+----------------------------------------+--------------------+
| CentOS Stream 9 (ARM)                  | PASS               |
+----------------------------------------+--------------------+
| Debian 11 (Buster) (ARM)               | PASS               |
+----------------------------------------+--------------------+
| Debian 12 (arm)                        | PASS               |
+----------------------------------------+--------------------+
| Ubuntu 20.04 ARM Clang Cross Compile   | PASS               |
+----------------------------------------+--------------------+
| Ubuntu 20.04 aarch32 GCC Cross Compile | PASS               |
+----------------------------------------+--------------------+


RHEL9 (ARM)
	Kernel: Depends on container host
	Compiler: gcc 11.4.1 20231218 (Red Hat 11.4.1-3)

Ubuntu 20.04 ARM GCC Cross Compile
	Kernel: Depends on container host
	Compiler: aarch64-linux-gnu-gcc (Ubuntu 9.4.0-1ubuntu1~20.04.2) 9.4.0

Ubuntu 20.04 ARM SVE
	Kernel: Depends on container host
	Compiler: gcc (Ubuntu 10.5.0-1ubuntu1~20.04) 10.5.0

Debian 12 with MUSDK
	Kernel: Depends on container host
	Compiler: gcc (Debian 12.2.0-14) 12.2.0

Fedora 37 (ARM)
	Kernel: Depends on container host
	Compiler: gcc 12.3.1 20230508 (Red Hat 12.3.1-1)

Fedora 38 (ARM)
	Kernel: Depends on container host
	Compiler: gcc 13.2.1 20240316 (Red Hat 13.2.1-7)

Fedora 38 (ARM Clang)
	Kernel: Depends on container host
	Compiler: clang 16.0.6 (Fedora 16.0.6-4.fc38)

Fedora 39 (ARM)
	Kernel: Depends on container host
	Compiler: gcc 13.3.1 20240522 (Red Hat 13.3.1-1)

Fedora 39 (ARM Clang)
	Kernel: Depends on container host
	Compiler: clang 17.0.6 (Fedora 17.0.6-2.fc39)

Fedora 40 (ARM)
	Kernel: Depends on container host
	Compiler: gcc 14.2.1 20240801 (Red Hat 14.2.1-1)

Fedora 40 (ARM Clang)
	Kernel: Depends on container host
	Compiler: clang 18.1.6 (Fedora 18.1.6-3.fc40)

Ubuntu 20.04 (ARM)
	Kernel: Depends on container host
	Compiler: gcc (Ubuntu 9.4.0-1ubuntu1~20.04.2) 9.4.0

Ubuntu 22.04 (ARM)
	Kernel: Depends on container host
	Compiler: gcc (Ubuntu 11.4.0-1ubuntu1~22.04) 11.4.0

Ubuntu 24.04 (ARM)
	Kernel: Depends on container host
	Compiler: gcc (Ubuntu 13.2.0-23ubuntu4) 13.2.0

CentOS Stream 9 (ARM)
	Kernel: Depends on container host
	Compiler: gcc 11.4.1 20231218 (Red Hat 11.4.1-3)

Debian 11 (Buster) (ARM)
	Kernel: Depends on container host
	Compiler: gcc (Debian 10.2.1-6) 10.2.1 20210110

Debian 12 (arm)
	Kernel: Depends on container host
	Compiler: gcc (Debian 12.2.0-14) 12.2.0

Ubuntu 20.04 ARM Clang Cross Compile
	Kernel: Depends on container host
	Compiler: clang 10.0.0-4ubuntu1

Ubuntu 20.04 aarch32 GCC Cross Compile
	Kernel: Depends on container host
	Compiler: gcc 9.4.0

To view detailed results, visit:
https://lab.dpdk.org/results/dashboard/patchsets/31225/

UNH-IOL DPDK Community Lab

To manage your email subscriptions, visit: 
https://lab.dpdk.org/results/dashboard/preferences/subscriptions/