From mboxrd@z Thu Jan  1 00:00:00 1970
Return-Path: <test-report-bounces@dpdk.org>
Received: from mails.dpdk.org (mails.dpdk.org [217.70.189.124])
	by inbox.dpdk.org (Postfix) with ESMTP id 5A17545A82
	for <public@inbox.dpdk.org>; Thu,  3 Oct 2024 01:02:47 +0200 (CEST)
Received: from mails.dpdk.org (localhost [127.0.0.1])
	by mails.dpdk.org (Postfix) with ESMTP id B5B7B40285;
	Thu,  3 Oct 2024 01:02:46 +0200 (CEST)
Received: from mail-io1-f98.google.com (mail-io1-f98.google.com
 [209.85.166.98]) by mails.dpdk.org (Postfix) with ESMTP id E38F6400D7
 for <test-report@dpdk.org>; Thu,  3 Oct 2024 01:02:44 +0200 (CEST)
Received: by mail-io1-f98.google.com with SMTP id
 ca18e2360f4ac-82aa6be8457so14234739f.0
 for <test-report@dpdk.org>; Wed, 02 Oct 2024 16:02:44 -0700 (PDT)
DKIM-Signature: v=1; a=rsa-sha256; c=relaxed/relaxed;
 d=iol.unh.edu; s=unh-iol; t=1727910164; x=1728514964; darn=dpdk.org;
 h=references:in-reply-to:cc:to:from:subject:message-id:date:from:to
 :cc:subject:date:message-id:reply-to;
 bh=Fv45Ehzw5rsvzVnesrj3NTDjlv9efrdKWQlj+A8/0Yk=;
 b=Tu9a90inDGxxsWjIVyalx9J+306WERPJIvuXwNjLG/i4z25NMtuWpESlmN2brPQYLO
 NCuxN0blG/2Ew2Hp3t1Iq3bwmW0wWNMiX09otGfp7tsbfaLNK2c8eUitIMf6QizNiEKk
 Ec9ALHS6fLhw8Ept5/GPKC/uw9deBlxsujL5Q=
X-Google-DKIM-Signature: v=1; a=rsa-sha256; c=relaxed/relaxed;
 d=1e100.net; s=20230601; t=1727910164; x=1728514964;
 h=references:in-reply-to:cc:to:from:subject:message-id:date
 :x-gm-message-state:from:to:cc:subject:date:message-id:reply-to;
 bh=Fv45Ehzw5rsvzVnesrj3NTDjlv9efrdKWQlj+A8/0Yk=;
 b=bQswv8DUjGCvRen9nD8URSyUxpgMWyeid65ccDlYwqO1pnkoIxJhhaGHvpNNnKGC3D
 w019N71ZlfdF40JzhyEhY+brSCOLgzGolha4and30WEDYhm7oNzG8JVOqH+16VRNBX9s
 4vgIVrzDQTl30Ouf9xitCHd0GM2NGycC4YBfvxp63+Hyvafl3PJ2am0tJ7vgLjkmjMSE
 yYKLMDFhqXHGq+jf7AQUmSQeBzYuisRCCiaGV6nK+qbwevWUvgpr3RffA8gdnIEIO7uY
 D/tay2wmTlnUqG/rFvRLP8j8T+bODDrY9OPYF7bVLptRFy7oagFELEQLxzd1cKtCP4tL
 rzhw==
X-Gm-Message-State: AOJu0Ywn7GrwovZReXTnbdVUfCIsAV+f4ZL//by5dK7J85kEH0az6ewj
 lBTYnL97LUNvqBeHStA9RxMsjCE7uyYkqDY2cOL6bJ04PgSnjkmV6pZAYc1cRIOrXnZDJVqIdPc
 8D+lQNVoPTNOHB+iZAoc+dkObclM5HrgW/4huW4Ek
X-Google-Smtp-Source: AGHT+IETf3LQXcl47+4cW5on2lH0gIBuTtnw991TmIV0gad9TykEKSHnMH0QOU/CSytSf/0t3Jz6y4W+59LT
X-Received: by 2002:a05:6602:1d13:b0:82f:8fa6:8be9 with SMTP id
 ca18e2360f4ac-834e7737fe9mr99733839f.3.1727910163920; 
 Wed, 02 Oct 2024 16:02:43 -0700 (PDT)
Received: from postal.iol.unh.edu (postal.iol.unh.edu. [132.177.123.84])
 by smtp-relay.gmail.com with ESMTPS id
 8926c6da1cb9f-4db559baddbsm5359173.47.2024.10.02.16.02.43
 (version=TLS1_2 cipher=ECDHE-ECDSA-AES128-GCM-SHA256 bits=128/128);
 Wed, 02 Oct 2024 16:02:43 -0700 (PDT)
X-Relaying-Domain: iol.unh.edu
Date: Wed, 02 Oct 2024 16:02:43 -0700 (PDT)
Message-ID: <66fdd113.050a0220.a5d5d.05b9SMTPIN_ADDED_MISSING@mx.google.com>
Received: from [172.21.0.2] (unknown [172.18.0.240])
 by postal.iol.unh.edu (Postfix) with ESMTP id 5C5FA605C351;
 Wed,  2 Oct 2024 19:02:43 -0400 (EDT)
Subject: |SUCCESS| pw144937-144952 [PATCH] [v7,16/16] common/idpf: fix use af
From: dpdklab@iol.unh.edu
To: Test Report <test-report@dpdk.org>
Cc: dpdk-test-reports@iol.unh.edu
In-Reply-To: <20241002183918.161656-17-stephen@networkplumber.org>
References: <20241002183918.161656-17-stephen@networkplumber.org>
Content-Type: text/plain
X-BeenThere: test-report@dpdk.org
X-Mailman-Version: 2.1.29
Precedence: list
List-Id: automatic DPDK test reports <test-report.dpdk.org>
List-Unsubscribe: <https://mails.dpdk.org/options/test-report>,
 <mailto:test-report-request@dpdk.org?subject=unsubscribe>
List-Archive: <http://mails.dpdk.org/archives/test-report/>
List-Post: <mailto:test-report@dpdk.org>
List-Help: <mailto:test-report-request@dpdk.org?subject=help>
List-Subscribe: <https://mails.dpdk.org/listinfo/test-report>,
 <mailto:test-report-request@dpdk.org?subject=subscribe>
Errors-To: test-report-bounces@dpdk.org

Test-Label: iol-unit-amd64-testing
Test-Status: SUCCESS
http://dpdk.org/patch/144952

_Testing PASS_

Submitter: Stephen Hemminger <stephen@networkplumber.org>
Date: Wednesday, October 02 2024 18:37:54 
DPDK git baseline: Repo:dpdk
  Branch: master
  CommitID:b3846244b2b9245356d398d802ba3c975b2f4f63

144937-144952 --> testing pass

Upstream job id: Generic-Unit-Test-DPDK#269326

Test environment and result as below:

+---------------------+----------------+
|     Environment     | dpdk_unit_test |
+=====================+================+
| Windows Server 2022 | PASS           |
+---------------------+----------------+
| Debian Bullseye     | PASS           |
+---------------------+----------------+
| Debian 12           | PASS           |
+---------------------+----------------+
| Fedora 37           | PASS           |
+---------------------+----------------+
| Fedora 38           | PASS           |
+---------------------+----------------+
| Fedora 38 (Clang)   | PASS           |
+---------------------+----------------+
| Fedora 39           | PASS           |
+---------------------+----------------+
| Fedora 40           | PASS           |
+---------------------+----------------+
| Fedora 40 (Clang)   | PASS           |
+---------------------+----------------+
| RHEL8               | PASS           |
+---------------------+----------------+
| RHEL9               | PASS           |
+---------------------+----------------+
| Ubuntu 20.04        | PASS           |
+---------------------+----------------+
| Ubuntu 22.04        | PASS           |
+---------------------+----------------+
| Ubuntu 24.04        | PASS           |
+---------------------+----------------+
| Fedora 39 (Clang)   | PASS           |
+---------------------+----------------+
| CentOS Stream 9     | PASS           |
+---------------------+----------------+


Windows Server 2022
	Kernel: 10.0.20348.2031
	Compiler: clang 15.0.7, gcc 14.1.0 (MinGW), and MSVC VS 19.39.33521

Debian Bullseye
	Kernel: Depends on container host
	Compiler: gcc (Debian 10.2.1-6) 10.2.1 20210110

Debian 12
	Kernel: Depends on container host
	Compiler: gcc (Debian 12.2.0-14) 12.2.0

Fedora 37
	Kernel: Depends on container host system
	Compiler: gcc 12.3.1 20230508 (Red Hat 12.3.1-1)

Fedora 38
	Kernel: Depends on container host
	Compiler: gcc 13.2.1 20240316 (Red Hat 13.2.1-7)

Fedora 38 (Clang)
	Kernel: Depends on container host
	Compiler: clang 16.0.6 (Fedora 16.0.6-4.fc38)

Fedora 39
	Kernel: Depends on container host
	Compiler: gcc 13.3.1 20240522 (Red Hat 13.3.1-1)

Fedora 40
	Kernel: Depends on container host
	Compiler: gcc 14.2.1 20240801 (Red Hat 14.2.1-1)

Fedora 40 (Clang)
	Kernel: Depends on container host
	Compiler: clang 18.1.6 (Fedora 18.1.6-3.fc40)

RHEL8
	Kernel: Depends on container host
	Compiler: gcc 8.5.0 20210514 (Red Hat 8.5.0-22)

RHEL9
	Kernel: Depends on container host
	Compiler: gcc 11.4.1 20231218 (Red Hat 11.4.1-3)

Ubuntu 20.04
	Kernel: Depends on container host
	Compiler: gcc (Ubuntu 9.4.0-1ubuntu1~20.04.2) 9.4.0

Ubuntu 22.04
	Kernel: Depends on container host
	Compiler: gcc (Ubuntu 11.4.0-1ubuntu1~22.04) 11.4.0

Ubuntu 24.04
	Kernel: Depends on container host
	Compiler: gcc (Ubuntu 13.2.0-23ubuntu4) 13.2.0

Fedora 39 (Clang)
	Kernel: Depends on container host
	Compiler: clang 17.0.6 (Fedora 17.0.6-2.fc39)

CentOS Stream 9
	Kernel: Depends on container host
	Compiler: gcc 11.4.1 20231218 (Red Hat 11.4.1-3)

To view detailed results, visit:
https://lab.dpdk.org/results/dashboard/patchsets/31228/

UNH-IOL DPDK Community Lab

To manage your email subscriptions, visit: 
https://lab.dpdk.org/results/dashboard/preferences/subscriptions/