From mboxrd@z Thu Jan  1 00:00:00 1970
Return-Path: <test-report-bounces@dpdk.org>
Received: from mails.dpdk.org (mails.dpdk.org [217.70.189.124])
	by inbox.dpdk.org (Postfix) with ESMTP id 336F945A91
	for <public@inbox.dpdk.org>; Thu,  3 Oct 2024 09:37:30 +0200 (CEST)
Received: from mails.dpdk.org (localhost [127.0.0.1])
	by mails.dpdk.org (Postfix) with ESMTP id 166BC4025E;
	Thu,  3 Oct 2024 09:37:30 +0200 (CEST)
Received: from mail-il1-f228.google.com (mail-il1-f228.google.com
 [209.85.166.228])
 by mails.dpdk.org (Postfix) with ESMTP id D6CD0400D7
 for <test-report@dpdk.org>; Thu,  3 Oct 2024 09:37:28 +0200 (CEST)
Received: by mail-il1-f228.google.com with SMTP id
 e9e14a558f8ab-3a367da1f8cso2511155ab.2
 for <test-report@dpdk.org>; Thu, 03 Oct 2024 00:37:28 -0700 (PDT)
DKIM-Signature: v=1; a=rsa-sha256; c=relaxed/relaxed;
 d=iol.unh.edu; s=unh-iol; t=1727941048; x=1728545848; darn=dpdk.org;
 h=cc:to:from:subject:message-id:date:from:to:cc:subject:date
 :message-id:reply-to;
 bh=H3US7wfWGprZyGm+qTHi63/EUfRR2C7H7Gd+wgnzDE8=;
 b=iAAmafb/CIJnpVCXbbuHRBFmD2+RWXITzJx7iDwT0084ZtJy2fCZv4UHVMT7/AtK5W
 kQtoneR92oGM/wVoOeDMnr2gtNXs8+wOvvPj+emOimtdYxsWeADVopc3/HlwY9QBGfp/
 cVJQ3BUzq1v/BW33HHt5TMnvFGLBalgnwS0JE=
X-Google-DKIM-Signature: v=1; a=rsa-sha256; c=relaxed/relaxed;
 d=1e100.net; s=20230601; t=1727941048; x=1728545848;
 h=cc:to:from:subject:message-id:date:x-gm-message-state:from:to:cc
 :subject:date:message-id:reply-to;
 bh=H3US7wfWGprZyGm+qTHi63/EUfRR2C7H7Gd+wgnzDE8=;
 b=tdlS5DhhmVGdD2yqstdVhr7XfNRNb3kH7ysiVB9+prE+J6KyP5KDoQhUK0mo/Oug88
 ZG5o9Y9dnj9eHnsjljPhF8k90ia9Mn1bkkTRNhJqBpr4a5o0+stWVWP+0EzZE0rTrqta
 XAaLladxxD8qRQ+shjjr4j0tjAhgdeOAPmyd+5AaUuo4osKJ0gH/hdIvh+sBb2g3n+9L
 tQodCFeVayVuPPs8+FT7llGyTMZeC6ss5/6Q/ceLEn09JY5B2SaWrY5jNAeMZMccIsy1
 T8ogDzZ1fscUOa+a84FxinIU/Y+EjqwmRDBZk8nYZRBXzO/eGQaH+GJ23sRidywL4DGe
 nwbg==
X-Gm-Message-State: AOJu0Yzvcy2L0BKyfz/70JlraiCu8nKWne9DL1/eWFEO/Klx4GThGaoc
 kqbLlHb+0KPv6gcJpxrtTDnYQAXkJIQxRdyMFJhzHCjQ0emfAjQM/NiOBOkI3KNcSkm36EKXkNg
 Hk9aQqmQMV2tG6kOlquY8Nu1QI6ITiuTmeTfP2QbOWZzxEGLh
X-Google-Smtp-Source: AGHT+IHjiFLsVWgkFd5Nz4kzVpA0+7gArhmshdM0ffF6scfW/sSM3sEOkjrwaLtV3Dyk5jLCs1NHgJ2RvvMM
X-Received: by 2002:a05:6e02:1707:b0:3a0:a3f0:ff57 with SMTP id
 e9e14a558f8ab-3a36592acc9mr61561205ab.15.1727941047962; 
 Thu, 03 Oct 2024 00:37:27 -0700 (PDT)
Received: from postal.iol.unh.edu (postal.iol.unh.edu.
 [2606:4100:3880:1234::84]) by smtp-relay.gmail.com with ESMTPS id
 e9e14a558f8ab-3a370a52692sm369595ab.36.2024.10.03.00.37.27
 (version=TLS1_2 cipher=ECDHE-ECDSA-AES128-GCM-SHA256 bits=128/128);
 Thu, 03 Oct 2024 00:37:27 -0700 (PDT)
X-Relaying-Domain: iol.unh.edu
Date: Thu, 03 Oct 2024 00:37:27 -0700 (PDT)
Message-ID: <66fe49b7.050a0220.c2acb.251aSMTPIN_ADDED_MISSING@mx.google.com>
Received: from [172.21.0.2] (unknown [172.18.0.240])
 by postal.iol.unh.edu (Postfix) with ESMTP id 717766051839;
 Thu,  3 Oct 2024 03:37:27 -0400 (EDT)
Subject: |SUCCESS| [GIT MASTER] e8eb14e00d56027bef8569d68cf00e39670edca2
From: dpdklab@iol.unh.edu
To: Test Report <test-report@dpdk.org>
Cc: dpdk-test-reports@iol.unh.edu, Xueming Li <xuemingl@nvidia.com>,
 Christian Ehrhardt <christian.ehrhardt@canonical.com>,
 Kevin Traynor <ktraynor@redhat.com>, Luca Boccassi <bluca@debian.org>
Content-Type: text/plain
X-BeenThere: test-report@dpdk.org
X-Mailman-Version: 2.1.29
Precedence: list
List-Id: automatic DPDK test reports <test-report.dpdk.org>
List-Unsubscribe: <https://mails.dpdk.org/options/test-report>,
 <mailto:test-report-request@dpdk.org?subject=unsubscribe>
List-Archive: <http://mails.dpdk.org/archives/test-report/>
List-Post: <mailto:test-report@dpdk.org>
List-Help: <mailto:test-report-request@dpdk.org?subject=help>
List-Subscribe: <https://mails.dpdk.org/listinfo/test-report>,
 <mailto:test-report-request@dpdk.org?subject=subscribe>
Errors-To: test-report-bounces@dpdk.org

_Testing PASS_

Branch: tags/v23.11

e8eb14e00d56027bef8569d68cf00e39670edca2 --> testing pass

Upstream job id: ACVP-FIPS-testing#7154

Test environment and result as below:

+--------------------+----------------------+----------------------+
|    Environment     | compressdev_zlib_pmd | dpdk_fips_validation |
+====================+======================+======================+
| Ubuntu 22.04 (ARM) | PASS                 | SKIPPED              |
+--------------------+----------------------+----------------------+
| Ubuntu 22.04       | PASS                 | SKIPPED              |
+--------------------+----------------------+----------------------+
| Ubuntu 20.04       | SKIPPED              | PASS                 |
+--------------------+----------------------+----------------------+


Ubuntu 22.04 (ARM)
	Kernel: 5.15.0-97-generic
	Compiler: gcc gcc (Ubuntu 11.4.0-1ubuntu1~22.04) 11.4.0

Ubuntu 22.04
	Kernel: 5.15.0-100-generic
	Compiler: gcc gcc (Ubuntu 11.4.0-1ubuntu1~22.04) 11.4.0

Ubuntu 20.04
	Kernel: Depends on container host
	Compiler: gcc (Ubuntu 9.4.0-1ubuntu1~20.04.2) 9.4.0

To view detailed results, visit:
https://lab.dpdk.org/results/dashboard/tarballs/30829/

UNH-IOL DPDK Community Lab

To manage your email subscriptions, visit: 
https://lab.dpdk.org/results/dashboard/preferences/subscriptions/