From mboxrd@z Thu Jan  1 00:00:00 1970
Return-Path: <test-report-bounces@dpdk.org>
Received: from mails.dpdk.org (mails.dpdk.org [217.70.189.124])
	by inbox.dpdk.org (Postfix) with ESMTP id 888DC45AA5
	for <public@inbox.dpdk.org>; Fri,  4 Oct 2024 03:09:10 +0200 (CEST)
Received: from mails.dpdk.org (localhost [127.0.0.1])
	by mails.dpdk.org (Postfix) with ESMTP id 7EC964060F;
	Fri,  4 Oct 2024 03:09:10 +0200 (CEST)
Received: from mail-il1-f226.google.com (mail-il1-f226.google.com
 [209.85.166.226])
 by mails.dpdk.org (Postfix) with ESMTP id 64B1B402C9
 for <test-report@dpdk.org>; Fri,  4 Oct 2024 03:09:09 +0200 (CEST)
Received: by mail-il1-f226.google.com with SMTP id
 e9e14a558f8ab-3a2761f1227so5058435ab.0
 for <test-report@dpdk.org>; Thu, 03 Oct 2024 18:09:09 -0700 (PDT)
DKIM-Signature: v=1; a=rsa-sha256; c=relaxed/relaxed;
 d=iol.unh.edu; s=unh-iol; t=1728004149; x=1728608949; darn=dpdk.org;
 h=references:in-reply-to:cc:to:from:subject:message-id:date:from:to
 :cc:subject:date:message-id:reply-to;
 bh=Vj21Mtf5xQccXs46z/lyciU/H6HStNQqAbMKSCKMqQA=;
 b=XLW5NJ3NBnkMtwqgAD2aYZm7vCJCviPJXO/HTNngFo6tGVWc+5i1ko/AOqEDbrAcAQ
 A7vFh+qJ4JoYnxkUyTaHicErElzcoC3zFJZGpkx+0DuqNUVOF5bwkdXDUSnTNjHYtsOA
 3OaMqGnYorxkSTq8+ZavDHlDscCjWxrlLvBus=
X-Google-DKIM-Signature: v=1; a=rsa-sha256; c=relaxed/relaxed;
 d=1e100.net; s=20230601; t=1728004149; x=1728608949;
 h=references:in-reply-to:cc:to:from:subject:message-id:date
 :x-gm-message-state:from:to:cc:subject:date:message-id:reply-to;
 bh=Vj21Mtf5xQccXs46z/lyciU/H6HStNQqAbMKSCKMqQA=;
 b=lV8XfjT1s18Mbwe6ewJF3ePQ/NjSLGu2P8mnA9Lu81BpcAcaYdNi1CVxFbk3kydeLe
 8bz4tUWL4F/7T5cu6pbc8isihX9LM6VV2bL1Ecr5XLa28j09ACiPerMOcFaoVtbkdw07
 vzMhUvXMY6rkNrJseX4dCcQIbBdHLNpbusOkLCIEbA2k63EalyDx/2mgJB+3MYU8MMs2
 dpALZqWp3pN73DsUKfUYxa32bBvK9VRcu2rk0cxbT9DuRzU+++86JQE3CQXyygbGc+/v
 0JlLk4OGe4MDQPGP9xuQkoAS3R/nLyL/vRL9BD0fPA8xWiZQCehSsKtdB+zl94lbWAbT
 FLug==
X-Gm-Message-State: AOJu0Yy3awXFOWoc9rH+kXX4q62lMdIEX+VXS0hOeCZBEyj/6KwJS0i2
 gexUtnhvAi5LN/C4GLgjW6Ilj5CeKrvTVuzKxMAobQe1m1oWEsUrDocWPHXtdZC27Avils8LrAp
 vPYsU5eerZECYPS3EKtJXM6GU0++IXF2xVkRYkepe
X-Google-Smtp-Source: AGHT+IF+muM4TVyVec8zXjnEidydDTi85s7hnfQl7J4tTcEN/56O3MuJjiXgkLSm744PDLTej1ZNtNDxahON
X-Received: by 2002:a05:6e02:1c8b:b0:3a0:986e:e112 with SMTP id
 e9e14a558f8ab-3a375bd32admr9446625ab.23.1728004148663; 
 Thu, 03 Oct 2024 18:09:08 -0700 (PDT)
Received: from postal.iol.unh.edu (postal.iol.unh.edu. [132.177.123.84])
 by smtp-relay.gmail.com with ESMTPS id
 e9e14a558f8ab-3a370a5218asm1026595ab.28.2024.10.03.18.09.08
 (version=TLS1_2 cipher=ECDHE-ECDSA-AES128-GCM-SHA256 bits=128/128);
 Thu, 03 Oct 2024 18:09:08 -0700 (PDT)
X-Relaying-Domain: iol.unh.edu
Date: Thu, 03 Oct 2024 18:09:08 -0700 (PDT)
Message-ID: <66ff4034.050a0220.387eb7.6b51SMTPIN_ADDED_MISSING@mx.google.com>
Received: from [172.21.0.2] (unknown [172.18.0.240])
 by postal.iol.unh.edu (Postfix) with ESMTP id 4DDB06050A6B;
 Thu,  3 Oct 2024 21:09:08 -0400 (EDT)
Subject: |SUCCESS| pw144988-144990 [PATCH] [v3,3/3] crypto/ipsec_mb: add SM4 
From: dpdklab@iol.unh.edu
To: Test Report <test-report@dpdk.org>
Cc: dpdk-test-reports@iol.unh.edu
In-Reply-To: <20241003170513.1292339-3-brian.dooley@intel.com>
References: <20241003170513.1292339-3-brian.dooley@intel.com>
Content-Type: text/plain
X-BeenThere: test-report@dpdk.org
X-Mailman-Version: 2.1.29
Precedence: list
List-Id: automatic DPDK test reports <test-report.dpdk.org>
List-Unsubscribe: <https://mails.dpdk.org/options/test-report>,
 <mailto:test-report-request@dpdk.org?subject=unsubscribe>
List-Archive: <http://mails.dpdk.org/archives/test-report/>
List-Post: <mailto:test-report@dpdk.org>
List-Help: <mailto:test-report-request@dpdk.org?subject=help>
List-Subscribe: <https://mails.dpdk.org/listinfo/test-report>,
 <mailto:test-report-request@dpdk.org?subject=subscribe>
Errors-To: test-report-bounces@dpdk.org

Test-Label: iol-compile-arm64-testing
Test-Status: SUCCESS
http://dpdk.org/patch/144990

_Testing PASS_

Submitter: Brian Dooley <brian.dooley@intel.com>
Date: Thursday, October 03 2024 17:05:13 
DPDK git baseline: Repo:dpdk
  Branch: master
  CommitID:3b50d6c67a3c033a49739a0bd1a132aee6d9e324

144988-144990 --> testing pass

Upstream job id: Generic-DPDK-Compile-Meson#309502

Test environment and result as below:

+----------------------------------------+--------------------+
|              Environment               | dpdk_meson_compile |
+========================================+====================+
| RHEL9 (ARM)                            | PASS               |
+----------------------------------------+--------------------+
| Ubuntu 20.04 ARM GCC Cross Compile     | PASS               |
+----------------------------------------+--------------------+
| Ubuntu 20.04 ARM SVE                   | PASS               |
+----------------------------------------+--------------------+
| Debian 12 with MUSDK                   | PASS               |
+----------------------------------------+--------------------+
| Fedora 37 (ARM)                        | PASS               |
+----------------------------------------+--------------------+
| Fedora 38 (ARM)                        | PASS               |
+----------------------------------------+--------------------+
| Fedora 38 (ARM Clang)                  | PASS               |
+----------------------------------------+--------------------+
| Fedora 39 (ARM)                        | PASS               |
+----------------------------------------+--------------------+
| Fedora 39 (ARM Clang)                  | PASS               |
+----------------------------------------+--------------------+
| Fedora 40 (ARM)                        | PASS               |
+----------------------------------------+--------------------+
| Ubuntu 20.04 (ARM)                     | PASS               |
+----------------------------------------+--------------------+
| Fedora 40 (ARM Clang)                  | PASS               |
+----------------------------------------+--------------------+
| Ubuntu 22.04 (ARM)                     | PASS               |
+----------------------------------------+--------------------+
| Ubuntu 24.04 (ARM)                     | PASS               |
+----------------------------------------+--------------------+
| CentOS Stream 9 (ARM)                  | PASS               |
+----------------------------------------+--------------------+
| Debian 11 (Buster) (ARM)               | PASS               |
+----------------------------------------+--------------------+
| Debian 12 (arm)                        | PASS               |
+----------------------------------------+--------------------+
| Ubuntu 20.04 ARM Clang Cross Compile   | PASS               |
+----------------------------------------+--------------------+
| Ubuntu 20.04 aarch32 GCC Cross Compile | PASS               |
+----------------------------------------+--------------------+


RHEL9 (ARM)
	Kernel: Depends on container host
	Compiler: gcc 11.4.1 20231218 (Red Hat 11.4.1-3)

Ubuntu 20.04 ARM GCC Cross Compile
	Kernel: Depends on container host
	Compiler: aarch64-linux-gnu-gcc (Ubuntu 9.4.0-1ubuntu1~20.04.2) 9.4.0

Ubuntu 20.04 ARM SVE
	Kernel: Depends on container host
	Compiler: gcc (Ubuntu 10.5.0-1ubuntu1~20.04) 10.5.0

Debian 12 with MUSDK
	Kernel: Depends on container host
	Compiler: gcc (Debian 12.2.0-14) 12.2.0

Fedora 37 (ARM)
	Kernel: Depends on container host
	Compiler: gcc 12.3.1 20230508 (Red Hat 12.3.1-1)

Fedora 38 (ARM)
	Kernel: Depends on container host
	Compiler: gcc 13.2.1 20240316 (Red Hat 13.2.1-7)

Fedora 38 (ARM Clang)
	Kernel: Depends on container host
	Compiler: clang 16.0.6 (Fedora 16.0.6-4.fc38)

Fedora 39 (ARM)
	Kernel: Depends on container host
	Compiler: gcc 13.3.1 20240522 (Red Hat 13.3.1-1)

Fedora 39 (ARM Clang)
	Kernel: Depends on container host
	Compiler: clang 17.0.6 (Fedora 17.0.6-2.fc39)

Fedora 40 (ARM)
	Kernel: Depends on container host
	Compiler: gcc 14.2.1 20240801 (Red Hat 14.2.1-1)

Ubuntu 20.04 (ARM)
	Kernel: Depends on container host
	Compiler: gcc (Ubuntu 9.4.0-1ubuntu1~20.04.2) 9.4.0

Fedora 40 (ARM Clang)
	Kernel: Depends on container host
	Compiler: clang 18.1.6 (Fedora 18.1.6-3.fc40)

Ubuntu 22.04 (ARM)
	Kernel: Depends on container host
	Compiler: gcc (Ubuntu 11.4.0-1ubuntu1~22.04) 11.4.0

Ubuntu 24.04 (ARM)
	Kernel: Depends on container host
	Compiler: gcc (Ubuntu 13.2.0-23ubuntu4) 13.2.0

CentOS Stream 9 (ARM)
	Kernel: Depends on container host
	Compiler: gcc 11.4.1 20231218 (Red Hat 11.4.1-3)

Debian 11 (Buster) (ARM)
	Kernel: Depends on container host
	Compiler: gcc (Debian 10.2.1-6) 10.2.1 20210110

Debian 12 (arm)
	Kernel: Depends on container host
	Compiler: gcc (Debian 12.2.0-14) 12.2.0

Ubuntu 20.04 ARM Clang Cross Compile
	Kernel: Depends on container host
	Compiler: clang 10.0.0-4ubuntu1

Ubuntu 20.04 aarch32 GCC Cross Compile
	Kernel: Depends on container host
	Compiler: gcc 9.4.0

To view detailed results, visit:
https://lab.dpdk.org/results/dashboard/patchsets/31243/

UNH-IOL DPDK Community Lab

To manage your email subscriptions, visit: 
https://lab.dpdk.org/results/dashboard/preferences/subscriptions/