From mboxrd@z Thu Jan  1 00:00:00 1970
Return-Path: <test-report-bounces@dpdk.org>
Received: from mails.dpdk.org (mails.dpdk.org [217.70.189.124])
	by inbox.dpdk.org (Postfix) with ESMTP id 1960445AA5
	for <public@inbox.dpdk.org>; Fri,  4 Oct 2024 03:19:01 +0200 (CEST)
Received: from mails.dpdk.org (localhost [127.0.0.1])
	by mails.dpdk.org (Postfix) with ESMTP id 126734060F;
	Fri,  4 Oct 2024 03:19:01 +0200 (CEST)
Received: from mail-yb1-f225.google.com (mail-yb1-f225.google.com
 [209.85.219.225])
 by mails.dpdk.org (Postfix) with ESMTP id 761EA402C9
 for <test-report@dpdk.org>; Fri,  4 Oct 2024 03:18:59 +0200 (CEST)
Received: by mail-yb1-f225.google.com with SMTP id
 3f1490d57ef6-e25d380b464so1417908276.2
 for <test-report@dpdk.org>; Thu, 03 Oct 2024 18:18:59 -0700 (PDT)
DKIM-Signature: v=1; a=rsa-sha256; c=relaxed/relaxed;
 d=iol.unh.edu; s=unh-iol; t=1728004739; x=1728609539; darn=dpdk.org;
 h=references:in-reply-to:cc:to:from:subject:message-id:date:from:to
 :cc:subject:date:message-id:reply-to;
 bh=7AgKFDve3Dg9oXNbmvOIegm9etoHI8ptMCGpqHlUyHo=;
 b=HeSj/uN6654lqkJCn1nUWOu1sW8YQ65ZbB4DZ28MSfR66DDsUcUe2JutrIm85g9jLn
 xe3Kq82bxuMaWEnbnD3Etq9nTvjzCU8nd0/Lx84UBeOjA0QLr4//KmXliRzDdeYNLW+E
 e65lNzc9H7wDMi3pv6y2GlUVppdyCn2OFRnlg=
X-Google-DKIM-Signature: v=1; a=rsa-sha256; c=relaxed/relaxed;
 d=1e100.net; s=20230601; t=1728004739; x=1728609539;
 h=references:in-reply-to:cc:to:from:subject:message-id:date
 :x-gm-message-state:from:to:cc:subject:date:message-id:reply-to;
 bh=7AgKFDve3Dg9oXNbmvOIegm9etoHI8ptMCGpqHlUyHo=;
 b=uwrQwF/6j8aNwehqbQSDbZpz75KuX90PhY3/JR6TpieizzA7EToFOpLdZ8j2xKaAVw
 0IYJI3+QK3/SezmmCMbnkK951tO2aZJlbv86CaXy0HOOBWZgWeVTsAO5UXeYrdIOwg7c
 OeB9S5HMhA4dcV7TGpNy/uAH/YtnRNVbKrqAgkm9rN9Cx5EKeReK57+y/FuKuKKUE9Fk
 EeMeeKL/wsFwVqQEYu4486sC+KiojVMBxsnJBhiZpeq0gHsZOAo5zkqlOZNa09/a+4DT
 gUEFZM4Vt/iGaHp+0DBpJzb5DceqsttOLsWw9DrOBKjQ6IF1boSfS70C7W9c4Gw/9+P7
 rw/A==
X-Gm-Message-State: AOJu0YxkYx7IuteWV0U+pc2XUPz7Gmwqg9h7LsLqU+oMsfzfo1F9A0TI
 UMlkT/DgEl1sm5Ki1zLrBcAyk9nhe6bSgaOGzh6kXT+4Q8Vyvxn6YyIM+X7KkVd1uNWZqDOJ2KF
 3PRx+1lXhCx6KivOrnCAEiqT7QwlH/8GRhM2f+dgN
X-Google-Smtp-Source: AGHT+IHa8zoG34fprGm+/unBCHMHZXWN+33+HjGzMU6anuVSuJCROUGF3n00PWAePZ5ceD5NabvPUWgpWV+Z
X-Received: by 2002:a05:690c:f87:b0:6e2:ac0a:8926 with SMTP id
 00721157ae682-6e2c6ff5162mr12596117b3.9.1728004738750; 
 Thu, 03 Oct 2024 18:18:58 -0700 (PDT)
Received: from postal.iol.unh.edu (postal.iol.unh.edu. [132.177.123.84])
 by smtp-relay.gmail.com with ESMTPS id
 00721157ae682-6e2bc2bca46sm779307b3.59.2024.10.03.18.18.58
 (version=TLS1_2 cipher=ECDHE-ECDSA-AES128-GCM-SHA256 bits=128/128);
 Thu, 03 Oct 2024 18:18:58 -0700 (PDT)
X-Relaying-Domain: iol.unh.edu
Date: Thu, 03 Oct 2024 18:18:58 -0700 (PDT)
Message-ID: <66ff4282.050a0220.348c8b.59cfSMTPIN_ADDED_MISSING@mx.google.com>
Received: from [172.21.0.2] (unknown [172.18.0.240])
 by postal.iol.unh.edu (Postfix) with ESMTP id 565D46050A6B;
 Thu,  3 Oct 2024 21:18:58 -0400 (EDT)
Subject: |SUCCESS| pw144988-144990 [PATCH] [v3,3/3] crypto/ipsec_mb: add SM4 
From: dpdklab@iol.unh.edu
To: Test Report <test-report@dpdk.org>
Cc: dpdk-test-reports@iol.unh.edu
In-Reply-To: <20241003170513.1292339-3-brian.dooley@intel.com>
References: <20241003170513.1292339-3-brian.dooley@intel.com>
Content-Type: text/plain
X-BeenThere: test-report@dpdk.org
X-Mailman-Version: 2.1.29
Precedence: list
List-Id: automatic DPDK test reports <test-report.dpdk.org>
List-Unsubscribe: <https://mails.dpdk.org/options/test-report>,
 <mailto:test-report-request@dpdk.org?subject=unsubscribe>
List-Archive: <http://mails.dpdk.org/archives/test-report/>
List-Post: <mailto:test-report@dpdk.org>
List-Help: <mailto:test-report-request@dpdk.org?subject=help>
List-Subscribe: <https://mails.dpdk.org/listinfo/test-report>,
 <mailto:test-report-request@dpdk.org?subject=subscribe>
Errors-To: test-report-bounces@dpdk.org

Test-Label: iol-unit-arm64-testing
Test-Status: SUCCESS
http://dpdk.org/patch/144990

_Testing PASS_

Submitter: Brian Dooley <brian.dooley@intel.com>
Date: Thursday, October 03 2024 17:05:13 
DPDK git baseline: Repo:dpdk
  Branch: master
  CommitID:3b50d6c67a3c033a49739a0bd1a132aee6d9e324

144988-144990 --> testing pass

Upstream job id: Generic-Unit-Test-DPDK#269754

Test environment and result as below:

+-----------------------------+---------------------------+--------------+------------------------------+----------------+
|         Environment         | cryptodev_sw_zuc_autotest | lpm_autotest | cryptodev_sw_snow3g_autotest | dpdk_unit_test |
+=============================+===========================+==============+==============================+================+
| Debian 12 (arm)             | PASS                      | SKIPPED      | PASS                         | PASS           |
+-----------------------------+---------------------------+--------------+------------------------------+----------------+
| Ubuntu 20.04 ARM SVE        | SKIPPED                   | PASS         | SKIPPED                      | SKIPPED        |
+-----------------------------+---------------------------+--------------+------------------------------+----------------+
| CentOS Stream 9 (ARM)       | SKIPPED                   | SKIPPED      | SKIPPED                      | PASS           |
+-----------------------------+---------------------------+--------------+------------------------------+----------------+
| Debian 11 (Buster) (ARM)    | SKIPPED                   | SKIPPED      | SKIPPED                      | PASS           |
+-----------------------------+---------------------------+--------------+------------------------------+----------------+
| Fedora 37 (ARM)             | SKIPPED                   | SKIPPED      | SKIPPED                      | PASS           |
+-----------------------------+---------------------------+--------------+------------------------------+----------------+
| Fedora 38 (ARM)             | SKIPPED                   | SKIPPED      | SKIPPED                      | PASS           |
+-----------------------------+---------------------------+--------------+------------------------------+----------------+
| Fedora 38 (ARM Clang)       | SKIPPED                   | SKIPPED      | SKIPPED                      | PASS           |
+-----------------------------+---------------------------+--------------+------------------------------+----------------+
| Fedora 39 (ARM)             | SKIPPED                   | SKIPPED      | SKIPPED                      | PASS           |
+-----------------------------+---------------------------+--------------+------------------------------+----------------+
| Fedora 40 (ARM Clang)       | SKIPPED                   | SKIPPED      | SKIPPED                      | PASS           |
+-----------------------------+---------------------------+--------------+------------------------------+----------------+
| 32-bit Ubuntu 20.04.4 (ARM) | SKIPPED                   | SKIPPED      | SKIPPED                      | PASS           |
+-----------------------------+---------------------------+--------------+------------------------------+----------------+
| Fedora 39 (ARM Clang)       | SKIPPED                   | SKIPPED      | SKIPPED                      | PASS           |
+-----------------------------+---------------------------+--------------+------------------------------+----------------+
| Fedora 40 (ARM)             | SKIPPED                   | SKIPPED      | SKIPPED                      | PASS           |
+-----------------------------+---------------------------+--------------+------------------------------+----------------+
| RHEL9 (ARM)                 | SKIPPED                   | SKIPPED      | SKIPPED                      | PASS           |
+-----------------------------+---------------------------+--------------+------------------------------+----------------+
| Ubuntu 20.04 (ARM)          | SKIPPED                   | SKIPPED      | SKIPPED                      | PASS           |
+-----------------------------+---------------------------+--------------+------------------------------+----------------+
| Ubuntu 24.04 (ARM)          | SKIPPED                   | SKIPPED      | SKIPPED                      | PASS           |
+-----------------------------+---------------------------+--------------+------------------------------+----------------+
| Ubuntu 22.04 (ARM)          | SKIPPED                   | SKIPPED      | SKIPPED                      | PASS           |
+-----------------------------+---------------------------+--------------+------------------------------+----------------+


Debian 12 (arm)
	Kernel: Depends on container host
	Compiler: gcc (Debian 12.2.0-14) 12.2.0

Ubuntu 20.04 ARM SVE
	Kernel: Depends on container host
	Compiler: gcc (Ubuntu 10.5.0-1ubuntu1~20.04) 10.5.0

CentOS Stream 9 (ARM)
	Kernel: Depends on container host
	Compiler: gcc 11.4.1 20231218 (Red Hat 11.4.1-3)

Debian 11 (Buster) (ARM)
	Kernel: Depends on container host
	Compiler: gcc (Debian 10.2.1-6) 10.2.1 20210110

Fedora 37 (ARM)
	Kernel: Depends on container host
	Compiler: gcc 12.3.1 20230508 (Red Hat 12.3.1-1)

Fedora 38 (ARM)
	Kernel: Depends on container host
	Compiler: gcc 13.2.1 20240316 (Red Hat 13.2.1-7)

Fedora 38 (ARM Clang)
	Kernel: Depends on container host
	Compiler: clang 16.0.6 (Fedora 16.0.6-4.fc38)

Fedora 39 (ARM)
	Kernel: Depends on container host
	Compiler: gcc 13.3.1 20240522 (Red Hat 13.3.1-1)

Fedora 40 (ARM Clang)
	Kernel: Depends on container host
	Compiler: clang 18.1.6 (Fedora 18.1.6-3.fc40)

32-bit Ubuntu 20.04.4 (ARM)
	Kernel: 5.4.0-155-generic aarch64
	Compiler: gcc 9.4

Fedora 39 (ARM Clang)
	Kernel: Depends on container host
	Compiler: clang 17.0.6 (Fedora 17.0.6-2.fc39)

Fedora 40 (ARM)
	Kernel: Depends on container host
	Compiler: gcc 14.2.1 20240801 (Red Hat 14.2.1-1)

RHEL9 (ARM)
	Kernel: Depends on container host
	Compiler: gcc 11.4.1 20231218 (Red Hat 11.4.1-3)

Ubuntu 20.04 (ARM)
	Kernel: Depends on container host
	Compiler: gcc (Ubuntu 9.4.0-1ubuntu1~20.04.2) 9.4.0

Ubuntu 24.04 (ARM)
	Kernel: Depends on container host
	Compiler: gcc (Ubuntu 13.2.0-23ubuntu4) 13.2.0

Ubuntu 22.04 (ARM)
	Kernel: Depends on container host
	Compiler: gcc (Ubuntu 11.4.0-1ubuntu1~22.04) 11.4.0

To view detailed results, visit:
https://lab.dpdk.org/results/dashboard/patchsets/31243/

UNH-IOL DPDK Community Lab

To manage your email subscriptions, visit: 
https://lab.dpdk.org/results/dashboard/preferences/subscriptions/