From mboxrd@z Thu Jan  1 00:00:00 1970
Return-Path: <test-report-bounces@dpdk.org>
Received: from mails.dpdk.org (mails.dpdk.org [217.70.189.124])
	by inbox.dpdk.org (Postfix) with ESMTP id 9BAC945AAC
	for <public@inbox.dpdk.org>; Fri,  4 Oct 2024 11:47:15 +0200 (CEST)
Received: from mails.dpdk.org (localhost [127.0.0.1])
	by mails.dpdk.org (Postfix) with ESMTP id 700BA4027F;
	Fri,  4 Oct 2024 11:47:15 +0200 (CEST)
Received: from mail-oo1-f98.google.com (mail-oo1-f98.google.com
 [209.85.161.98]) by mails.dpdk.org (Postfix) with ESMTP id 50E8540268
 for <test-report@dpdk.org>; Fri,  4 Oct 2024 11:47:14 +0200 (CEST)
Received: by mail-oo1-f98.google.com with SMTP id
 006d021491bc7-5e20de1d302so914949eaf.0
 for <test-report@dpdk.org>; Fri, 04 Oct 2024 02:47:14 -0700 (PDT)
DKIM-Signature: v=1; a=rsa-sha256; c=relaxed/relaxed;
 d=iol.unh.edu; s=unh-iol; t=1728035233; x=1728640033; darn=dpdk.org;
 h=references:in-reply-to:cc:to:from:subject:message-id:date:from:to
 :cc:subject:date:message-id:reply-to;
 bh=1mMLA6cZbXeXSz0/gb5TNxhMI1scZ7DlA+hv75MeLz4=;
 b=RVv6H4KustoVR0l1W6a58LJ743CGHI2+XVUmG9iyugRBmn0STk2DYvEfelMFdtC62n
 qdAwXXLnhOdNjon2uLVUW2EP7gz5ZVwIVSEcZ+9K9wgphjsJGqOj9N1pmQZ3r4fl6Jnw
 tKh7dR1XdX7e/V+H8mk4cCO8nYIpzUHKTlHTg=
X-Google-DKIM-Signature: v=1; a=rsa-sha256; c=relaxed/relaxed;
 d=1e100.net; s=20230601; t=1728035233; x=1728640033;
 h=references:in-reply-to:cc:to:from:subject:message-id:date
 :x-gm-message-state:from:to:cc:subject:date:message-id:reply-to;
 bh=1mMLA6cZbXeXSz0/gb5TNxhMI1scZ7DlA+hv75MeLz4=;
 b=qIUFhO/izGATibUN2D0KPSXiIiUZpno9waiWoNmcggypmdAVFJWQE3m7zK6sjVd2gj
 xpJYQ0kgNG0o+gAq7exNdcy/QCbdfU4B9SnGcCu/vlyUmHJLQzlUZiQ5nXijYohiurmF
 k5O96TDMHtCCPINWygeUE6yPfOqjFedrbo44cnkvpkXKJOZGYE8FeNV+o2tdB2UWtTCT
 I57A4RUoteVPzkiJhVCdURRbP138CKteM/Y8cOySiDhhEsLY36zb1D0msWZXjQGpssTt
 /rFbYAHsrqhGw0BD6GGIfNppr5AMVZ+/XqDlXNlyxkbLXnhqjXY0RT/zNXhSQ2N8ap6/
 9Wkw==
X-Gm-Message-State: AOJu0YwwINuCZ6iemhHULLkKwze1pK6MvnJMY2eE0yy3OlZR2A7wOTQ6
 MQB4lechAHko+SaESpBt3OZQVY3s2p5woe3REvfhhWN33v+zTh40V4mMA7G0irJ7zICKioy6CTS
 EekwKTLJZHMVEsTg/PFSNOvQYqrpsHN4MH4py/RRz
X-Google-Smtp-Source: AGHT+IEHLSjjQphOkT+p8Ac3ZMoP+pemMitJIkGhpWKPYjlnv97KVOWFDGcBvbwz+TYsoWl4K3Ni+BwVacNJ
X-Received: by 2002:a05:6871:51e7:b0:287:ef4:6693 with SMTP id
 586e51a60fabf-287c1da9eccmr1278178fac.18.1728035233394; 
 Fri, 04 Oct 2024 02:47:13 -0700 (PDT)
Received: from postal.iol.unh.edu (postal.iol.unh.edu. [132.177.123.84])
 by smtp-relay.gmail.com with ESMTPS id
 586e51a60fabf-287abbdfbe7sm184402fac.46.2024.10.04.02.47.13
 (version=TLS1_2 cipher=ECDHE-ECDSA-AES128-GCM-SHA256 bits=128/128);
 Fri, 04 Oct 2024 02:47:13 -0700 (PDT)
X-Relaying-Domain: iol.unh.edu
Date: Fri, 04 Oct 2024 02:47:13 -0700 (PDT)
Message-ID: <66ffb9a1.050a0220.1e3a1d.c5faSMTPIN_ADDED_MISSING@mx.google.com>
Received: from [172.21.0.2] (unknown [172.18.0.240])
 by postal.iol.unh.edu (Postfix) with ESMTP id 782A06050A6B;
 Fri,  4 Oct 2024 05:47:12 -0400 (EDT)
Subject: |SUCCESS| pw145002-145004 [PATCH] [v14,3/3] event/dsw: add capabilit
From: dpdklab@iol.unh.edu
To: Test Report <test-report@dpdk.org>
Cc: dpdk-test-reports@iol.unh.edu
In-Reply-To: <20241003205002.4090954-4-abdullah.sevincer@intel.com>
References: <20241003205002.4090954-4-abdullah.sevincer@intel.com>
Content-Type: text/plain
X-BeenThere: test-report@dpdk.org
X-Mailman-Version: 2.1.29
Precedence: list
List-Id: automatic DPDK test reports <test-report.dpdk.org>
List-Unsubscribe: <https://mails.dpdk.org/options/test-report>,
 <mailto:test-report-request@dpdk.org?subject=unsubscribe>
List-Archive: <http://mails.dpdk.org/archives/test-report/>
List-Post: <mailto:test-report@dpdk.org>
List-Help: <mailto:test-report-request@dpdk.org?subject=help>
List-Subscribe: <https://mails.dpdk.org/listinfo/test-report>,
 <mailto:test-report-request@dpdk.org?subject=subscribe>
Errors-To: test-report-bounces@dpdk.org

Test-Label: iol-sample-apps-testing
Test-Status: SUCCESS
http://dpdk.org/patch/145004

_Testing PASS_

Submitter: Abdullah Sevincer <abdullah.sevincer@intel.com>
Date: Thursday, October 03 2024 20:50:02 
DPDK git baseline: Repo:dpdk
  Branch: master
  CommitID:2b843cac232eb3f2fa79e4254e21766817e2019f

145002-145004 --> testing pass

Upstream job id: ACVP-FIPS-testing#7169

Test environment and result as below:

+--------------------+----------------------+----------------------+
|    Environment     | compressdev_zlib_pmd | dpdk_fips_validation |
+====================+======================+======================+
| Ubuntu 22.04 (ARM) | PASS                 | SKIPPED              |
+--------------------+----------------------+----------------------+
| Ubuntu 22.04       | PASS                 | SKIPPED              |
+--------------------+----------------------+----------------------+
| Ubuntu 20.04       | SKIPPED              | PASS                 |
+--------------------+----------------------+----------------------+


Ubuntu 22.04 (ARM)
	Kernel: 5.15.0-97-generic
	Compiler: gcc gcc (Ubuntu 11.4.0-1ubuntu1~22.04) 11.4.0

Ubuntu 22.04
	Kernel: 5.15.0-100-generic
	Compiler: gcc gcc (Ubuntu 11.4.0-1ubuntu1~22.04) 11.4.0

Ubuntu 20.04
	Kernel: Depends on container host
	Compiler: gcc (Ubuntu 9.4.0-1ubuntu1~20.04.2) 9.4.0

To view detailed results, visit:
https://lab.dpdk.org/results/dashboard/patchsets/31248/

UNH-IOL DPDK Community Lab

To manage your email subscriptions, visit: 
https://lab.dpdk.org/results/dashboard/preferences/subscriptions/