From mboxrd@z Thu Jan  1 00:00:00 1970
Return-Path: <test-report-bounces@dpdk.org>
Received: from mails.dpdk.org (mails.dpdk.org [217.70.189.124])
	by inbox.dpdk.org (Postfix) with ESMTP id 3B8EC45AAD
	for <public@inbox.dpdk.org>; Fri,  4 Oct 2024 12:17:40 +0200 (CEST)
Received: from mails.dpdk.org (localhost [127.0.0.1])
	by mails.dpdk.org (Postfix) with ESMTP id 1B51F4027F;
	Fri,  4 Oct 2024 12:17:40 +0200 (CEST)
Received: from mail-yb1-f228.google.com (mail-yb1-f228.google.com
 [209.85.219.228])
 by mails.dpdk.org (Postfix) with ESMTP id 4DFE340268
 for <test-report@dpdk.org>; Fri,  4 Oct 2024 12:17:38 +0200 (CEST)
Received: by mail-yb1-f228.google.com with SMTP id
 3f1490d57ef6-e26290a13d5so1784778276.1
 for <test-report@dpdk.org>; Fri, 04 Oct 2024 03:17:38 -0700 (PDT)
DKIM-Signature: v=1; a=rsa-sha256; c=relaxed/relaxed;
 d=iol.unh.edu; s=unh-iol; t=1728037057; x=1728641857; darn=dpdk.org;
 h=references:in-reply-to:cc:to:from:subject:message-id:date:from:to
 :cc:subject:date:message-id:reply-to;
 bh=7IL21vlhgrnOztSSO9LUZbkVGmP232fBpO2A5epXqKU=;
 b=EBianGYxWOvBjyjbI2kZ289gTv6ow7ESOiv5MYSPZgpWmwewk3cWAL2604zUaOqxQe
 iFylqQbibjh5dRgEaOsx42gfaGPbFQJOyA23xZuxEHmEM4Cy3VKOlyaniZ9XKq5rHgal
 1NW/AtsvHJ8gTrBPMAEjuJwVTF3raVmzSXz3o=
X-Google-DKIM-Signature: v=1; a=rsa-sha256; c=relaxed/relaxed;
 d=1e100.net; s=20230601; t=1728037057; x=1728641857;
 h=references:in-reply-to:cc:to:from:subject:message-id:date
 :x-gm-message-state:from:to:cc:subject:date:message-id:reply-to;
 bh=7IL21vlhgrnOztSSO9LUZbkVGmP232fBpO2A5epXqKU=;
 b=DcSGXIFHa3rnQp0mVHdCMin9eb2WxWCkL7qwu7GlezbqCLTz+SzXUr9ZgDrV9NJ+fx
 c7KRttAlS4SIilmZubZi/tVQeAtW43HHmMkyIi1wfTqfnrXs8uE2lIxoIXJmWohbDTTi
 mBnj6NhyFvbr1XJ3hPrZlvySx1pkPBhfyzw4zpG7iVVEDVtgNW0GWXKppYt6joHDeY/K
 BVsMa9M+9aMC0zeo2GBm1wL1qLnu1jRjGUlN66EbASl01Zkj9F9tx/Q75yGP6pYWYrwW
 1eCfyY2Nr+Ip3vvDBbPl0WbLmXczhvbUDZtP+rbn7OF7AkXJKFwx+iLfSQ1iUWACjV0G
 b3gQ==
X-Gm-Message-State: AOJu0YzhpPkPD7C3s0GjLuRN8tJWBTy7Gg097/gydK+YqaVe/UFpmZXH
 4pQ8MXZjw8yl2V30vg5tjFdBvZ/LfeIzep1N9rziaoptMXr5bH4gf7+qP3k+vpfb4LNVazs4qsw
 b4yMpSqjVer2RZVrvhnpexKNZcReiikRMusMZeWao/i/QKZkqT5eaHLHD
X-Google-Smtp-Source: AGHT+IGIuIQ2KpG//mo+mVr9HvtL5nxaiNK+bQPX9g+QxuJ4Q12LZiXm8PmwSCJkNxMaGIN9v+vBDC1YaTsa
X-Received: by 2002:a05:6902:220a:b0:e28:9037:f773 with SMTP id
 3f1490d57ef6-e2893901878mr1605278276.10.1728037057588; 
 Fri, 04 Oct 2024 03:17:37 -0700 (PDT)
Received: from postal.iol.unh.edu (postal.iol.unh.edu.
 [2606:4100:3880:1234::84]) by smtp-relay.gmail.com with ESMTPS id
 3f1490d57ef6-e2885d1e860sm41795276.4.2024.10.04.03.17.37
 (version=TLS1_2 cipher=ECDHE-ECDSA-AES128-GCM-SHA256 bits=128/128);
 Fri, 04 Oct 2024 03:17:37 -0700 (PDT)
X-Relaying-Domain: iol.unh.edu
Date: Fri, 04 Oct 2024 03:17:37 -0700 (PDT)
Message-ID: <66ffc0c1.250a0220.8d99b.2a57SMTPIN_ADDED_MISSING@mx.google.com>
Received: from [172.21.0.2] (unknown [172.18.0.240])
 by postal.iol.unh.edu (Postfix) with ESMTP id 46D5E6050A6B;
 Fri,  4 Oct 2024 06:17:37 -0400 (EDT)
Subject: |SUCCESS| pw145005-145014 [PATCH] [v2,10/10] baseband/acc: cosmetic 
From: dpdklab@iol.unh.edu
To: Test Report <test-report@dpdk.org>
Cc: dpdk-test-reports@iol.unh.edu
In-Reply-To: <20241003204912.131319-11-hernan.vargas@intel.com>
References: <20241003204912.131319-11-hernan.vargas@intel.com>
Content-Type: text/plain
X-BeenThere: test-report@dpdk.org
X-Mailman-Version: 2.1.29
Precedence: list
List-Id: automatic DPDK test reports <test-report.dpdk.org>
List-Unsubscribe: <https://mails.dpdk.org/options/test-report>,
 <mailto:test-report-request@dpdk.org?subject=unsubscribe>
List-Archive: <http://mails.dpdk.org/archives/test-report/>
List-Post: <mailto:test-report@dpdk.org>
List-Help: <mailto:test-report-request@dpdk.org?subject=help>
List-Subscribe: <https://mails.dpdk.org/listinfo/test-report>,
 <mailto:test-report-request@dpdk.org?subject=subscribe>
Errors-To: test-report-bounces@dpdk.org

Test-Label: iol-unit-arm64-testing
Test-Status: SUCCESS
http://dpdk.org/patch/145014

_Testing PASS_

Submitter: Hernan Vargas <hernan.vargas@intel.com>
Date: Thursday, October 03 2024 20:49:12 
DPDK git baseline: Repo:dpdk
  Branch: master
  CommitID:a236b965a9213bf6eaef408793b0edd1f692e84c

145005-145014 --> testing pass

Upstream job id: Generic-Unit-Test-DPDK#269944

Test environment and result as below:

+-----------------------------+--------------+----------------+---------------------------+------------------------------+
|         Environment         | lpm_autotest | dpdk_unit_test | cryptodev_sw_zuc_autotest | cryptodev_sw_snow3g_autotest |
+=============================+==============+================+===========================+==============================+
| Ubuntu 20.04 ARM SVE        | PASS         | SKIPPED        | SKIPPED                   | SKIPPED                      |
+-----------------------------+--------------+----------------+---------------------------+------------------------------+
| 32-bit Ubuntu 20.04.4 (ARM) | SKIPPED      | PASS           | SKIPPED                   | SKIPPED                      |
+-----------------------------+--------------+----------------+---------------------------+------------------------------+
| CentOS Stream 9 (ARM)       | SKIPPED      | PASS           | SKIPPED                   | SKIPPED                      |
+-----------------------------+--------------+----------------+---------------------------+------------------------------+
| Debian 12 (arm)             | SKIPPED      | PASS           | PASS                      | PASS                         |
+-----------------------------+--------------+----------------+---------------------------+------------------------------+
| Fedora 37 (ARM)             | SKIPPED      | PASS           | SKIPPED                   | SKIPPED                      |
+-----------------------------+--------------+----------------+---------------------------+------------------------------+
| Debian 11 (Buster) (ARM)    | SKIPPED      | PASS           | SKIPPED                   | SKIPPED                      |
+-----------------------------+--------------+----------------+---------------------------+------------------------------+
| Fedora 38 (ARM Clang)       | SKIPPED      | PASS           | SKIPPED                   | SKIPPED                      |
+-----------------------------+--------------+----------------+---------------------------+------------------------------+
| Fedora 38 (ARM)             | SKIPPED      | PASS           | SKIPPED                   | SKIPPED                      |
+-----------------------------+--------------+----------------+---------------------------+------------------------------+
| Fedora 39 (ARM)             | SKIPPED      | PASS           | SKIPPED                   | SKIPPED                      |
+-----------------------------+--------------+----------------+---------------------------+------------------------------+
| Fedora 39 (ARM Clang)       | SKIPPED      | PASS           | SKIPPED                   | SKIPPED                      |
+-----------------------------+--------------+----------------+---------------------------+------------------------------+
| Fedora 40 (ARM)             | SKIPPED      | PASS           | SKIPPED                   | SKIPPED                      |
+-----------------------------+--------------+----------------+---------------------------+------------------------------+
| Fedora 40 (ARM Clang)       | SKIPPED      | PASS           | SKIPPED                   | SKIPPED                      |
+-----------------------------+--------------+----------------+---------------------------+------------------------------+
| Ubuntu 20.04 (ARM)          | SKIPPED      | PASS           | SKIPPED                   | SKIPPED                      |
+-----------------------------+--------------+----------------+---------------------------+------------------------------+
| RHEL9 (ARM)                 | SKIPPED      | PASS           | SKIPPED                   | SKIPPED                      |
+-----------------------------+--------------+----------------+---------------------------+------------------------------+
| Ubuntu 22.04 (ARM)          | SKIPPED      | PASS           | SKIPPED                   | SKIPPED                      |
+-----------------------------+--------------+----------------+---------------------------+------------------------------+
| Ubuntu 24.04 (ARM)          | SKIPPED      | PASS           | SKIPPED                   | SKIPPED                      |
+-----------------------------+--------------+----------------+---------------------------+------------------------------+


Ubuntu 20.04 ARM SVE
	Kernel: Depends on container host
	Compiler: gcc (Ubuntu 10.5.0-1ubuntu1~20.04) 10.5.0

32-bit Ubuntu 20.04.4 (ARM)
	Kernel: 5.4.0-155-generic aarch64
	Compiler: gcc 9.4

CentOS Stream 9 (ARM)
	Kernel: Depends on container host
	Compiler: gcc 11.4.1 20231218 (Red Hat 11.4.1-3)

Debian 12 (arm)
	Kernel: Depends on container host
	Compiler: gcc (Debian 12.2.0-14) 12.2.0

Fedora 37 (ARM)
	Kernel: Depends on container host
	Compiler: gcc 12.3.1 20230508 (Red Hat 12.3.1-1)

Debian 11 (Buster) (ARM)
	Kernel: Depends on container host
	Compiler: gcc (Debian 10.2.1-6) 10.2.1 20210110

Fedora 38 (ARM Clang)
	Kernel: Depends on container host
	Compiler: clang 16.0.6 (Fedora 16.0.6-4.fc38)

Fedora 38 (ARM)
	Kernel: Depends on container host
	Compiler: gcc 13.2.1 20240316 (Red Hat 13.2.1-7)

Fedora 39 (ARM)
	Kernel: Depends on container host
	Compiler: gcc 13.3.1 20240522 (Red Hat 13.3.1-1)

Fedora 39 (ARM Clang)
	Kernel: Depends on container host
	Compiler: clang 17.0.6 (Fedora 17.0.6-2.fc39)

Fedora 40 (ARM)
	Kernel: Depends on container host
	Compiler: gcc 14.2.1 20240801 (Red Hat 14.2.1-1)

Fedora 40 (ARM Clang)
	Kernel: Depends on container host
	Compiler: clang 18.1.6 (Fedora 18.1.6-3.fc40)

Ubuntu 20.04 (ARM)
	Kernel: Depends on container host
	Compiler: gcc (Ubuntu 9.4.0-1ubuntu1~20.04.2) 9.4.0

RHEL9 (ARM)
	Kernel: Depends on container host
	Compiler: gcc 11.4.1 20231218 (Red Hat 11.4.1-3)

Ubuntu 22.04 (ARM)
	Kernel: Depends on container host
	Compiler: gcc (Ubuntu 11.4.0-1ubuntu1~22.04) 11.4.0

Ubuntu 24.04 (ARM)
	Kernel: Depends on container host
	Compiler: gcc (Ubuntu 13.2.0-23ubuntu4) 13.2.0

To view detailed results, visit:
https://lab.dpdk.org/results/dashboard/patchsets/31249/

UNH-IOL DPDK Community Lab

To manage your email subscriptions, visit: 
https://lab.dpdk.org/results/dashboard/preferences/subscriptions/