From mboxrd@z Thu Jan  1 00:00:00 1970
Return-Path: <test-report-bounces@dpdk.org>
Received: from mails.dpdk.org (mails.dpdk.org [217.70.189.124])
	by inbox.dpdk.org (Postfix) with ESMTP id B6BD445AAF
	for <public@inbox.dpdk.org>; Fri,  4 Oct 2024 20:57:30 +0200 (CEST)
Received: from mails.dpdk.org (localhost [127.0.0.1])
	by mails.dpdk.org (Postfix) with ESMTP id B15B642EAF;
	Fri,  4 Oct 2024 20:57:30 +0200 (CEST)
Received: from mail-qt1-f228.google.com (mail-qt1-f228.google.com
 [209.85.160.228])
 by mails.dpdk.org (Postfix) with ESMTP id 03CAA4028E
 for <test-report@dpdk.org>; Fri,  4 Oct 2024 20:57:30 +0200 (CEST)
Received: by mail-qt1-f228.google.com with SMTP id
 d75a77b69052e-45816db2939so15879221cf.3
 for <test-report@dpdk.org>; Fri, 04 Oct 2024 11:57:29 -0700 (PDT)
DKIM-Signature: v=1; a=rsa-sha256; c=relaxed/relaxed;
 d=iol.unh.edu; s=unh-iol; t=1728068249; x=1728673049; darn=dpdk.org;
 h=references:in-reply-to:cc:to:from:subject:message-id:date:from:to
 :cc:subject:date:message-id:reply-to;
 bh=eXivnQ6PC7JmEQD3A8rJBliEl6n4zmscbWwV+/hKSXA=;
 b=e6ylwWl0thR5WBLuHYWWQ+c546zgqufUOxby0LJisNfyKK8CKhJh55oU45MJZMTerg
 PypgkorVoC7bxfhKFideJ6Tx3+xW6MAa+66MOiipqOoY72zBi8XZ6LbqB8dhr+0omJAM
 sCIi4SzVcuJuBFGRLPrqlVUp5Vk52upM2A7gM=
X-Google-DKIM-Signature: v=1; a=rsa-sha256; c=relaxed/relaxed;
 d=1e100.net; s=20230601; t=1728068249; x=1728673049;
 h=references:in-reply-to:cc:to:from:subject:message-id:date
 :x-gm-message-state:from:to:cc:subject:date:message-id:reply-to;
 bh=eXivnQ6PC7JmEQD3A8rJBliEl6n4zmscbWwV+/hKSXA=;
 b=lsgiMXrsYCjf5AfVOx01Us3DRzNCDui5cpUu4jUy0nJ0V/sOtcPBpoqNjrQLVKDJfs
 zPbFgJvZQ3cerwWcUtEHaMALpQSuxnwyh9WSGq2nlX33MXbxYqHgH73g7iztZ5ci9sbv
 Ve4K7dbPi6BS0f+tzfafEk4EVWmwR/EY+rYDgF4GBooBnEeAUFKtRgHu5Il/ZK0WeMGC
 BBoMWzsVJnwz10HtiEI1e4iC7UgK4vISbGheu+9i6a0Lcn62OQupGWEhlB9Ru+JPzZDp
 CE5ZMiBW4BlcRfaQrSE1qKBjnYphAYL0zTmJOlnOlytMXUHCusWwdqto0bUaKZwHyp9Y
 LodA==
X-Gm-Message-State: AOJu0YxQM9gTGHaNkqZzxN6wMABVvIZXmCCDzhbKjcv+3Rh7DdNUpdAK
 +3NtSlfuJwxCF1W71WypKSkI7B5bH/o542RVAcFfTYrR9rmc5NoLgUaSSQe1MGNIMdOEuQHj7BH
 pUu+y4KpWXgVecCtGv/ISWTd7Y/7vsXXB+2UlNG57aLp642u1xPzQxyGI
X-Google-Smtp-Source: AGHT+IFgGYwHbptf+J085MTNwVzGS2+gVQ7dun+Kxbn49VIwpSEOMgwqPDJVz7kC0LX3H3mqeaHyfs+rjWV1
X-Received: by 2002:ac8:5a48:0:b0:458:1a25:acc with SMTP id
 d75a77b69052e-45d9ba795c9mr45957201cf.4.1728068249329; 
 Fri, 04 Oct 2024 11:57:29 -0700 (PDT)
Received: from postal.iol.unh.edu (postal.iol.unh.edu.
 [2606:4100:3880:1234::84]) by smtp-relay.gmail.com with ESMTPS id
 d75a77b69052e-45da763c749sm130111cf.25.2024.10.04.11.57.29
 (version=TLS1_2 cipher=ECDHE-ECDSA-AES128-GCM-SHA256 bits=128/128);
 Fri, 04 Oct 2024 11:57:29 -0700 (PDT)
X-Relaying-Domain: iol.unh.edu
Date: Fri, 04 Oct 2024 11:57:29 -0700 (PDT)
Message-ID: <67003a99.050a0220.39fc8a.0c93SMTPIN_ADDED_MISSING@mx.google.com>
Received: from [172.21.0.3] (unknown [172.18.0.240])
 by postal.iol.unh.edu (Postfix) with ESMTP id EC0FF605C351;
 Fri,  4 Oct 2024 14:57:28 -0400 (EDT)
Subject: |SUCCESS| pw145018 [PATCH] [v3] app/proc-info: add rte_eal_cleanup()
From: dpdklab@iol.unh.edu
To: Test Report <test-report@dpdk.org>
Cc: dpdk-test-reports@iol.unh.edu
In-Reply-To: <20241004024903.209976-1-stephen@networkplumber.org>
References: <20241004024903.209976-1-stephen@networkplumber.org>
Content-Type: text/plain
X-BeenThere: test-report@dpdk.org
X-Mailman-Version: 2.1.29
Precedence: list
List-Id: automatic DPDK test reports <test-report.dpdk.org>
List-Unsubscribe: <https://mails.dpdk.org/options/test-report>,
 <mailto:test-report-request@dpdk.org?subject=unsubscribe>
List-Archive: <http://mails.dpdk.org/archives/test-report/>
List-Post: <mailto:test-report@dpdk.org>
List-Help: <mailto:test-report-request@dpdk.org?subject=help>
List-Subscribe: <https://mails.dpdk.org/listinfo/test-report>,
 <mailto:test-report-request@dpdk.org?subject=subscribe>
Errors-To: test-report-bounces@dpdk.org

Test-Label: iol-unit-amd64-testing
Test-Status: SUCCESS
http://dpdk.org/patch/145018

_Testing PASS_

Submitter: Stephen Hemminger <stephen@networkplumber.org>
Date: Friday, October 04 2024 02:48:29 
DPDK git baseline: Repo:dpdk
  Branch: master
  CommitID:2b843cac232eb3f2fa79e4254e21766817e2019f

145018 --> testing pass

Upstream job id: Generic-Unit-Test-DPDK#270142

Test environment and result as below:

+---------------------+----------------+
|     Environment     | dpdk_unit_test |
+=====================+================+
| Windows Server 2022 | PASS           |
+---------------------+----------------+
| CentOS Stream 9     | PASS           |
+---------------------+----------------+
| Debian Bullseye     | PASS           |
+---------------------+----------------+
| Debian 12           | PASS           |
+---------------------+----------------+
| Fedora 37           | PASS           |
+---------------------+----------------+
| Fedora 38           | PASS           |
+---------------------+----------------+
| Fedora 38 (Clang)   | PASS           |
+---------------------+----------------+
| Fedora 39 (Clang)   | PASS           |
+---------------------+----------------+
| Fedora 40           | PASS           |
+---------------------+----------------+
| RHEL8               | PASS           |
+---------------------+----------------+
| Fedora 40 (Clang)   | PASS           |
+---------------------+----------------+
| RHEL9               | PASS           |
+---------------------+----------------+
| Ubuntu 20.04        | PASS           |
+---------------------+----------------+
| Ubuntu 22.04        | PASS           |
+---------------------+----------------+
| Ubuntu 24.04        | PASS           |
+---------------------+----------------+
| Fedora 39           | PASS           |
+---------------------+----------------+


Windows Server 2022
	Kernel: 10.0.20348.2031
	Compiler: clang 15.0.7, gcc 14.1.0 (MinGW), and MSVC VS 19.39.33521

CentOS Stream 9
	Kernel: Depends on container host
	Compiler: gcc 11.4.1 20231218 (Red Hat 11.4.1-3)

Debian Bullseye
	Kernel: Depends on container host
	Compiler: gcc (Debian 10.2.1-6) 10.2.1 20210110

Debian 12
	Kernel: Depends on container host
	Compiler: gcc (Debian 12.2.0-14) 12.2.0

Fedora 37
	Kernel: Depends on container host system
	Compiler: gcc 12.3.1 20230508 (Red Hat 12.3.1-1)

Fedora 38
	Kernel: Depends on container host
	Compiler: gcc 13.2.1 20240316 (Red Hat 13.2.1-7)

Fedora 38 (Clang)
	Kernel: Depends on container host
	Compiler: clang 16.0.6 (Fedora 16.0.6-4.fc38)

Fedora 39 (Clang)
	Kernel: Depends on container host
	Compiler: clang 17.0.6 (Fedora 17.0.6-2.fc39)

Fedora 40
	Kernel: Depends on container host
	Compiler: gcc 14.2.1 20240801 (Red Hat 14.2.1-1)

RHEL8
	Kernel: Depends on container host
	Compiler: gcc 8.5.0 20210514 (Red Hat 8.5.0-22)

Fedora 40 (Clang)
	Kernel: Depends on container host
	Compiler: clang 18.1.6 (Fedora 18.1.6-3.fc40)

RHEL9
	Kernel: Depends on container host
	Compiler: gcc 11.4.1 20231218 (Red Hat 11.4.1-3)

Ubuntu 20.04
	Kernel: Depends on container host
	Compiler: gcc (Ubuntu 9.4.0-1ubuntu1~20.04.2) 9.4.0

Ubuntu 22.04
	Kernel: Depends on container host
	Compiler: gcc (Ubuntu 11.4.0-1ubuntu1~22.04) 11.4.0

Ubuntu 24.04
	Kernel: Depends on container host
	Compiler: gcc (Ubuntu 13.2.0-23ubuntu4) 13.2.0

Fedora 39
	Kernel: Depends on container host
	Compiler: gcc 13.3.1 20240522 (Red Hat 13.3.1-1)

To view detailed results, visit:
https://lab.dpdk.org/results/dashboard/patchsets/31253/

UNH-IOL DPDK Community Lab

To manage your email subscriptions, visit: 
https://lab.dpdk.org/results/dashboard/preferences/subscriptions/