From mboxrd@z Thu Jan  1 00:00:00 1970
Return-Path: <test-report-bounces@dpdk.org>
Received: from mails.dpdk.org (mails.dpdk.org [217.70.189.124])
	by inbox.dpdk.org (Postfix) with ESMTP id A356745AC8
	for <public@inbox.dpdk.org>; Sun,  6 Oct 2024 18:02:20 +0200 (CEST)
Received: from mails.dpdk.org (localhost [127.0.0.1])
	by mails.dpdk.org (Postfix) with ESMTP id AD116402F2;
	Sun,  6 Oct 2024 18:02:19 +0200 (CEST)
Received: from mail-pl1-f226.google.com (mail-pl1-f226.google.com
 [209.85.214.226])
 by mails.dpdk.org (Postfix) with ESMTP id AA64E402C3
 for <test-report@dpdk.org>; Sun,  6 Oct 2024 18:02:18 +0200 (CEST)
Received: by mail-pl1-f226.google.com with SMTP id
 d9443c01a7336-20b78ee6298so23200845ad.2
 for <test-report@dpdk.org>; Sun, 06 Oct 2024 09:02:18 -0700 (PDT)
DKIM-Signature: v=1; a=rsa-sha256; c=relaxed/relaxed;
 d=iol.unh.edu; s=unh-iol; t=1728230538; x=1728835338; darn=dpdk.org;
 h=references:in-reply-to:cc:to:from:subject:message-id:date:from:to
 :cc:subject:date:message-id:reply-to;
 bh=DY6KPSWQ2kWIYrGLWIlJxMMkV26ROtbzP8QI7m1mXD4=;
 b=XX+yv3/jYnXZmqQwjawVh3j21YKtrRH/VHJST9uoj+/drJAZd2Y45ugdM2qX2mHlFl
 qm3diBGApD8rlwX0Wyeg+nCpbQVvuf5W9hfdKFGEp47FZWyK5Nr7QKVDFvlYqW5oZewI
 mmL0d4OukPFRH9qu2COD6B2np7OAo9qb4Sv8Y=
X-Google-DKIM-Signature: v=1; a=rsa-sha256; c=relaxed/relaxed;
 d=1e100.net; s=20230601; t=1728230538; x=1728835338;
 h=references:in-reply-to:cc:to:from:subject:message-id:date
 :x-gm-message-state:from:to:cc:subject:date:message-id:reply-to;
 bh=DY6KPSWQ2kWIYrGLWIlJxMMkV26ROtbzP8QI7m1mXD4=;
 b=OcbemFDwdqMGDe+ZcK4Lc4DVptgKzo5EuBn+Z6NqrhFYrhDrSAu9CGsFnh9M4qacl8
 24WhefNedtWVOtAJBIypH/0/io3n3fD1TkBtKKj81Pn926grSgPFTQj67w1Wdbtpfv2j
 ssV74eGoPUYhdWujM7STnJD7uytBlQxZKyVcbCj7BytQFbyJIRRLTGMYcV9820a/lrIn
 z2bqoLHUtu7LjQMI+bM21Ersq0Nqn1Q82+dPKVwxnPVMVQh/E1st1pyvttewDLmh0rCk
 W7gSTKvs3+TjzwKq/88jmDJFpJu8dg2PCnEZ+TY+37y9vkI3kHL7o1Upu/m0rqsdrNu3
 vCEw==
X-Gm-Message-State: AOJu0Yz9GaTappwondXLtOfRRg7TgNdE9UprJTeIzKHu3VbnMTKjXMBX
 r15q7MC5dXkQo6VIG7DOmclaJyls2v+i/5POXkMkmQtPxLtJCZzKmQ2haPLpoX59cx8hcbkL7hO
 d1s0G7nK8ZtO8JeAazTqonn/OwYQZdCVjJBDJ8xyWVxX9gfR4hLEDe6+4
X-Google-Smtp-Source: AGHT+IFad5HsT5B7oHGUlKZSwLTfhmCHlY6deJmogRzGo25mGnqymvw/5VBqBgFNbqRIf/fypIoAGbUhHSv7
X-Received: by 2002:a17:902:ecd1:b0:207:2093:99bb with SMTP id
 d9443c01a7336-20bfe03529bmr128409345ad.31.1728230537823; 
 Sun, 06 Oct 2024 09:02:17 -0700 (PDT)
Received: from postal.iol.unh.edu (postal.iol.unh.edu.
 [2606:4100:3880:1234::84]) by smtp-relay.gmail.com with ESMTPS id
 d9443c01a7336-20c138bc912sm1475525ad.42.2024.10.06.09.02.17
 (version=TLS1_2 cipher=ECDHE-ECDSA-AES128-GCM-SHA256 bits=128/128);
 Sun, 06 Oct 2024 09:02:17 -0700 (PDT)
X-Relaying-Domain: iol.unh.edu
Date: Sun, 06 Oct 2024 09:02:17 -0700 (PDT)
Message-ID: <6702b489.170a0220.16d21d.a5d2SMTPIN_ADDED_MISSING@mx.google.com>
Received: from [172.21.0.4] (unknown [172.18.0.240])
 by postal.iol.unh.edu (Postfix) with ESMTP id A02256050A6B;
 Sun,  6 Oct 2024 12:02:16 -0400 (EDT)
Subject: |SUCCESS| pw145224 [PATCH] net/ena: restructure the llq policy user 
From: dpdklab@iol.unh.edu
To: Test Report <test-report@dpdk.org>
Cc: dpdk-test-reports@iol.unh.edu
In-Reply-To: <20241006123219.3081-1-shaibran@amazon.com>
References: <20241006123219.3081-1-shaibran@amazon.com>
Content-Type: text/plain
X-BeenThere: test-report@dpdk.org
X-Mailman-Version: 2.1.29
Precedence: list
List-Id: automatic DPDK test reports <test-report.dpdk.org>
List-Unsubscribe: <https://mails.dpdk.org/options/test-report>,
 <mailto:test-report-request@dpdk.org?subject=unsubscribe>
List-Archive: <http://mails.dpdk.org/archives/test-report/>
List-Post: <mailto:test-report@dpdk.org>
List-Help: <mailto:test-report-request@dpdk.org?subject=help>
List-Subscribe: <https://mails.dpdk.org/listinfo/test-report>,
 <mailto:test-report-request@dpdk.org?subject=subscribe>
Errors-To: test-report-bounces@dpdk.org

Test-Label: iol-unit-amd64-testing
Test-Status: SUCCESS
http://dpdk.org/patch/145224

_Testing PASS_

Submitter: Brandes, Shai <shaibran@amazon.com>
Date: Sunday, October 06 2024 12:32:19 
DPDK git baseline: Repo:dpdk
  Branch: master
  CommitID:0107bd57c612a3b8b6aab6e5ae761bad3a9c2b1e

145224 --> testing pass

Upstream job id: Generic-Unit-Test-DPDK#270861

Test environment and result as below:

+---------------------+----------------+
|     Environment     | dpdk_unit_test |
+=====================+================+
| Windows Server 2022 | PASS           |
+---------------------+----------------+
| CentOS Stream 9     | PASS           |
+---------------------+----------------+
| Debian Bullseye     | PASS           |
+---------------------+----------------+
| Debian 12           | PASS           |
+---------------------+----------------+
| Fedora 37           | PASS           |
+---------------------+----------------+
| Fedora 38           | PASS           |
+---------------------+----------------+
| Fedora 38 (Clang)   | PASS           |
+---------------------+----------------+
| Fedora 39           | PASS           |
+---------------------+----------------+
| Fedora 39 (Clang)   | PASS           |
+---------------------+----------------+
| Fedora 40           | PASS           |
+---------------------+----------------+
| Fedora 40 (Clang)   | PASS           |
+---------------------+----------------+
| RHEL8               | PASS           |
+---------------------+----------------+
| Ubuntu 20.04        | PASS           |
+---------------------+----------------+
| RHEL9               | PASS           |
+---------------------+----------------+
| Ubuntu 24.04        | PASS           |
+---------------------+----------------+
| Ubuntu 22.04        | PASS           |
+---------------------+----------------+


Windows Server 2022
	Kernel: 10.0.20348.2031
	Compiler: clang 15.0.7, gcc 14.1.0 (MinGW), and MSVC VS 19.39.33521

CentOS Stream 9
	Kernel: Depends on container host
	Compiler: gcc 11.4.1 20231218 (Red Hat 11.4.1-3)

Debian Bullseye
	Kernel: Depends on container host
	Compiler: gcc (Debian 10.2.1-6) 10.2.1 20210110

Debian 12
	Kernel: Depends on container host
	Compiler: gcc (Debian 12.2.0-14) 12.2.0

Fedora 37
	Kernel: Depends on container host system
	Compiler: gcc 12.3.1 20230508 (Red Hat 12.3.1-1)

Fedora 38
	Kernel: Depends on container host
	Compiler: gcc 13.2.1 20240316 (Red Hat 13.2.1-7)

Fedora 38 (Clang)
	Kernel: Depends on container host
	Compiler: clang 16.0.6 (Fedora 16.0.6-4.fc38)

Fedora 39
	Kernel: Depends on container host
	Compiler: gcc 13.3.1 20240522 (Red Hat 13.3.1-1)

Fedora 39 (Clang)
	Kernel: Depends on container host
	Compiler: clang 17.0.6 (Fedora 17.0.6-2.fc39)

Fedora 40
	Kernel: Depends on container host
	Compiler: gcc 14.2.1 20240801 (Red Hat 14.2.1-1)

Fedora 40 (Clang)
	Kernel: Depends on container host
	Compiler: clang 18.1.6 (Fedora 18.1.6-3.fc40)

RHEL8
	Kernel: Depends on container host
	Compiler: gcc 8.5.0 20210514 (Red Hat 8.5.0-22)

Ubuntu 20.04
	Kernel: Depends on container host
	Compiler: gcc (Ubuntu 9.4.0-1ubuntu1~20.04.2) 9.4.0

RHEL9
	Kernel: Depends on container host
	Compiler: gcc 11.4.1 20231218 (Red Hat 11.4.1-3)

Ubuntu 24.04
	Kernel: Depends on container host
	Compiler: gcc (Ubuntu 13.2.0-23ubuntu4) 13.2.0

Ubuntu 22.04
	Kernel: Depends on container host
	Compiler: gcc (Ubuntu 11.4.0-1ubuntu1~22.04) 11.4.0

To view detailed results, visit:
https://lab.dpdk.org/results/dashboard/patchsets/31313/

UNH-IOL DPDK Community Lab

To manage your email subscriptions, visit: 
https://lab.dpdk.org/results/dashboard/preferences/subscriptions/