From mboxrd@z Thu Jan  1 00:00:00 1970
Return-Path: <test-report-bounces@dpdk.org>
Received: from mails.dpdk.org (mails.dpdk.org [217.70.189.124])
	by inbox.dpdk.org (Postfix) with ESMTP id 81EC445AC8
	for <public@inbox.dpdk.org>; Sun,  6 Oct 2024 18:10:35 +0200 (CEST)
Received: from mails.dpdk.org (localhost [127.0.0.1])
	by mails.dpdk.org (Postfix) with ESMTP id 7C970402C3;
	Sun,  6 Oct 2024 18:10:35 +0200 (CEST)
Received: from mail-io1-f97.google.com (mail-io1-f97.google.com
 [209.85.166.97]) by mails.dpdk.org (Postfix) with ESMTP id E93C74025D
 for <test-report@dpdk.org>; Sun,  6 Oct 2024 18:10:33 +0200 (CEST)
Received: by mail-io1-f97.google.com with SMTP id
 ca18e2360f4ac-832525e7449so265269039f.2
 for <test-report@dpdk.org>; Sun, 06 Oct 2024 09:10:33 -0700 (PDT)
DKIM-Signature: v=1; a=rsa-sha256; c=relaxed/relaxed;
 d=iol.unh.edu; s=unh-iol; t=1728231033; x=1728835833; darn=dpdk.org;
 h=references:in-reply-to:cc:to:from:subject:message-id:date:from:to
 :cc:subject:date:message-id:reply-to;
 bh=ppIS7QSfO640nQ9VsiQORq6qfClg6/HWdaVeptQ+Bbs=;
 b=Y19GeqckSpNe/Gfz0G6Ba9f+O0JHsiEGsthCiG27q/F9QgiQG5lMD8HGLWqYAlGm66
 2NflsNBGxMOrwgfUkhBHXTMmHRw7dLU7LorhtanQBUL5e0PCoP+N/SIT7P6LYsBhd6zD
 pizhzNMNv+Tb7zvhAZJU3EgCKnDme3eIU9CBg=
X-Google-DKIM-Signature: v=1; a=rsa-sha256; c=relaxed/relaxed;
 d=1e100.net; s=20230601; t=1728231033; x=1728835833;
 h=references:in-reply-to:cc:to:from:subject:message-id:date
 :x-gm-message-state:from:to:cc:subject:date:message-id:reply-to;
 bh=ppIS7QSfO640nQ9VsiQORq6qfClg6/HWdaVeptQ+Bbs=;
 b=WA/s0G4IWXICBJFz0oKulXZgpUEgfnWv3QE/QEd4zEYrWOvRI4hpOM9ofWN4MB5tL5
 xHDiZTh05L+ZOJEzyjXItgFWUFcfx09rfbZ51UhMLXSmHLMIw/v7WHRbRDCRCtI99RvL
 i1zCHHj6TNlMVadUdnJ2tqCbGrCecGNhleQL0qfkQUYtX81Yi6tv5ccdLAZYPiWOCA9O
 m1zF3qDAYaygd61P+/qjrbt6KgAx7b9RBQY8yOo1hjcRncFlp1JAMW7Enzs+tDkbwz7m
 JBEDXFtQ7FD2p/Zeo3Vwlc4mLgzNO+SzqSrkji2+gkQVVzOY1uPRI3+LuImsJ+CWZ01H
 8SiQ==
X-Gm-Message-State: AOJu0Ywr2V7Jh/t41ejzkvjkxDrkaWNAoDZ8n4tAzjmCPaBJJARipwTb
 1iwC9pHI714tWgHadpQUFkgv9BbsOuDtwLQWJ9x5neDe9ep5ouj2UOOIN1dgwYfAHPKBTtKBLiZ
 qEwZzlivAOzZT97mhs1S0Xf4lqv2GVYELOzzbkP4x
X-Google-Smtp-Source: AGHT+IGR2So0nUPFWlMmT2e0vdtLkDrYVWagRc55vn1AXnnTzvaDMgk9Chj2jnGrhBpTr2DqkPSFsquSU+Wh
X-Received: by 2002:a05:6e02:13a9:b0:3a0:9d62:3b65 with SMTP id
 e9e14a558f8ab-3a375978fa2mr74457135ab.3.1728231033196; 
 Sun, 06 Oct 2024 09:10:33 -0700 (PDT)
Received: from postal.iol.unh.edu (postal.iol.unh.edu. [132.177.123.84])
 by smtp-relay.gmail.com with ESMTPS id
 e9e14a558f8ab-3a37a868945sm1593155ab.50.2024.10.06.09.10.33
 (version=TLS1_2 cipher=ECDHE-ECDSA-AES128-GCM-SHA256 bits=128/128);
 Sun, 06 Oct 2024 09:10:33 -0700 (PDT)
X-Relaying-Domain: iol.unh.edu
Date: Sun, 06 Oct 2024 09:10:33 -0700 (PDT)
Message-ID: <6702b679.920a0220.25b429.ae76SMTPIN_ADDED_MISSING@mx.google.com>
Received: from [172.17.0.3] (unknown [172.18.0.217])
 by postal.iol.unh.edu (Postfix) with ESMTP id B4C186050A6B;
 Sun,  6 Oct 2024 12:10:32 -0400 (EDT)
Subject: |SUCCESS| pw145225 [PATCH] [v5] eal: add build-time option to omit t
From: dpdklab@iol.unh.edu
To: Test Report <test-report@dpdk.org>
Cc: dpdk-test-reports@iol.unh.edu
In-Reply-To: <20241006123839.2751217-1-mb@smartsharesystems.com>
References: <20241006123839.2751217-1-mb@smartsharesystems.com>
Content-Type: text/plain
X-BeenThere: test-report@dpdk.org
X-Mailman-Version: 2.1.29
Precedence: list
List-Id: automatic DPDK test reports <test-report.dpdk.org>
List-Unsubscribe: <https://mails.dpdk.org/options/test-report>,
 <mailto:test-report-request@dpdk.org?subject=unsubscribe>
List-Archive: <http://mails.dpdk.org/archives/test-report/>
List-Post: <mailto:test-report@dpdk.org>
List-Help: <mailto:test-report-request@dpdk.org?subject=help>
List-Subscribe: <https://mails.dpdk.org/listinfo/test-report>,
 <mailto:test-report-request@dpdk.org?subject=subscribe>
Errors-To: test-report-bounces@dpdk.org

Test-Label: iol-unit-arm64-testing
Test-Status: SUCCESS
http://dpdk.org/patch/145225

_Testing PASS_

Submitter: Morten Brorup <mb@smartsharesystems.com>
Date: Sunday, October 06 2024 12:38:39 
DPDK git baseline: Repo:dpdk
  Branch: master
  CommitID:41b09d64e35b877e8f29c4e5a8cf944e303695dd

145225 --> testing pass

Upstream job id: Generic-Unit-Test-DPDK#270824

Test environment and result as below:

+-----------------------------+--------------+----------------+---------------------------+------------------------------+
|         Environment         | lpm_autotest | dpdk_unit_test | cryptodev_sw_zuc_autotest | cryptodev_sw_snow3g_autotest |
+=============================+==============+================+===========================+==============================+
| Ubuntu 20.04 ARM SVE        | PASS         | SKIPPED        | SKIPPED                   | SKIPPED                      |
+-----------------------------+--------------+----------------+---------------------------+------------------------------+
| 32-bit Ubuntu 20.04.4 (ARM) | SKIPPED      | PASS           | SKIPPED                   | SKIPPED                      |
+-----------------------------+--------------+----------------+---------------------------+------------------------------+
| CentOS Stream 9 (ARM)       | SKIPPED      | PASS           | SKIPPED                   | SKIPPED                      |
+-----------------------------+--------------+----------------+---------------------------+------------------------------+
| Debian 11 (Buster) (ARM)    | SKIPPED      | PASS           | SKIPPED                   | SKIPPED                      |
+-----------------------------+--------------+----------------+---------------------------+------------------------------+
| Debian 12 (arm)             | SKIPPED      | PASS           | PASS                      | PASS                         |
+-----------------------------+--------------+----------------+---------------------------+------------------------------+
| Fedora 38 (ARM)             | SKIPPED      | PASS           | SKIPPED                   | SKIPPED                      |
+-----------------------------+--------------+----------------+---------------------------+------------------------------+
| Fedora 39 (ARM Clang)       | SKIPPED      | PASS           | SKIPPED                   | SKIPPED                      |
+-----------------------------+--------------+----------------+---------------------------+------------------------------+
| Fedora 39 (ARM)             | SKIPPED      | PASS           | SKIPPED                   | SKIPPED                      |
+-----------------------------+--------------+----------------+---------------------------+------------------------------+
| Fedora 38 (ARM Clang)       | SKIPPED      | PASS           | SKIPPED                   | SKIPPED                      |
+-----------------------------+--------------+----------------+---------------------------+------------------------------+
| Fedora 37 (ARM)             | SKIPPED      | PASS           | SKIPPED                   | SKIPPED                      |
+-----------------------------+--------------+----------------+---------------------------+------------------------------+
| Fedora 40 (ARM Clang)       | SKIPPED      | PASS           | SKIPPED                   | SKIPPED                      |
+-----------------------------+--------------+----------------+---------------------------+------------------------------+
| Fedora 40 (ARM)             | SKIPPED      | PASS           | SKIPPED                   | SKIPPED                      |
+-----------------------------+--------------+----------------+---------------------------+------------------------------+
| Ubuntu 20.04 (ARM)          | SKIPPED      | PASS           | SKIPPED                   | SKIPPED                      |
+-----------------------------+--------------+----------------+---------------------------+------------------------------+
| Ubuntu 22.04 (ARM)          | SKIPPED      | PASS           | SKIPPED                   | SKIPPED                      |
+-----------------------------+--------------+----------------+---------------------------+------------------------------+
| RHEL9 (ARM)                 | SKIPPED      | PASS           | SKIPPED                   | SKIPPED                      |
+-----------------------------+--------------+----------------+---------------------------+------------------------------+
| Ubuntu 24.04 (ARM)          | SKIPPED      | PASS           | SKIPPED                   | SKIPPED                      |
+-----------------------------+--------------+----------------+---------------------------+------------------------------+


Ubuntu 20.04 ARM SVE
	Kernel: Depends on container host
	Compiler: gcc (Ubuntu 10.5.0-1ubuntu1~20.04) 10.5.0

32-bit Ubuntu 20.04.4 (ARM)
	Kernel: 5.4.0-155-generic aarch64
	Compiler: gcc 9.4

CentOS Stream 9 (ARM)
	Kernel: Depends on container host
	Compiler: gcc 11.4.1 20231218 (Red Hat 11.4.1-3)

Debian 11 (Buster) (ARM)
	Kernel: Depends on container host
	Compiler: gcc (Debian 10.2.1-6) 10.2.1 20210110

Debian 12 (arm)
	Kernel: Depends on container host
	Compiler: gcc (Debian 12.2.0-14) 12.2.0

Fedora 38 (ARM)
	Kernel: Depends on container host
	Compiler: gcc 13.2.1 20240316 (Red Hat 13.2.1-7)

Fedora 39 (ARM Clang)
	Kernel: Depends on container host
	Compiler: clang 17.0.6 (Fedora 17.0.6-2.fc39)

Fedora 39 (ARM)
	Kernel: Depends on container host
	Compiler: gcc 13.3.1 20240522 (Red Hat 13.3.1-1)

Fedora 38 (ARM Clang)
	Kernel: Depends on container host
	Compiler: clang 16.0.6 (Fedora 16.0.6-4.fc38)

Fedora 37 (ARM)
	Kernel: Depends on container host
	Compiler: gcc 12.3.1 20230508 (Red Hat 12.3.1-1)

Fedora 40 (ARM Clang)
	Kernel: Depends on container host
	Compiler: clang 18.1.6 (Fedora 18.1.6-3.fc40)

Fedora 40 (ARM)
	Kernel: Depends on container host
	Compiler: gcc 14.2.1 20240801 (Red Hat 14.2.1-1)

Ubuntu 20.04 (ARM)
	Kernel: Depends on container host
	Compiler: gcc (Ubuntu 9.4.0-1ubuntu1~20.04.2) 9.4.0

Ubuntu 22.04 (ARM)
	Kernel: Depends on container host
	Compiler: gcc (Ubuntu 11.4.0-1ubuntu1~22.04) 11.4.0

RHEL9 (ARM)
	Kernel: Depends on container host
	Compiler: gcc 11.4.1 20231218 (Red Hat 11.4.1-3)

Ubuntu 24.04 (ARM)
	Kernel: Depends on container host
	Compiler: gcc (Ubuntu 13.2.0-23ubuntu4) 13.2.0

To view detailed results, visit:
https://lab.dpdk.org/results/dashboard/patchsets/31314/

UNH-IOL DPDK Community Lab

To manage your email subscriptions, visit: 
https://lab.dpdk.org/results/dashboard/preferences/subscriptions/