From mboxrd@z Thu Jan  1 00:00:00 1970
Return-Path: <test-report-bounces@dpdk.org>
Received: from mails.dpdk.org (mails.dpdk.org [217.70.189.124])
	by inbox.dpdk.org (Postfix) with ESMTP id 90F9B45A7B
	for <public@inbox.dpdk.org>; Sun,  6 Oct 2024 18:46:47 +0200 (CEST)
Received: from mails.dpdk.org (localhost [127.0.0.1])
	by mails.dpdk.org (Postfix) with ESMTP id 6873C402C3;
	Sun,  6 Oct 2024 18:46:47 +0200 (CEST)
Received: from mail-pg1-f227.google.com (mail-pg1-f227.google.com
 [209.85.215.227])
 by mails.dpdk.org (Postfix) with ESMTP id 9A3454025D
 for <test-report@dpdk.org>; Sun,  6 Oct 2024 18:46:46 +0200 (CEST)
Received: by mail-pg1-f227.google.com with SMTP id
 41be03b00d2f7-7e9f8d67df9so845886a12.1
 for <test-report@dpdk.org>; Sun, 06 Oct 2024 09:46:46 -0700 (PDT)
DKIM-Signature: v=1; a=rsa-sha256; c=relaxed/relaxed;
 d=iol.unh.edu; s=unh-iol; t=1728233206; x=1728838006; darn=dpdk.org;
 h=references:in-reply-to:cc:to:from:subject:message-id:date:from:to
 :cc:subject:date:message-id:reply-to;
 bh=2nR8xc9yD0a5AhTFR3CrJGkAmO95K8Bvyw9tx6TRCAY=;
 b=ZBrM231k2FekQ8mEqi6dt7Eq/NfwJT+Bi41gDYPwcO57Wo9vGpaQ9Ojb350K/gdlpr
 UHLyxd5l5P6MOa3XXR3SX4ZQaP1HFY09m8lOGouN9RaxKCerrt8nCyIcA/80tGF1IDjJ
 gtHaY8000RCstID5EcMi+jkjPkVGNMzu2VHvg=
X-Google-DKIM-Signature: v=1; a=rsa-sha256; c=relaxed/relaxed;
 d=1e100.net; s=20230601; t=1728233206; x=1728838006;
 h=references:in-reply-to:cc:to:from:subject:message-id:date
 :x-gm-message-state:from:to:cc:subject:date:message-id:reply-to;
 bh=2nR8xc9yD0a5AhTFR3CrJGkAmO95K8Bvyw9tx6TRCAY=;
 b=iDtbm4nlMphF0CKoXAtf9M1Yq0oXTFw9Ts4BIJo+ftQ5SgZbRqbNHMxSdsvPBLPmY0
 4mmlJqUSMJpTq6Y/LDwbwt6I79uSZ+hF+htxsvJ6y5AQ3b1aR1xLsA2T54EUfAUmiyKS
 SOuSEpGP0V3ClI0iqW+dN6bN4FNKeEed1rk4fTzTyokFU22RTt+LbYBjlSTU51GhUG7h
 Bu3Jnx161AaGMaL+4SJBV80hn8NBbh8WSoVuYoQcMvmeNp5P/HCTbxo2h/OEJpqxflDB
 HRa5/RbK+Ys6MAmW9XXHaPXEAEOdFY462YSt3ospSjFTVq0KrFPPcpjlbC4XUPoVmPss
 TNKQ==
X-Gm-Message-State: AOJu0YxTG/Vs2J7rl3ZyXReSYW9mjahsNjHHwyVlmZ3Yl/f8gEeWdzF2
 +VepSYJDadb0V9+GwiTMZkvrT5cbnwttbEDOy/UXL4P14zC3AYzswnd2QlP1WjODt1Ic1LAFRUw
 ztfmUwbwaCqwQJwh+n2lEBq7uHM/H7Befeg+GPPNnnJC9VzVIHMHwgeT7
X-Google-Smtp-Source: AGHT+IG0Z/8IDikzwP2y+RaDOWizu3Ikk517b5ZAeUGVZVRpk2S6kJYdmN2oNC0LCWa36byD65Dp3EdZw4WS
X-Received: by 2002:a05:6a20:c996:b0:1ce:e725:1723 with SMTP id
 adf61e73a8af0-1d6dfae3290mr12840007637.45.1728233205646; 
 Sun, 06 Oct 2024 09:46:45 -0700 (PDT)
Received: from postal.iol.unh.edu (postal.iol.unh.edu.
 [2606:4100:3880:1234::84]) by smtp-relay.gmail.com with ESMTPS id
 d2e1a72fcca58-71df0ccbd02sm164258b3a.4.2024.10.06.09.46.45
 (version=TLS1_2 cipher=ECDHE-ECDSA-AES128-GCM-SHA256 bits=128/128);
 Sun, 06 Oct 2024 09:46:45 -0700 (PDT)
X-Relaying-Domain: iol.unh.edu
Date: Sun, 06 Oct 2024 09:46:45 -0700 (PDT)
Message-ID: <6702bef5.050a0220.e372e.b246SMTPIN_ADDED_MISSING@mx.google.com>
Received: from [172.21.0.2] (unknown [172.18.0.240])
 by postal.iol.unh.edu (Postfix) with ESMTP id C68D96050A6B;
 Sun,  6 Oct 2024 12:46:44 -0400 (EDT)
Subject: |SUCCESS| pw145221-145223 [PATCH] [v16,3/3] event/dsw: add capabilit
From: dpdklab@iol.unh.edu
To: Test Report <test-report@dpdk.org>
Cc: dpdk-test-reports@iol.unh.edu
In-Reply-To: <20241005182034.61298-4-abdullah.sevincer@intel.com>
References: <20241005182034.61298-4-abdullah.sevincer@intel.com>
Content-Type: text/plain
X-BeenThere: test-report@dpdk.org
X-Mailman-Version: 2.1.29
Precedence: list
List-Id: automatic DPDK test reports <test-report.dpdk.org>
List-Unsubscribe: <https://mails.dpdk.org/options/test-report>,
 <mailto:test-report-request@dpdk.org?subject=unsubscribe>
List-Archive: <http://mails.dpdk.org/archives/test-report/>
List-Post: <mailto:test-report@dpdk.org>
List-Help: <mailto:test-report-request@dpdk.org?subject=help>
List-Subscribe: <https://mails.dpdk.org/listinfo/test-report>,
 <mailto:test-report-request@dpdk.org?subject=subscribe>
Errors-To: test-report-bounces@dpdk.org

Test-Label: iol-unit-amd64-testing
Test-Status: SUCCESS
http://dpdk.org/patch/145223

_Testing PASS_

Submitter: Abdullah Sevincer <abdullah.sevincer@intel.com>
Date: Saturday, October 05 2024 18:20:34 
DPDK git baseline: Repo:dpdk
  Branch: master
  CommitID:cf4638a0a373d22d7ff76b9ff00c30121ec57447

145221-145223 --> testing pass

Upstream job id: Generic-Unit-Test-DPDK#270887

Test environment and result as below:

+---------------------+----------------+
|     Environment     | dpdk_unit_test |
+=====================+================+
| CentOS Stream 9     | PASS           |
+---------------------+----------------+
| Debian 12           | PASS           |
+---------------------+----------------+
| Debian Bullseye     | PASS           |
+---------------------+----------------+
| Fedora 38 (Clang)   | PASS           |
+---------------------+----------------+
| Windows Server 2022 | PASS           |
+---------------------+----------------+
| Fedora 37           | PASS           |
+---------------------+----------------+
| Fedora 38           | PASS           |
+---------------------+----------------+
| Fedora 39           | PASS           |
+---------------------+----------------+
| Fedora 39 (Clang)   | PASS           |
+---------------------+----------------+
| Fedora 40           | PASS           |
+---------------------+----------------+
| Ubuntu 20.04        | PASS           |
+---------------------+----------------+
| Ubuntu 22.04        | PASS           |
+---------------------+----------------+
| Fedora 40 (Clang)   | PASS           |
+---------------------+----------------+
| RHEL8               | PASS           |
+---------------------+----------------+
| Ubuntu 24.04        | PASS           |
+---------------------+----------------+
| RHEL9               | PASS           |
+---------------------+----------------+


CentOS Stream 9
	Kernel: Depends on container host
	Compiler: gcc 11.4.1 20231218 (Red Hat 11.4.1-3)

Debian 12
	Kernel: Depends on container host
	Compiler: gcc (Debian 12.2.0-14) 12.2.0

Debian Bullseye
	Kernel: Depends on container host
	Compiler: gcc (Debian 10.2.1-6) 10.2.1 20210110

Fedora 38 (Clang)
	Kernel: Depends on container host
	Compiler: clang 16.0.6 (Fedora 16.0.6-4.fc38)

Windows Server 2022
	Kernel: 10.0.20348.2031
	Compiler: clang 15.0.7, gcc 14.1.0 (MinGW), and MSVC VS 19.39.33521

Fedora 37
	Kernel: Depends on container host system
	Compiler: gcc 12.3.1 20230508 (Red Hat 12.3.1-1)

Fedora 38
	Kernel: Depends on container host
	Compiler: gcc 13.2.1 20240316 (Red Hat 13.2.1-7)

Fedora 39
	Kernel: Depends on container host
	Compiler: gcc 13.3.1 20240522 (Red Hat 13.3.1-1)

Fedora 39 (Clang)
	Kernel: Depends on container host
	Compiler: clang 17.0.6 (Fedora 17.0.6-2.fc39)

Fedora 40
	Kernel: Depends on container host
	Compiler: gcc 14.2.1 20240801 (Red Hat 14.2.1-1)

Ubuntu 20.04
	Kernel: Depends on container host
	Compiler: gcc (Ubuntu 9.4.0-1ubuntu1~20.04.2) 9.4.0

Ubuntu 22.04
	Kernel: Depends on container host
	Compiler: gcc (Ubuntu 11.4.0-1ubuntu1~22.04) 11.4.0

Fedora 40 (Clang)
	Kernel: Depends on container host
	Compiler: clang 18.1.6 (Fedora 18.1.6-3.fc40)

RHEL8
	Kernel: Depends on container host
	Compiler: gcc 8.5.0 20210514 (Red Hat 8.5.0-22)

Ubuntu 24.04
	Kernel: Depends on container host
	Compiler: gcc (Ubuntu 13.2.0-23ubuntu4) 13.2.0

RHEL9
	Kernel: Depends on container host
	Compiler: gcc 11.4.1 20231218 (Red Hat 11.4.1-3)

To view detailed results, visit:
https://lab.dpdk.org/results/dashboard/patchsets/31312/

UNH-IOL DPDK Community Lab

To manage your email subscriptions, visit: 
https://lab.dpdk.org/results/dashboard/preferences/subscriptions/