From mboxrd@z Thu Jan  1 00:00:00 1970
Return-Path: <test-report-bounces@dpdk.org>
Received: from mails.dpdk.org (mails.dpdk.org [217.70.189.124])
	by inbox.dpdk.org (Postfix) with ESMTP id 17BAB45AC5
	for <public@inbox.dpdk.org>; Sun,  6 Oct 2024 20:35:18 +0200 (CEST)
Received: from mails.dpdk.org (localhost [127.0.0.1])
	by mails.dpdk.org (Postfix) with ESMTP id 96C5B402C3;
	Sun,  6 Oct 2024 20:35:17 +0200 (CEST)
Received: from mail-qv1-f99.google.com (mail-qv1-f99.google.com
 [209.85.219.99]) by mails.dpdk.org (Postfix) with ESMTP id B13FE4025D
 for <test-report@dpdk.org>; Sun,  6 Oct 2024 20:35:16 +0200 (CEST)
Received: by mail-qv1-f99.google.com with SMTP id
 6a1803df08f44-6cb2dffcdbbso35240766d6.1
 for <test-report@dpdk.org>; Sun, 06 Oct 2024 11:35:16 -0700 (PDT)
DKIM-Signature: v=1; a=rsa-sha256; c=relaxed/relaxed;
 d=iol.unh.edu; s=unh-iol; t=1728239716; x=1728844516; darn=dpdk.org;
 h=references:in-reply-to:cc:to:from:subject:message-id:date:from:to
 :cc:subject:date:message-id:reply-to;
 bh=EqSMoIvBrHpTDVplTNAAtIp3W5yhFM8oi+n8PcYVvQI=;
 b=T4GkgoTK8Mnk7BSWH3zKUKId1KjoEfGnbJcgwsX/jHRnQa4Xgw9SLM1Wij7zZrK/lv
 ji91TE6aOgZotvmFOD3DuLC0l8Y0nlXYMI2iPwEtyrcVWENUAZ8xs/iihvB3bu42dT3K
 kyRmu5kimD+RkULbxVLGHGdcnWHndG3cLUBSU=
X-Google-DKIM-Signature: v=1; a=rsa-sha256; c=relaxed/relaxed;
 d=1e100.net; s=20230601; t=1728239716; x=1728844516;
 h=references:in-reply-to:cc:to:from:subject:message-id:date
 :x-gm-message-state:from:to:cc:subject:date:message-id:reply-to;
 bh=EqSMoIvBrHpTDVplTNAAtIp3W5yhFM8oi+n8PcYVvQI=;
 b=ikaaMSjyFBx9FS8Wj0MkWLAuk+laSVFhoM0OOBjQJp6WZfrxOWbVi4xTFjtrtK5Fe1
 H3kSRfoYBaDaF3fK3aykOwUKWLH6kru+gGQNpKeJDFPikFrZQnHRAnT4G5bTs9T00/P1
 Uk/BfFZFrnEr+5sgxe/cRHlJ6KLsGEjUlhq4IxLnWSGmyoK6I4F7E4HxMR9FHCNRyUir
 glP/GI+ZyZEH26UG8SMIEuE+3M7GWy1VW/zfE4bLqXfR7QAslNpVSJ/dyaPbaYcGmvu/
 3bQ4TUsnT7m85mkM9JVqcLRSn25Cnk+LYKyAMIZTw8huEo0VjEJsWiDhXHsljkFFB0Bb
 1gDw==
X-Gm-Message-State: AOJu0Yz3o4D49poZzbYIWIb9LTkCnsMOoxCMdefTU/l70xwdQZ4+I9t2
 IU9Lew5e/TUY5ZyiOl7XXP6l89XGV/jOZ/e2kwfM/fVprxHz/nQGU9DaOVlIPM6te/qGtn1n1Ks
 Dixi9Dj07kQXEcY95qt/N11OTEZopJiODb4b0+Wc+ii+zm6AhGaWR8NMP
X-Google-Smtp-Source: AGHT+IGa/iSB/NJUNWM5G/BYXxJoTkyTKoInXWUmJmvB6duXjKo7b9dnyhh12Z9/k98giWmiwI4z/ZYN6AOL
X-Received: by 2002:a05:6214:570c:b0:6cb:7396:ee37 with SMTP id
 6a1803df08f44-6cb9a466555mr172293376d6.42.1728239715910; 
 Sun, 06 Oct 2024 11:35:15 -0700 (PDT)
Received: from postal.iol.unh.edu (postal.iol.unh.edu.
 [2606:4100:3880:1234::84]) by smtp-relay.gmail.com with ESMTPS id
 6a1803df08f44-6cba46ebb31sm1349416d6.46.2024.10.06.11.35.15
 (version=TLS1_2 cipher=ECDHE-ECDSA-AES128-GCM-SHA256 bits=128/128);
 Sun, 06 Oct 2024 11:35:15 -0700 (PDT)
X-Relaying-Domain: iol.unh.edu
Date: Sun, 06 Oct 2024 11:35:15 -0700 (PDT)
Message-ID: <6702d863.050a0220.198462.951bSMTPIN_ADDED_MISSING@mx.google.com>
Received: from [172.21.0.5] (unknown [172.18.0.240])
 by postal.iol.unh.edu (Postfix) with ESMTP id 95D6F6050A6B;
 Sun,  6 Oct 2024 14:35:15 -0400 (EDT)
Subject: |SUCCESS| pw145228-145233 [PATCH] [v8,6/6] examples: use eventdev pr
From: dpdklab@iol.unh.edu
To: Test Report <test-report@dpdk.org>
Cc: dpdk-test-reports@iol.unh.edu
In-Reply-To: <20241006170608.14182-7-pbhagavatula@marvell.com>
References: <20241006170608.14182-7-pbhagavatula@marvell.com>
Content-Type: text/plain
X-BeenThere: test-report@dpdk.org
X-Mailman-Version: 2.1.29
Precedence: list
List-Id: automatic DPDK test reports <test-report.dpdk.org>
List-Unsubscribe: <https://mails.dpdk.org/options/test-report>,
 <mailto:test-report-request@dpdk.org?subject=unsubscribe>
List-Archive: <http://mails.dpdk.org/archives/test-report/>
List-Post: <mailto:test-report@dpdk.org>
List-Help: <mailto:test-report-request@dpdk.org?subject=help>
List-Subscribe: <https://mails.dpdk.org/listinfo/test-report>,
 <mailto:test-report-request@dpdk.org?subject=subscribe>
Errors-To: test-report-bounces@dpdk.org

Test-Label: iol-sample-apps-testing
Test-Status: SUCCESS
http://dpdk.org/patch/145233

_Testing PASS_

Submitter: Pavan Nikhilesh Bhagavatula <pbhagavatula@marvell.com>
Date: Sunday, October 06 2024 17:06:08 
DPDK git baseline: Repo:dpdk
  Branch: master
  CommitID:cf4638a0a373d22d7ff76b9ff00c30121ec57447

145228-145233 --> testing pass

Upstream job id: Template-DTS-Pipeline#185750

Test environment and result as below:

+--------------------+----------------------+----------------------+
|    Environment     | dpdk_fips_validation | compressdev_zlib_pmd |
+====================+======================+======================+
| Ubuntu 20.04       | PASS                 | SKIPPED              |
+--------------------+----------------------+----------------------+
| Ubuntu 22.04 (ARM) | SKIPPED              | PASS                 |
+--------------------+----------------------+----------------------+
| Ubuntu 22.04       | SKIPPED              | PASS                 |
+--------------------+----------------------+----------------------+


Ubuntu 20.04
	Kernel: Depends on container host
	Compiler: gcc (Ubuntu 9.4.0-1ubuntu1~20.04.2) 9.4.0

Ubuntu 22.04 (ARM)
	Kernel: 5.15.0-97-generic
	Compiler: gcc gcc (Ubuntu 11.4.0-1ubuntu1~22.04) 11.4.0

Ubuntu 22.04
	Kernel: 5.15.0-100-generic
	Compiler: gcc gcc (Ubuntu 11.4.0-1ubuntu1~22.04) 11.4.0

To view detailed results, visit:
https://lab.dpdk.org/results/dashboard/patchsets/31317/

UNH-IOL DPDK Community Lab

To manage your email subscriptions, visit: 
https://lab.dpdk.org/results/dashboard/preferences/subscriptions/