From mboxrd@z Thu Jan  1 00:00:00 1970
Return-Path: <test-report-bounces@dpdk.org>
Received: from mails.dpdk.org (mails.dpdk.org [217.70.189.124])
	by inbox.dpdk.org (Postfix) with ESMTP id CC36B45A68
	for <public@inbox.dpdk.org>; Mon,  7 Oct 2024 05:43:51 +0200 (CEST)
Received: from mails.dpdk.org (localhost [127.0.0.1])
	by mails.dpdk.org (Postfix) with ESMTP id A864040A67;
	Mon,  7 Oct 2024 05:43:51 +0200 (CEST)
Received: from mail-qt1-f228.google.com (mail-qt1-f228.google.com
 [209.85.160.228])
 by mails.dpdk.org (Postfix) with ESMTP id 4F104402EA
 for <test-report@dpdk.org>; Mon,  7 Oct 2024 05:43:50 +0200 (CEST)
Received: by mail-qt1-f228.google.com with SMTP id
 d75a77b69052e-4581ee65b46so38377461cf.3
 for <test-report@dpdk.org>; Sun, 06 Oct 2024 20:43:50 -0700 (PDT)
DKIM-Signature: v=1; a=rsa-sha256; c=relaxed/relaxed;
 d=iol.unh.edu; s=unh-iol; t=1728272629; x=1728877429; darn=dpdk.org;
 h=references:in-reply-to:cc:to:from:subject:message-id:date:from:to
 :cc:subject:date:message-id:reply-to;
 bh=7l/AXKfwn/AlH2N/TBca2HQb604jrNaSBL7DVMgrlow=;
 b=ajBvvpaVEO8XTXbLTjUyb/2BNqU/d7WhAxPidk7VJi9uUK/0DbqTtuHDeh7sMqUs5v
 UCwyeFS4+swAZV8hD1C1kp1DBb90h2k1HRN9s9PVSrzxco2H3uFR6hFKdxnpT+XO5GkG
 FXdAEK/Q5S8UjQ/1sDsnSlRTYzVsoJmTXl+rY=
X-Google-DKIM-Signature: v=1; a=rsa-sha256; c=relaxed/relaxed;
 d=1e100.net; s=20230601; t=1728272629; x=1728877429;
 h=references:in-reply-to:cc:to:from:subject:message-id:date
 :x-gm-message-state:from:to:cc:subject:date:message-id:reply-to;
 bh=7l/AXKfwn/AlH2N/TBca2HQb604jrNaSBL7DVMgrlow=;
 b=LOHotEt8xS5FVNSBQ8Va/4toCQXl7P6LCHSuW7uXSD7pYU7s2ORjFf8tg9u+c6ljEq
 n5x+jntQovKdVEPgNcM3TQN7gf14ecymXCEUC1RuZ5Vxz2rGQDS1U+itnzb08YB5hMd5
 VAO8hIlnZeSTokWRo4HSKGZDRTbgQTaDASX4bzzs1n4mJ4j6j5qEok0/Ahgk28jVXaP3
 CfvMPuv8otGA5YzXZohxCBzbyhWa+iQmmZoLge3cjvGrC+s3RBx7zG+7HyVEkVFaRgWY
 kg81EstKcSLsVcYSXa+iQ4KNBpzRb+ElrEiHdR6ygmioPq/9aVVgQiUidRzbH7r+LMQv
 aPGw==
X-Gm-Message-State: AOJu0Ywt07xQXXgJljk2JZeFhB4CJnWM5KCvpaFlm1glO0GVU9Xo30Po
 wMkrTA2mdUFayk1R7xzcP18sagji9eivwoMlpEU8V4/nGtm7YataRmgJC7dxNqmbgiyLCkUiTzT
 Wo25iUd3hryAb5lW2bDKjlDvrgeJ2kCsQm1nyt3bB
X-Google-Smtp-Source: AGHT+IER1vvZcF5Me2aAHLiYwu5WnW6wnjC1rr6gGbqve+LKggLLuGhnMPBW+/gHlanmc8vZtNF2zl63XR7X
X-Received: by 2002:a05:622a:1b8b:b0:45d:91e6:bd32 with SMTP id
 d75a77b69052e-45d9ba5b89cmr167816141cf.14.1728272629511; 
 Sun, 06 Oct 2024 20:43:49 -0700 (PDT)
Received: from postal.iol.unh.edu (postal.iol.unh.edu. [132.177.123.84])
 by smtp-relay.gmail.com with ESMTPS id
 d75a77b69052e-45da74b3ffasm853821cf.6.2024.10.06.20.43.49
 (version=TLS1_2 cipher=ECDHE-ECDSA-AES128-GCM-SHA256 bits=128/128);
 Sun, 06 Oct 2024 20:43:49 -0700 (PDT)
X-Relaying-Domain: iol.unh.edu
Date: Sun, 06 Oct 2024 20:43:49 -0700 (PDT)
Message-ID: <670358f5.c80a0220.177fd1.5a45SMTPIN_ADDED_MISSING@mx.google.com>
Received: from [172.21.0.2] (unknown [172.18.0.240])
 by postal.iol.unh.edu (Postfix) with ESMTP id 352FB6050A6B;
 Sun,  6 Oct 2024 23:43:49 -0400 (EDT)
Subject: |SUCCESS| pw145286 [PATCH] doc: reword sample app guides
From: dpdklab@iol.unh.edu
To: Test Report <test-report@dpdk.org>
Cc: dpdk-test-reports@iol.unh.edu
In-Reply-To: <20241006224518.54947-1-nandinipersad361@gmail.com>
References: <20241006224518.54947-1-nandinipersad361@gmail.com>
Content-Type: text/plain
X-BeenThere: test-report@dpdk.org
X-Mailman-Version: 2.1.29
Precedence: list
List-Id: automatic DPDK test reports <test-report.dpdk.org>
List-Unsubscribe: <https://mails.dpdk.org/options/test-report>,
 <mailto:test-report-request@dpdk.org?subject=unsubscribe>
List-Archive: <http://mails.dpdk.org/archives/test-report/>
List-Post: <mailto:test-report@dpdk.org>
List-Help: <mailto:test-report-request@dpdk.org?subject=help>
List-Subscribe: <https://mails.dpdk.org/listinfo/test-report>,
 <mailto:test-report-request@dpdk.org?subject=subscribe>
Errors-To: test-report-bounces@dpdk.org

Test-Label: iol-compile-arm64-testing
Test-Status: SUCCESS
http://dpdk.org/patch/145286

_Testing PASS_

Submitter: Nandini Persad <nandinipersad361@gmail.com>
Date: Sunday, October 06 2024 22:45:18 
DPDK git baseline: Repo:dpdk
  Branch: master
  CommitID:41b09d64e35b877e8f29c4e5a8cf944e303695dd

145286 --> testing pass

Upstream job id: Generic-DPDK-Compile-Meson#311070

Test environment and result as below:

+----------------------------------------+--------------------+
|              Environment               | dpdk_meson_compile |
+========================================+====================+
| RHEL9 (ARM)                            | PASS               |
+----------------------------------------+--------------------+
| Ubuntu 20.04 ARM GCC Cross Compile     | PASS               |
+----------------------------------------+--------------------+
| Debian 12 with MUSDK                   | PASS               |
+----------------------------------------+--------------------+
| Fedora 37 (ARM)                        | PASS               |
+----------------------------------------+--------------------+
| Fedora 38 (ARM)                        | PASS               |
+----------------------------------------+--------------------+
| Fedora 38 (ARM Clang)                  | PASS               |
+----------------------------------------+--------------------+
| Fedora 39 (ARM)                        | PASS               |
+----------------------------------------+--------------------+
| Fedora 39 (ARM Clang)                  | PASS               |
+----------------------------------------+--------------------+
| Fedora 40 (ARM)                        | PASS               |
+----------------------------------------+--------------------+
| Ubuntu 20.04 (ARM)                     | PASS               |
+----------------------------------------+--------------------+
| Ubuntu 22.04 (ARM)                     | PASS               |
+----------------------------------------+--------------------+
| Ubuntu 24.04 (ARM)                     | PASS               |
+----------------------------------------+--------------------+
| Debian 11 (Buster) (ARM)               | PASS               |
+----------------------------------------+--------------------+
| Debian 12 (arm)                        | PASS               |
+----------------------------------------+--------------------+
| Ubuntu 20.04 ARM Clang Cross Compile   | PASS               |
+----------------------------------------+--------------------+
| Ubuntu 20.04 aarch32 GCC Cross Compile | PASS               |
+----------------------------------------+--------------------+
| Fedora 40 (ARM Clang)                  | PASS               |
+----------------------------------------+--------------------+
| Ubuntu 20.04 ARM SVE                   | PASS               |
+----------------------------------------+--------------------+
| CentOS Stream 9 (ARM)                  | PASS               |
+----------------------------------------+--------------------+


RHEL9 (ARM)
	Kernel: Depends on container host
	Compiler: gcc 11.4.1 20231218 (Red Hat 11.4.1-3)

Ubuntu 20.04 ARM GCC Cross Compile
	Kernel: Depends on container host
	Compiler: aarch64-linux-gnu-gcc (Ubuntu 9.4.0-1ubuntu1~20.04.2) 9.4.0

Debian 12 with MUSDK
	Kernel: Depends on container host
	Compiler: gcc (Debian 12.2.0-14) 12.2.0

Fedora 37 (ARM)
	Kernel: Depends on container host
	Compiler: gcc 12.3.1 20230508 (Red Hat 12.3.1-1)

Fedora 38 (ARM)
	Kernel: Depends on container host
	Compiler: gcc 13.2.1 20240316 (Red Hat 13.2.1-7)

Fedora 38 (ARM Clang)
	Kernel: Depends on container host
	Compiler: clang 16.0.6 (Fedora 16.0.6-4.fc38)

Fedora 39 (ARM)
	Kernel: Depends on container host
	Compiler: gcc 13.3.1 20240522 (Red Hat 13.3.1-1)

Fedora 39 (ARM Clang)
	Kernel: Depends on container host
	Compiler: clang 17.0.6 (Fedora 17.0.6-2.fc39)

Fedora 40 (ARM)
	Kernel: Depends on container host
	Compiler: gcc 14.2.1 20240801 (Red Hat 14.2.1-1)

Ubuntu 20.04 (ARM)
	Kernel: Depends on container host
	Compiler: gcc (Ubuntu 9.4.0-1ubuntu1~20.04.2) 9.4.0

Ubuntu 22.04 (ARM)
	Kernel: Depends on container host
	Compiler: gcc (Ubuntu 11.4.0-1ubuntu1~22.04) 11.4.0

Ubuntu 24.04 (ARM)
	Kernel: Depends on container host
	Compiler: gcc (Ubuntu 13.2.0-23ubuntu4) 13.2.0

Debian 11 (Buster) (ARM)
	Kernel: Depends on container host
	Compiler: gcc (Debian 10.2.1-6) 10.2.1 20210110

Debian 12 (arm)
	Kernel: Depends on container host
	Compiler: gcc (Debian 12.2.0-14) 12.2.0

Ubuntu 20.04 ARM Clang Cross Compile
	Kernel: Depends on container host
	Compiler: clang 10.0.0-4ubuntu1

Ubuntu 20.04 aarch32 GCC Cross Compile
	Kernel: Depends on container host
	Compiler: gcc 9.4.0

Fedora 40 (ARM Clang)
	Kernel: Depends on container host
	Compiler: clang 18.1.6 (Fedora 18.1.6-3.fc40)

Ubuntu 20.04 ARM SVE
	Kernel: Depends on container host
	Compiler: gcc (Ubuntu 10.5.0-1ubuntu1~20.04) 10.5.0

CentOS Stream 9 (ARM)
	Kernel: Depends on container host
	Compiler: gcc 11.4.1 20231218 (Red Hat 11.4.1-3)

To view detailed results, visit:
https://lab.dpdk.org/results/dashboard/patchsets/31321/

UNH-IOL DPDK Community Lab

To manage your email subscriptions, visit: 
https://lab.dpdk.org/results/dashboard/preferences/subscriptions/