From mboxrd@z Thu Jan  1 00:00:00 1970
Return-Path: <test-report-bounces@dpdk.org>
Received: from mails.dpdk.org (mails.dpdk.org [217.70.189.124])
	by inbox.dpdk.org (Postfix) with ESMTP id E851245A88
	for <public@inbox.dpdk.org>; Mon,  7 Oct 2024 05:57:16 +0200 (CEST)
Received: from mails.dpdk.org (localhost [127.0.0.1])
	by mails.dpdk.org (Postfix) with ESMTP id E52A540A67;
	Mon,  7 Oct 2024 05:57:16 +0200 (CEST)
Received: from mail-pl1-f227.google.com (mail-pl1-f227.google.com
 [209.85.214.227])
 by mails.dpdk.org (Postfix) with ESMTP id 350D5402EA
 for <test-report@dpdk.org>; Mon,  7 Oct 2024 05:57:16 +0200 (CEST)
Received: by mail-pl1-f227.google.com with SMTP id
 d9443c01a7336-20b93887decso30792455ad.3
 for <test-report@dpdk.org>; Sun, 06 Oct 2024 20:57:16 -0700 (PDT)
DKIM-Signature: v=1; a=rsa-sha256; c=relaxed/relaxed;
 d=iol.unh.edu; s=unh-iol; t=1728273435; x=1728878235; darn=dpdk.org;
 h=references:in-reply-to:cc:to:from:subject:message-id:date:from:to
 :cc:subject:date:message-id:reply-to;
 bh=rz7/RyJqbPzG5qgc9gZvWE4PWQ8P/L+8s99uk5JbDNU=;
 b=UYr7tSZKx0t0W749YWJ+SvkZQdQo5dQk9LTbXBkveLERjpdY4A/W9biRbYVh7g7LPK
 LkwUUqSGQcvTam4HCZ2d9AzKU7d9ETm/BbvyPkRDxLxNYamDp7fbXoTRwou3/7ivoAed
 NucTGenY3Q1WcogWGLMjSIZE8h1WH7aFoPyPc=
X-Google-DKIM-Signature: v=1; a=rsa-sha256; c=relaxed/relaxed;
 d=1e100.net; s=20230601; t=1728273435; x=1728878235;
 h=references:in-reply-to:cc:to:from:subject:message-id:date
 :x-gm-message-state:from:to:cc:subject:date:message-id:reply-to;
 bh=rz7/RyJqbPzG5qgc9gZvWE4PWQ8P/L+8s99uk5JbDNU=;
 b=ocgcdtJdm/kCeAfEQTT8lWc1EOSSAtjXHxDFDXQvucpm4VIgnkoHwZ4QqTVgIBrBSC
 upx9846TC2ia2Gx7LeKaUWETNGqvvgKqpoh37BIM6wuYjsVDZWg91T+Ka2Zj+BbQhWax
 L/v+qHRxv5wHEVU1D0Q5s2j8VLbhs0KfjuH3UZEEFnNZ0GAYWXM0D+FZcahIco/JNh3F
 guaU06RoGl+eYHnwn/Gmm2mqxSDrJ5VPz3KaVoNrUSbtZw8320Uen414fhzbTgvJcEvc
 Fm6Ho+PgRSqn7bi6LcdzM/Inoz+BuBuUCkJ145nQHgBjY6skp5VKKthUyEsMShkx8DFY
 /J+A==
X-Gm-Message-State: AOJu0Yw3z5LYpt5O1UAXB7yplD2SrUrbgH4LwNKWKBHdg4MyvQMec3ZN
 zkZ8xlMTnzzHkXqa1TRVDvmuaDJSHYrWkd0WddqvKjmKyazB4uICmJyWEffqK4F66GKlJc8kBsF
 lFhQ8l6PgOFH4FNuClOgFPWVm1W1/Xi/0dsBSPL8R/g2NPcgfScLUrm5r
X-Google-Smtp-Source: AGHT+IFeO+tDGrGhfsLootZ+WdBQlD6vhrlzEorFeCdWYRuGDOpspkb0EnYYF2MFSpqYMq0OMjWUpguHsfYG
X-Received: by 2002:a17:902:db01:b0:20b:ab74:f569 with SMTP id
 d9443c01a7336-20bff2238c2mr130910735ad.60.1728273435371; 
 Sun, 06 Oct 2024 20:57:15 -0700 (PDT)
Received: from postal.iol.unh.edu (postal.iol.unh.edu.
 [2606:4100:3880:1234::84]) by smtp-relay.gmail.com with ESMTPS id
 d9443c01a7336-20c138a842fsm1974405ad.3.2024.10.06.20.57.15
 (version=TLS1_2 cipher=ECDHE-ECDSA-AES128-GCM-SHA256 bits=128/128);
 Sun, 06 Oct 2024 20:57:15 -0700 (PDT)
X-Relaying-Domain: iol.unh.edu
Date: Sun, 06 Oct 2024 20:57:15 -0700 (PDT)
Message-ID: <67035c1b.170a0220.1197a3.e17cSMTPIN_ADDED_MISSING@mx.google.com>
Received: from [172.17.0.3] (unknown [172.18.0.217])
 by postal.iol.unh.edu (Postfix) with ESMTP id 917A66050A6B;
 Sun,  6 Oct 2024 23:57:14 -0400 (EDT)
Subject: |SUCCESS| pw145236-145284 [PATCH] [v1,50/50] net/ntnic: add function
From: dpdklab@iol.unh.edu
To: Test Report <test-report@dpdk.org>
Cc: dpdk-test-reports@iol.unh.edu
In-Reply-To: <20241006203728.330792-51-sil-plv@napatech.com>
References: <20241006203728.330792-51-sil-plv@napatech.com>
Content-Type: text/plain
X-BeenThere: test-report@dpdk.org
X-Mailman-Version: 2.1.29
Precedence: list
List-Id: automatic DPDK test reports <test-report.dpdk.org>
List-Unsubscribe: <https://mails.dpdk.org/options/test-report>,
 <mailto:test-report-request@dpdk.org?subject=unsubscribe>
List-Archive: <http://mails.dpdk.org/archives/test-report/>
List-Post: <mailto:test-report@dpdk.org>
List-Help: <mailto:test-report-request@dpdk.org?subject=help>
List-Subscribe: <https://mails.dpdk.org/listinfo/test-report>,
 <mailto:test-report-request@dpdk.org?subject=subscribe>
Errors-To: test-report-bounces@dpdk.org

Test-Label: iol-unit-arm64-testing
Test-Status: SUCCESS
http://dpdk.org/patch/145284

_Testing PASS_

Submitter: Serhii Iliushyk <sil-plv@napatech.com>
Date: Sunday, October 06 2024 20:37:17 
DPDK git baseline: Repo:dpdk
  Branch: master
  CommitID:0107bd57c612a3b8b6aab6e5ae761bad3a9c2b1e

145236-145284 --> testing pass

Upstream job id: Generic-Unit-Test-DPDK#271116

Test environment and result as below:

+-----------------------------+---------------------------+----------------+--------------+------------------------------+
|         Environment         | cryptodev_sw_zuc_autotest | dpdk_unit_test | lpm_autotest | cryptodev_sw_snow3g_autotest |
+=============================+===========================+================+==============+==============================+
| Debian 12 (arm)             | PASS                      | PASS           | SKIPPED      | PASS                         |
+-----------------------------+---------------------------+----------------+--------------+------------------------------+
| 32-bit Ubuntu 20.04.4 (ARM) | SKIPPED                   | PASS           | SKIPPED      | SKIPPED                      |
+-----------------------------+---------------------------+----------------+--------------+------------------------------+
| CentOS Stream 9 (ARM)       | SKIPPED                   | PASS           | SKIPPED      | SKIPPED                      |
+-----------------------------+---------------------------+----------------+--------------+------------------------------+
| Debian 11 (Buster) (ARM)    | SKIPPED                   | PASS           | SKIPPED      | SKIPPED                      |
+-----------------------------+---------------------------+----------------+--------------+------------------------------+
| Fedora 37 (ARM)             | SKIPPED                   | PASS           | SKIPPED      | SKIPPED                      |
+-----------------------------+---------------------------+----------------+--------------+------------------------------+
| Fedora 38 (ARM)             | SKIPPED                   | PASS           | SKIPPED      | SKIPPED                      |
+-----------------------------+---------------------------+----------------+--------------+------------------------------+
| Fedora 38 (ARM Clang)       | SKIPPED                   | PASS           | SKIPPED      | SKIPPED                      |
+-----------------------------+---------------------------+----------------+--------------+------------------------------+
| Fedora 39 (ARM)             | SKIPPED                   | PASS           | SKIPPED      | SKIPPED                      |
+-----------------------------+---------------------------+----------------+--------------+------------------------------+
| Fedora 39 (ARM Clang)       | SKIPPED                   | PASS           | SKIPPED      | SKIPPED                      |
+-----------------------------+---------------------------+----------------+--------------+------------------------------+
| Fedora 40 (ARM)             | SKIPPED                   | PASS           | SKIPPED      | SKIPPED                      |
+-----------------------------+---------------------------+----------------+--------------+------------------------------+
| Fedora 40 (ARM Clang)       | SKIPPED                   | PASS           | SKIPPED      | SKIPPED                      |
+-----------------------------+---------------------------+----------------+--------------+------------------------------+
| Ubuntu 20.04 (ARM)          | SKIPPED                   | PASS           | SKIPPED      | SKIPPED                      |
+-----------------------------+---------------------------+----------------+--------------+------------------------------+
| Ubuntu 24.04 (ARM)          | SKIPPED                   | PASS           | SKIPPED      | SKIPPED                      |
+-----------------------------+---------------------------+----------------+--------------+------------------------------+
| RHEL9 (ARM)                 | SKIPPED                   | PASS           | SKIPPED      | SKIPPED                      |
+-----------------------------+---------------------------+----------------+--------------+------------------------------+
| Ubuntu 22.04 (ARM)          | SKIPPED                   | PASS           | SKIPPED      | SKIPPED                      |
+-----------------------------+---------------------------+----------------+--------------+------------------------------+
| Ubuntu 20.04 ARM SVE        | SKIPPED                   | SKIPPED        | PASS         | SKIPPED                      |
+-----------------------------+---------------------------+----------------+--------------+------------------------------+


Debian 12 (arm)
	Kernel: Depends on container host
	Compiler: gcc (Debian 12.2.0-14) 12.2.0

32-bit Ubuntu 20.04.4 (ARM)
	Kernel: 5.4.0-155-generic aarch64
	Compiler: gcc 9.4

CentOS Stream 9 (ARM)
	Kernel: Depends on container host
	Compiler: gcc 11.4.1 20231218 (Red Hat 11.4.1-3)

Debian 11 (Buster) (ARM)
	Kernel: Depends on container host
	Compiler: gcc (Debian 10.2.1-6) 10.2.1 20210110

Fedora 37 (ARM)
	Kernel: Depends on container host
	Compiler: gcc 12.3.1 20230508 (Red Hat 12.3.1-1)

Fedora 38 (ARM)
	Kernel: Depends on container host
	Compiler: gcc 13.2.1 20240316 (Red Hat 13.2.1-7)

Fedora 38 (ARM Clang)
	Kernel: Depends on container host
	Compiler: clang 16.0.6 (Fedora 16.0.6-4.fc38)

Fedora 39 (ARM)
	Kernel: Depends on container host
	Compiler: gcc 13.3.1 20240522 (Red Hat 13.3.1-1)

Fedora 39 (ARM Clang)
	Kernel: Depends on container host
	Compiler: clang 17.0.6 (Fedora 17.0.6-2.fc39)

Fedora 40 (ARM)
	Kernel: Depends on container host
	Compiler: gcc 14.2.1 20240801 (Red Hat 14.2.1-1)

Fedora 40 (ARM Clang)
	Kernel: Depends on container host
	Compiler: clang 18.1.6 (Fedora 18.1.6-3.fc40)

Ubuntu 20.04 (ARM)
	Kernel: Depends on container host
	Compiler: gcc (Ubuntu 9.4.0-1ubuntu1~20.04.2) 9.4.0

Ubuntu 24.04 (ARM)
	Kernel: Depends on container host
	Compiler: gcc (Ubuntu 13.2.0-23ubuntu4) 13.2.0

RHEL9 (ARM)
	Kernel: Depends on container host
	Compiler: gcc 11.4.1 20231218 (Red Hat 11.4.1-3)

Ubuntu 22.04 (ARM)
	Kernel: Depends on container host
	Compiler: gcc (Ubuntu 11.4.0-1ubuntu1~22.04) 11.4.0

Ubuntu 20.04 ARM SVE
	Kernel: Depends on container host
	Compiler: gcc (Ubuntu 10.5.0-1ubuntu1~20.04) 10.5.0

To view detailed results, visit:
https://lab.dpdk.org/results/dashboard/patchsets/31320/

UNH-IOL DPDK Community Lab

To manage your email subscriptions, visit: 
https://lab.dpdk.org/results/dashboard/preferences/subscriptions/