From mboxrd@z Thu Jan  1 00:00:00 1970
Return-Path: <test-report-bounces@dpdk.org>
Received: from mails.dpdk.org (mails.dpdk.org [217.70.189.124])
	by inbox.dpdk.org (Postfix) with ESMTP id E8CEC45AD2
	for <public@inbox.dpdk.org>; Mon,  7 Oct 2024 11:33:38 +0200 (CEST)
Received: from mails.dpdk.org (localhost [127.0.0.1])
	by mails.dpdk.org (Postfix) with ESMTP id E266B402EA;
	Mon,  7 Oct 2024 11:33:38 +0200 (CEST)
Received: from mail-qt1-f228.google.com (mail-qt1-f228.google.com
 [209.85.160.228])
 by mails.dpdk.org (Postfix) with ESMTP id AE77A4026C
 for <test-report@dpdk.org>; Mon,  7 Oct 2024 11:33:36 +0200 (CEST)
Received: by mail-qt1-f228.google.com with SMTP id
 d75a77b69052e-4581f44b9b4so30020501cf.1
 for <test-report@dpdk.org>; Mon, 07 Oct 2024 02:33:36 -0700 (PDT)
DKIM-Signature: v=1; a=rsa-sha256; c=relaxed/relaxed;
 d=iol.unh.edu; s=unh-iol; t=1728293616; x=1728898416; darn=dpdk.org;
 h=cc:to:from:subject:message-id:date:from:to:cc:subject:date
 :message-id:reply-to;
 bh=gBsEl940b7pwRpAcf4RXC/NJAaIDMWCFSkY4KBIW/Pg=;
 b=Vuu56G7sZ37I/3ZSff4KjOBS1Uj4G9JTIG7OaWJ/hOq7naurcrul2ZkFbbe/SYd0VA
 eEUn/yTM1rRnQWvnlu20HT5yQkjEegVHqUs0vPUTIWjQWU4JM0rVL9DyJP35L/FAHcft
 Vil9S3bdNdR74DDaA4q59XMkoJvvszWj/f4pg=
X-Google-DKIM-Signature: v=1; a=rsa-sha256; c=relaxed/relaxed;
 d=1e100.net; s=20230601; t=1728293616; x=1728898416;
 h=cc:to:from:subject:message-id:date:x-gm-message-state:from:to:cc
 :subject:date:message-id:reply-to;
 bh=gBsEl940b7pwRpAcf4RXC/NJAaIDMWCFSkY4KBIW/Pg=;
 b=Z+SyiZVhEq11cogX7AzAd14FI63HTDpM4IKTME2eVHmNtURULPFNrvsabTe8ctFfC2
 IW2y0nl0YCnVxhHWSLa4bDOFM3h93/mdnq2ypbTJC60tjc33b3IOXCsUSuW4MnceglWQ
 C2+6EzVuSUjV2wRiCauY3IUtUlIIiGmKLYmn0Gle6K9jQRHdrtEOPy0EvcDqOe5w60zD
 PzJjOxsRnh3X39FuIEmPsRw92cCim0IWvXmtSFnuxLi+c0lLw7GzFwznOvhWtT+RZSmt
 m2LTqoLzMUsmDSuRuMrsYy1KU4jQ0ZqvQ/I/+TQ35wx5cd4vhwrMjY05oX/6w0xKQVlk
 Qguw==
X-Gm-Message-State: AOJu0YxykRyzY4p0znhyPgBUlOOX6xHiN0uZno2a2DIBaFZCDCL0ypdZ
 e3s5oO+Xbm2FmmYJFiJOZ/jGeRr6su5sr2KvtTcn0mcwfGXHNbjvP9tQ9EvBBKrqX84t9JIXCxg
 j59ehnfw02AAtanhH+VHtjMPtHEKymYmL+SreqsOwHeAnYmZn
X-Google-Smtp-Source: AGHT+IHRrkcxo72F7KHkp1FsCIBvY4BTIztb6zJliyRye57IJJYvwuGYUpi2g40aMDyDtgdXEObMqY70tEb4
X-Received: by 2002:a05:622a:5292:b0:45d:adf4:3c1 with SMTP id
 d75a77b69052e-45dadf409a3mr93209631cf.12.1728293616017; 
 Mon, 07 Oct 2024 02:33:36 -0700 (PDT)
Received: from postal.iol.unh.edu (postal.iol.unh.edu.
 [2606:4100:3880:1234::84]) by smtp-relay.gmail.com with ESMTPS id
 d75a77b69052e-45da763c749sm1013651cf.25.2024.10.07.02.33.35
 (version=TLS1_2 cipher=ECDHE-ECDSA-AES128-GCM-SHA256 bits=128/128);
 Mon, 07 Oct 2024 02:33:36 -0700 (PDT)
X-Relaying-Domain: iol.unh.edu
Date: Mon, 07 Oct 2024 02:33:36 -0700 (PDT)
Message-ID: <6703aaf0.050a0220.39fc8a.6806SMTPIN_ADDED_MISSING@mx.google.com>
Received: from [172.17.0.5] (unknown [172.18.0.217])
 by postal.iol.unh.edu (Postfix) with ESMTP id 88A346050A6B;
 Mon,  7 Oct 2024 05:33:35 -0400 (EDT)
Subject: |SUCCESS| [GIT MASTER] e8eb14e00d56027bef8569d68cf00e39670edca2
From: dpdklab@iol.unh.edu
To: Test Report <test-report@dpdk.org>
Cc: dpdk-test-reports@iol.unh.edu, Xueming Li <xuemingl@nvidia.com>,
 Christian Ehrhardt <christian.ehrhardt@canonical.com>,
 Kevin Traynor <ktraynor@redhat.com>, Luca Boccassi <bluca@debian.org>
Content-Type: text/plain
X-BeenThere: test-report@dpdk.org
X-Mailman-Version: 2.1.29
Precedence: list
List-Id: automatic DPDK test reports <test-report.dpdk.org>
List-Unsubscribe: <https://mails.dpdk.org/options/test-report>,
 <mailto:test-report-request@dpdk.org?subject=unsubscribe>
List-Archive: <http://mails.dpdk.org/archives/test-report/>
List-Post: <mailto:test-report@dpdk.org>
List-Help: <mailto:test-report-request@dpdk.org?subject=help>
List-Subscribe: <https://mails.dpdk.org/listinfo/test-report>,
 <mailto:test-report-request@dpdk.org?subject=subscribe>
Errors-To: test-report-bounces@dpdk.org

_Testing PASS_

Branch: tags/v23.11

e8eb14e00d56027bef8569d68cf00e39670edca2 --> testing pass

Upstream job id: ACVP-FIPS-testing#7210

Test environment and result as below:

+--------------------+----------------------+----------------------+
|    Environment     | compressdev_zlib_pmd | dpdk_fips_validation |
+====================+======================+======================+
| Ubuntu 22.04 (ARM) | PASS                 | SKIPPED              |
+--------------------+----------------------+----------------------+
| Ubuntu 22.04       | PASS                 | SKIPPED              |
+--------------------+----------------------+----------------------+
| Ubuntu 20.04       | SKIPPED              | PASS                 |
+--------------------+----------------------+----------------------+


Ubuntu 22.04 (ARM)
	Kernel: 5.15.0-97-generic
	Compiler: gcc gcc (Ubuntu 11.4.0-1ubuntu1~22.04) 11.4.0

Ubuntu 22.04
	Kernel: 5.15.0-100-generic
	Compiler: gcc gcc (Ubuntu 11.4.0-1ubuntu1~22.04) 11.4.0

Ubuntu 20.04
	Kernel: Depends on container host
	Compiler: gcc (Ubuntu 9.4.0-1ubuntu1~20.04.2) 9.4.0

To view detailed results, visit:
https://lab.dpdk.org/results/dashboard/tarballs/30890/

UNH-IOL DPDK Community Lab

To manage your email subscriptions, visit: 
https://lab.dpdk.org/results/dashboard/preferences/subscriptions/