From mboxrd@z Thu Jan  1 00:00:00 1970
Return-Path: <test-report-bounces@dpdk.org>
Received: from mails.dpdk.org (mails.dpdk.org [217.70.189.124])
	by inbox.dpdk.org (Postfix) with ESMTP id E8D7945AD7
	for <public@inbox.dpdk.org>; Mon,  7 Oct 2024 13:46:47 +0200 (CEST)
Received: from mails.dpdk.org (localhost [127.0.0.1])
	by mails.dpdk.org (Postfix) with ESMTP id E4BC841157;
	Mon,  7 Oct 2024 13:46:47 +0200 (CEST)
Received: from mail-pl1-f226.google.com (mail-pl1-f226.google.com
 [209.85.214.226])
 by mails.dpdk.org (Postfix) with ESMTP id 4341841157
 for <test-report@dpdk.org>; Mon,  7 Oct 2024 13:46:42 +0200 (CEST)
Received: by mail-pl1-f226.google.com with SMTP id
 d9443c01a7336-20b9b35c7c7so30527845ad.1
 for <test-report@dpdk.org>; Mon, 07 Oct 2024 04:46:42 -0700 (PDT)
DKIM-Signature: v=1; a=rsa-sha256; c=relaxed/relaxed;
 d=iol.unh.edu; s=unh-iol; t=1728301601; x=1728906401; darn=dpdk.org;
 h=cc:to:from:subject:message-id:date:from:to:cc:subject:date
 :message-id:reply-to;
 bh=+VaZHBuqs4HNf5RRPa1KjoVTonUx7/30Cf92V464O1k=;
 b=fWqIM1JPtglOFVsu9xQoNoEFEXjacqmfBgMBfMu9f1OTsVsLduNBHMZfrY5JDqHQn6
 R2J6oab2G+3L5DyFLbvRAF8RUPe4E7cyWlwLJurb/bVDI9L9DZXmoMzl9k8pN4F6FrOo
 0VcizXBqitlOXyrpVUTL4c+0v73byOOhsuWxs=
X-Google-DKIM-Signature: v=1; a=rsa-sha256; c=relaxed/relaxed;
 d=1e100.net; s=20230601; t=1728301601; x=1728906401;
 h=cc:to:from:subject:message-id:date:x-gm-message-state:from:to:cc
 :subject:date:message-id:reply-to;
 bh=+VaZHBuqs4HNf5RRPa1KjoVTonUx7/30Cf92V464O1k=;
 b=vwy9B09fTPJHyGVMm5WdTlZfnQObAu+HR2qHF5/O9f4tNh/sTgF4ZpQNkRXnBFhPXD
 u8c5m+6fvdwZ5HjXqLTeIYeGTACw+pEONGFVPBxtuZWbiibvXgxqHrlyFO3ZvxB3WKab
 J9ZokyZuEYIK5eO014QHET9kt3SNMHAWK+JTD52IjzVk4twl4ssH4/875CeADZ6BczHj
 YLvHGbIOGA39J584xqWFYm9DU34u6+UiAGpw7xhqZw25QVEjEPmqohriq6/I5XBfr6P4
 Yw9n4CDHkYQppKppKkiJxmSWa3sP2yViLTlU6H493gd8BLVs2ytvwbPZkRO2+cwrAwh4
 9sIw==
X-Gm-Message-State: AOJu0Yz+QlK39ixOsDYnq9zlXQLBfnJ/H6GBiXo4HK/AnyG95VBPBxeU
 MKrrflkAT45vUwlpMVTyJNGyN9eA4F33TSBev0GoeQleQzxlL6Y6Vlb0ewNp/toU0xpwL3328qS
 7DibXVbUOVNS7+B/EHoRVyNoVPOywFaP+2v8LKGfjqjnbsDSX
X-Google-Smtp-Source: AGHT+IHVIXfoQO3enC1iOmfJL/N2Z12UJmVQXnYxErTPt8Kz4zQ5uelDQxMmmR1s2FT2VjzBvj4CMG0Qs7xC
X-Received: by 2002:a17:903:32d2:b0:206:a79c:ba37 with SMTP id
 d9443c01a7336-20bfdfb05e7mr128255715ad.19.1728301601441; 
 Mon, 07 Oct 2024 04:46:41 -0700 (PDT)
Received: from postal.iol.unh.edu (postal.iol.unh.edu.
 [2606:4100:3880:1234::84]) by smtp-relay.gmail.com with ESMTPS id
 d9443c01a7336-20c138d4ce6sm2368855ad.57.2024.10.07.04.46.41
 (version=TLS1_2 cipher=ECDHE-ECDSA-AES128-GCM-SHA256 bits=128/128);
 Mon, 07 Oct 2024 04:46:41 -0700 (PDT)
X-Relaying-Domain: iol.unh.edu
Date: Mon, 07 Oct 2024 04:46:41 -0700 (PDT)
Message-ID: <6703ca21.170a0220.334b33.03daSMTPIN_ADDED_MISSING@mx.google.com>
Received: from [172.21.0.4] (unknown [172.18.0.240])
 by postal.iol.unh.edu (Postfix) with ESMTP id A2F5C6050A6B;
 Mon,  7 Oct 2024 07:46:40 -0400 (EDT)
Subject: |SUCCESS| [GIT MASTER] e8eb14e00d56027bef8569d68cf00e39670edca2
From: dpdklab@iol.unh.edu
To: Test Report <test-report@dpdk.org>
Cc: dpdk-test-reports@iol.unh.edu, Xueming Li <xuemingl@nvidia.com>,
 Christian Ehrhardt <christian.ehrhardt@canonical.com>,
 Kevin Traynor <ktraynor@redhat.com>, Luca Boccassi <bluca@debian.org>
Content-Type: text/plain
X-BeenThere: test-report@dpdk.org
X-Mailman-Version: 2.1.29
Precedence: list
List-Id: automatic DPDK test reports <test-report.dpdk.org>
List-Unsubscribe: <https://mails.dpdk.org/options/test-report>,
 <mailto:test-report-request@dpdk.org?subject=unsubscribe>
List-Archive: <http://mails.dpdk.org/archives/test-report/>
List-Post: <mailto:test-report@dpdk.org>
List-Help: <mailto:test-report-request@dpdk.org?subject=help>
List-Subscribe: <https://mails.dpdk.org/listinfo/test-report>,
 <mailto:test-report-request@dpdk.org?subject=subscribe>
Errors-To: test-report-bounces@dpdk.org

_Testing PASS_

Branch: tags/v23.11

e8eb14e00d56027bef8569d68cf00e39670edca2 --> testing pass

Upstream job id: Generic-DPDK-Compile-Meson#311273

Test environment and result as below:

+---------------------+----------------------+-----------------------+-------------------+--------------------+------------------+-------------------+
|     Environment     | dpdk_mingw64_compile | dpdk_win_llvm_compile | dpdk_msvc_compile | dpdk_meson_compile | dpdk_compile_ovs | dpdk_compile_spdk |
+=====================+======================+=======================+===================+====================+==================+===================+
| Windows Server 2022 | PASS                 | PASS                  | PASS              | SKIPPED            | SKIPPED          | SKIPPED           |
+---------------------+----------------------+-----------------------+-------------------+--------------------+------------------+-------------------+
| FreeBSD 13.4        | SKIPPED              | SKIPPED               | SKIPPED           | PASS               | SKIPPED          | SKIPPED           |
+---------------------+----------------------+-----------------------+-------------------+--------------------+------------------+-------------------+
| FreeBSD 14.1        | SKIPPED              | SKIPPED               | SKIPPED           | PASS               | SKIPPED          | SKIPPED           |
+---------------------+----------------------+-----------------------+-------------------+--------------------+------------------+-------------------+
| CentOS Stream 9     | SKIPPED              | SKIPPED               | SKIPPED           | PASS               | PASS             | PASS              |
+---------------------+----------------------+-----------------------+-------------------+--------------------+------------------+-------------------+
| Debian Bullseye     | SKIPPED              | SKIPPED               | SKIPPED           | PASS               | PASS             | PASS              |
+---------------------+----------------------+-----------------------+-------------------+--------------------+------------------+-------------------+
| Debian 12           | SKIPPED              | SKIPPED               | SKIPPED           | PASS               | PASS             | PASS              |
+---------------------+----------------------+-----------------------+-------------------+--------------------+------------------+-------------------+
| Fedora 37           | SKIPPED              | SKIPPED               | SKIPPED           | PASS               | PASS             | PASS              |
+---------------------+----------------------+-----------------------+-------------------+--------------------+------------------+-------------------+
| Fedora 38 (Clang)   | SKIPPED              | SKIPPED               | SKIPPED           | PASS               | PASS             | PASS              |
+---------------------+----------------------+-----------------------+-------------------+--------------------+------------------+-------------------+
| Fedora 38           | SKIPPED              | SKIPPED               | SKIPPED           | PASS               | PASS             | PASS              |
+---------------------+----------------------+-----------------------+-------------------+--------------------+------------------+-------------------+
| Fedora 39 (Clang)   | SKIPPED              | SKIPPED               | SKIPPED           | PASS               | PASS             | PASS              |
+---------------------+----------------------+-----------------------+-------------------+--------------------+------------------+-------------------+
| Fedora 39           | SKIPPED              | SKIPPED               | SKIPPED           | PASS               | PASS             | PASS              |
+---------------------+----------------------+-----------------------+-------------------+--------------------+------------------+-------------------+
| Fedora 40 (Clang)   | SKIPPED              | SKIPPED               | SKIPPED           | PASS               | PASS             | PASS              |
+---------------------+----------------------+-----------------------+-------------------+--------------------+------------------+-------------------+
| Fedora 40           | SKIPPED              | SKIPPED               | SKIPPED           | PASS               | PASS             | PASS              |
+---------------------+----------------------+-----------------------+-------------------+--------------------+------------------+-------------------+
| openSUSE Leap 15    | SKIPPED              | SKIPPED               | SKIPPED           | PASS               | PASS             | SKIPPED           |
+---------------------+----------------------+-----------------------+-------------------+--------------------+------------------+-------------------+
| RHEL8               | SKIPPED              | SKIPPED               | SKIPPED           | PASS               | PASS             | SKIPPED           |
+---------------------+----------------------+-----------------------+-------------------+--------------------+------------------+-------------------+
| RHEL9               | SKIPPED              | SKIPPED               | SKIPPED           | PASS               | PASS             | SKIPPED           |
+---------------------+----------------------+-----------------------+-------------------+--------------------+------------------+-------------------+
| Ubuntu 20.04        | SKIPPED              | SKIPPED               | SKIPPED           | PASS               | PASS             | SKIPPED           |
+---------------------+----------------------+-----------------------+-------------------+--------------------+------------------+-------------------+
| Ubuntu 22.04        | SKIPPED              | SKIPPED               | SKIPPED           | PASS               | PASS             | PASS              |
+---------------------+----------------------+-----------------------+-------------------+--------------------+------------------+-------------------+
| Ubuntu 24.04        | SKIPPED              | SKIPPED               | SKIPPED           | PASS               | PASS             | PASS              |
+---------------------+----------------------+-----------------------+-------------------+--------------------+------------------+-------------------+
| Alpine              | SKIPPED              | SKIPPED               | SKIPPED           | PASS               | PASS             | SKIPPED           |
+---------------------+----------------------+-----------------------+-------------------+--------------------+------------------+-------------------+


Windows Server 2022
	Kernel: 10.0.20348.2031
	Compiler: clang 15.0.7, gcc 14.1.0 (MinGW), and MSVC VS 19.39.33521

FreeBSD 13.4
	Kernel: 13.4-RELEASE-p1
	Compiler: clang 18.1.6

FreeBSD 14.1
	Kernel: 14.1-RELEASE-p3
	Compiler: clang 18.1.5

CentOS Stream 9
	Kernel: Depends on container host
	Compiler: gcc 11.4.1 20231218 (Red Hat 11.4.1-3)

Debian Bullseye
	Kernel: Depends on container host
	Compiler: gcc (Debian 10.2.1-6) 10.2.1 20210110

Debian 12
	Kernel: Depends on container host
	Compiler: gcc (Debian 12.2.0-14) 12.2.0

Fedora 37
	Kernel: Depends on container host system
	Compiler: gcc 12.3.1 20230508 (Red Hat 12.3.1-1)

Fedora 38 (Clang)
	Kernel: Depends on container host
	Compiler: clang 16.0.6 (Fedora 16.0.6-4.fc38)

Fedora 38
	Kernel: Depends on container host
	Compiler: gcc 13.2.1 20240316 (Red Hat 13.2.1-7)

Fedora 39 (Clang)
	Kernel: Depends on container host
	Compiler: clang 17.0.6 (Fedora 17.0.6-2.fc39)

Fedora 39
	Kernel: Depends on container host
	Compiler: gcc 13.3.1 20240522 (Red Hat 13.3.1-1)

Fedora 40 (Clang)
	Kernel: Depends on container host
	Compiler: clang 18.1.6 (Fedora 18.1.6-3.fc40)

Fedora 40
	Kernel: Depends on container host
	Compiler: gcc 14.2.1 20240801 (Red Hat 14.2.1-1)

openSUSE Leap 15
	Kernel: Depends on container host
	Compiler: gcc (SUSE Linux) 7.5.0

RHEL8
	Kernel: Depends on container host
	Compiler: gcc 8.5.0 20210514 (Red Hat 8.5.0-22)

RHEL9
	Kernel: Depends on container host
	Compiler: gcc 11.4.1 20231218 (Red Hat 11.4.1-3)

Ubuntu 20.04
	Kernel: Depends on container host
	Compiler: gcc (Ubuntu 9.4.0-1ubuntu1~20.04.2) 9.4.0

Ubuntu 22.04
	Kernel: Depends on container host
	Compiler: gcc (Ubuntu 11.4.0-1ubuntu1~22.04) 11.4.0

Ubuntu 24.04
	Kernel: Depends on container host
	Compiler: gcc (Ubuntu 13.2.0-23ubuntu4) 13.2.0

Alpine
	Kernel: Depends on container host
	Compiler: gcc (Alpine 13.2.1_git20240309) 13.2.1 20240309

To view detailed results, visit:
https://lab.dpdk.org/results/dashboard/tarballs/30890/

UNH-IOL DPDK Community Lab

To manage your email subscriptions, visit: 
https://lab.dpdk.org/results/dashboard/preferences/subscriptions/