From mboxrd@z Thu Jan  1 00:00:00 1970
Return-Path: <test-report-bounces@dpdk.org>
Received: from mails.dpdk.org (mails.dpdk.org [217.70.189.124])
	by inbox.dpdk.org (Postfix) with ESMTP id 2301045AD8
	for <public@inbox.dpdk.org>; Mon,  7 Oct 2024 20:44:45 +0200 (CEST)
Received: from mails.dpdk.org (localhost [127.0.0.1])
	by mails.dpdk.org (Postfix) with ESMTP id 1F3F14025D;
	Mon,  7 Oct 2024 20:44:45 +0200 (CEST)
Received: from mail-yw1-f228.google.com (mail-yw1-f228.google.com
 [209.85.128.228])
 by mails.dpdk.org (Postfix) with ESMTP id CB7EC4025C
 for <test-report@dpdk.org>; Mon,  7 Oct 2024 20:44:43 +0200 (CEST)
Received: by mail-yw1-f228.google.com with SMTP id
 00721157ae682-6e1f48e7c18so36979177b3.3
 for <test-report@dpdk.org>; Mon, 07 Oct 2024 11:44:43 -0700 (PDT)
DKIM-Signature: v=1; a=rsa-sha256; c=relaxed/relaxed;
 d=iol.unh.edu; s=unh-iol; t=1728326683; x=1728931483; darn=dpdk.org;
 h=references:in-reply-to:cc:to:from:subject:message-id:date:from:to
 :cc:subject:date:message-id:reply-to;
 bh=j0fSxBmFv5or6wkdQAKabjeDCpjmkEB2y7FSiF5BdfE=;
 b=LLyNuo3wxPt5roORnZIbdKb8+qm07g10ckWjTIqepsMuejq6AdacHHf3/LSIG7jVFr
 gWQOwxrp/FTOUQOkEnwA4Hej24XalIxpyAwIYrpe0wgH0dfUsZf7a+RGhWVvp6Er7VcF
 1FwRAtUJkr2A79xkZj1y7I+6ehEj3i8TZ/jo8=
X-Google-DKIM-Signature: v=1; a=rsa-sha256; c=relaxed/relaxed;
 d=1e100.net; s=20230601; t=1728326683; x=1728931483;
 h=references:in-reply-to:cc:to:from:subject:message-id:date
 :x-gm-message-state:from:to:cc:subject:date:message-id:reply-to;
 bh=j0fSxBmFv5or6wkdQAKabjeDCpjmkEB2y7FSiF5BdfE=;
 b=EZ6kgSNJ2o5nW6qTlOlC3sQ+WD6lyZTy6Bb+kOHhxGOMcd4sZyVdJ1t1e6sE0uAGm8
 XFZnlis+cPyLmksXwLJtNjZy9+7bq+l6OEQ/juaczxAzq2q+o1zYXe2ao5QXYmYultoT
 /JeDCcbFJTyCIRbY8+syjsOq0z1NdLG3ugOGGiRrXKFgqH9J7TIOZBYp4imA+gNMWVvn
 +wARteXpa3pWdJSYqdZZEbMhylsZQNwbPMgmm8GQPHjicze8KlkXZfI5sGx8QSqR8Ulx
 ARB7Cy5/t9VmMmMJYYt4SY48qYXQzWclTGrnbM3QBIN/bRSXPuAt6Or6hXIVOKow0n9T
 K+lg==
X-Gm-Message-State: AOJu0YweKvk1W1Lc9CyYA5SF33qMmbd9O2aAX9coyXwtefbYXzN7QYW6
 AMgzLdQhgOvtfCOm6b7q8WHal/YLFFCIDXRjo4JebLnpkKAoztfh2TYWwdOvtnmdvesfHojz6eT
 zqvmbT792CUxjB3/RDE3fYFa42OX+GSJ7TIXqiQEi
X-Google-Smtp-Source: AGHT+IH4jth8OVGUb4SrGvRrT381wTLw6keadHg5enCPmSFwdCmUhRlccowJxRyeGmktpWUULMXFJ6S1bVbk
X-Received: by 2002:a05:690c:ec8:b0:6e2:11b7:f681 with SMTP id
 00721157ae682-6e2c7241400mr89159507b3.6.1728326683179; 
 Mon, 07 Oct 2024 11:44:43 -0700 (PDT)
Received: from postal.iol.unh.edu (postal.iol.unh.edu. [132.177.123.84])
 by smtp-relay.gmail.com with ESMTPS id
 00721157ae682-6e2d93ef7b1sm3097837b3.70.2024.10.07.11.44.43
 (version=TLS1_2 cipher=ECDHE-ECDSA-AES128-GCM-SHA256 bits=128/128);
 Mon, 07 Oct 2024 11:44:43 -0700 (PDT)
X-Relaying-Domain: iol.unh.edu
Date: Mon, 07 Oct 2024 11:44:43 -0700 (PDT)
Message-ID: <67042c1b.810a0220.367f18.6300SMTPIN_ADDED_MISSING@mx.google.com>
Received: from [172.21.0.2] (unknown [172.18.0.240])
 by postal.iol.unh.edu (Postfix) with ESMTP id CEC81605C380;
 Mon,  7 Oct 2024 14:44:42 -0400 (EDT)
Subject: |SUCCESS| pw145300-145302 [PATCH] [v2,3/3] ethdev: make TM shaper pa
From: dpdklab@iol.unh.edu
To: Test Report <test-report@dpdk.org>
Cc: dpdk-test-reports@iol.unh.edu
In-Reply-To: <20241007114907.548941-4-bruce.richardson@intel.com>
References: <20241007114907.548941-4-bruce.richardson@intel.com>
Content-Type: text/plain
X-BeenThere: test-report@dpdk.org
X-Mailman-Version: 2.1.29
Precedence: list
List-Id: automatic DPDK test reports <test-report.dpdk.org>
List-Unsubscribe: <https://mails.dpdk.org/options/test-report>,
 <mailto:test-report-request@dpdk.org?subject=unsubscribe>
List-Archive: <http://mails.dpdk.org/archives/test-report/>
List-Post: <mailto:test-report@dpdk.org>
List-Help: <mailto:test-report-request@dpdk.org?subject=help>
List-Subscribe: <https://mails.dpdk.org/listinfo/test-report>,
 <mailto:test-report-request@dpdk.org?subject=subscribe>
Errors-To: test-report-bounces@dpdk.org

Test-Label: iol-compile-amd64-testing
Test-Status: SUCCESS
http://dpdk.org/patch/145302

_Testing PASS_

Submitter: Bruce Richardson <bruce.richardson@intel.com>
Date: Monday, October 07 2024 11:49:07 
DPDK git baseline: Repo:dpdk
  Branch: master
  CommitID:d2b7539eb0a60925e75a10d2108da8935071a887

145300-145302 --> testing pass

Upstream job id: Windows-Compile-DPDK-Native#22826

Test environment and result as below:

+---------------------+-----------------------+--------------------+----------------------+-------------------+
|     Environment     | dpdk_win_llvm_compile | dpdk_meson_compile | dpdk_mingw64_compile | dpdk_msvc_compile |
+=====================+=======================+====================+======================+===================+
| Windows Server 2022 | PASS                  | SKIPPED            | PASS                 | PASS              |
+---------------------+-----------------------+--------------------+----------------------+-------------------+
| FreeBSD 13.4        | SKIPPED               | PASS               | SKIPPED              | SKIPPED           |
+---------------------+-----------------------+--------------------+----------------------+-------------------+
| FreeBSD 14.1        | SKIPPED               | PASS               | SKIPPED              | SKIPPED           |
+---------------------+-----------------------+--------------------+----------------------+-------------------+


Windows Server 2022
	Kernel: 10.0.20348.2031
	Compiler: clang 15.0.7, gcc 14.1.0 (MinGW), and MSVC VS 19.39.33521

FreeBSD 13.4
	Kernel: 13.4-RELEASE-p1
	Compiler: clang 18.1.6

FreeBSD 14.1
	Kernel: 14.1-RELEASE-p3
	Compiler: clang 18.1.5

To view detailed results, visit:
https://lab.dpdk.org/results/dashboard/patchsets/31331/

UNH-IOL DPDK Community Lab

To manage your email subscriptions, visit: 
https://lab.dpdk.org/results/dashboard/preferences/subscriptions/