From mboxrd@z Thu Jan  1 00:00:00 1970
Return-Path: <test-report-bounces@dpdk.org>
Received: from mails.dpdk.org (mails.dpdk.org [217.70.189.124])
	by inbox.dpdk.org (Postfix) with ESMTP id 1502345ADB
	for <public@inbox.dpdk.org>; Tue,  8 Oct 2024 03:23:22 +0200 (CEST)
Received: from mails.dpdk.org (localhost [127.0.0.1])
	by mails.dpdk.org (Postfix) with ESMTP id 0D95840261;
	Tue,  8 Oct 2024 03:23:22 +0200 (CEST)
Received: from mail-yw1-f226.google.com (mail-yw1-f226.google.com
 [209.85.128.226])
 by mails.dpdk.org (Postfix) with ESMTP id D7293400D7
 for <test-report@dpdk.org>; Tue,  8 Oct 2024 03:23:19 +0200 (CEST)
Received: by mail-yw1-f226.google.com with SMTP id
 00721157ae682-6e31413a196so51377b3.3
 for <test-report@dpdk.org>; Mon, 07 Oct 2024 18:23:19 -0700 (PDT)
DKIM-Signature: v=1; a=rsa-sha256; c=relaxed/relaxed;
 d=iol.unh.edu; s=unh-iol; t=1728350599; x=1728955399; darn=dpdk.org;
 h=references:in-reply-to:cc:to:from:subject:message-id:date:from:to
 :cc:subject:date:message-id:reply-to;
 bh=trHLgrl8rKPVz9IRpEsdVNBeEvPRNAvj6p43loEaYDI=;
 b=eY1DAMaKCD/5rHqjFJKCK5jrVLBpj0rov5wE/oKzLd7KFbBpCEpJ7C02nj7vL8XAaS
 +Lmb/m28hDEuynxoTmSogJt3RMit67OCbscBoztNig5y4hHffZQjBeSxtf1Iz9RLQyib
 Cz1D5ReEMV/wECFOHofRWaDc4NYfDz7rGhCcI=
X-Google-DKIM-Signature: v=1; a=rsa-sha256; c=relaxed/relaxed;
 d=1e100.net; s=20230601; t=1728350599; x=1728955399;
 h=references:in-reply-to:cc:to:from:subject:message-id:date
 :x-gm-message-state:from:to:cc:subject:date:message-id:reply-to;
 bh=trHLgrl8rKPVz9IRpEsdVNBeEvPRNAvj6p43loEaYDI=;
 b=bfMlPcU5hye738/55HSUgc66hhKkbfA6dAElJQu2EimE5yu+KVaAEWi5i84CeWl845
 51osNgwNG6Ckp12W38qnSK44Un2H8c0N+Qyw3G7W/VAt77sWW2Xc0V/Mvwie4FwwYeoA
 VFhmxzOW6NmzFel6RqtL4O2ddN9NptsfYVgRK9ETvRTCLtTSFl4RDcBm7RapXjxLqTE+
 coBB6Ma2VkWI6YJmb1pPdobTCujzOMOUWEZ9EM6W0M/w3/BlC4F1Ou5cj3SJqZUEqR9B
 FDtBf7sFS6dQBGW4gocYzyPU49RU5hOC06zV2b+811+xrJbvLXy+8PL9J4WZPf9BEuAk
 ggtQ==
X-Gm-Message-State: AOJu0YwhB52byYt2vAgWMNroTnF8AlCmi1Ks5XoHiVUnCXsHcsx27UBV
 EuibPiADL1nIms8ePVKcVde9KQG+tgS0WHzwh1DaQlMjjjrYi9KNlenLDp+32iV+8FTv4WoIicl
 7OYkmcShIPG67urdoiugeoHFeD5wi6rDhppDpQHysZFSZClsa8Vmev0j4
X-Google-Smtp-Source: AGHT+IG9kM23WnPR0+zRp6oXhPsQvBJX31Mwtr4GZF6+cSh24asMHSocuJdiQ/uR8ykJI14jhf65zrYjNPLT
X-Received: by 2002:a05:690c:6c8c:b0:6e2:c962:74f with SMTP id
 00721157ae682-6e2c9620fedmr107610047b3.25.1728350599221; 
 Mon, 07 Oct 2024 18:23:19 -0700 (PDT)
Received: from postal.iol.unh.edu (postal.iol.unh.edu.
 [2606:4100:3880:1234::84]) by smtp-relay.gmail.com with ESMTPS id
 00721157ae682-6e2d926eeffsm1936367b3.3.2024.10.07.18.23.19
 (version=TLS1_2 cipher=ECDHE-ECDSA-AES128-GCM-SHA256 bits=128/128);
 Mon, 07 Oct 2024 18:23:19 -0700 (PDT)
X-Relaying-Domain: iol.unh.edu
Date: Mon, 07 Oct 2024 18:23:19 -0700 (PDT)
Message-ID: <67048987.050a0220.2fb47b.d202SMTPIN_ADDED_MISSING@mx.google.com>
Received: from [172.21.0.4] (unknown [172.18.0.240])
 by postal.iol.unh.edu (Postfix) with ESMTP id CC913605C380;
 Mon,  7 Oct 2024 21:23:18 -0400 (EDT)
Subject: |SUCCESS| pw145300-145302 [PATCH] [v2,3/3] ethdev: make TM shaper pa
From: dpdklab@iol.unh.edu
To: Test Report <test-report@dpdk.org>
Cc: dpdk-test-reports@iol.unh.edu
In-Reply-To: <20241007114907.548941-4-bruce.richardson@intel.com>
References: <20241007114907.548941-4-bruce.richardson@intel.com>
Content-Type: text/plain
X-BeenThere: test-report@dpdk.org
X-Mailman-Version: 2.1.29
Precedence: list
List-Id: automatic DPDK test reports <test-report.dpdk.org>
List-Unsubscribe: <https://mails.dpdk.org/options/test-report>,
 <mailto:test-report-request@dpdk.org?subject=unsubscribe>
List-Archive: <http://mails.dpdk.org/archives/test-report/>
List-Post: <mailto:test-report@dpdk.org>
List-Help: <mailto:test-report-request@dpdk.org?subject=help>
List-Subscribe: <https://mails.dpdk.org/listinfo/test-report>,
 <mailto:test-report-request@dpdk.org?subject=subscribe>
Errors-To: test-report-bounces@dpdk.org

Test-Label: iol-compile-amd64-testing
Test-Status: SUCCESS
http://dpdk.org/patch/145302

_Testing PASS_

Submitter: Bruce Richardson <bruce.richardson@intel.com>
Date: Monday, October 07 2024 11:49:07 
DPDK git baseline: Repo:dpdk
  Branch: master
  CommitID:d2b7539eb0a60925e75a10d2108da8935071a887

145300-145302 --> testing pass

Upstream job id: Generic-DPDK-Compile-Meson#311586

Test environment and result as below:

+---------------------+-----------------------+--------------------+----------------------+-------------------+------------------+-------------------+
|     Environment     | dpdk_win_llvm_compile | dpdk_meson_compile | dpdk_mingw64_compile | dpdk_msvc_compile | dpdk_compile_ovs | dpdk_compile_spdk |
+=====================+=======================+====================+======================+===================+==================+===================+
| Windows Server 2022 | PASS                  | SKIPPED            | PASS                 | PASS              | SKIPPED          | SKIPPED           |
+---------------------+-----------------------+--------------------+----------------------+-------------------+------------------+-------------------+
| FreeBSD 13.4        | SKIPPED               | PASS               | SKIPPED              | SKIPPED           | SKIPPED          | SKIPPED           |
+---------------------+-----------------------+--------------------+----------------------+-------------------+------------------+-------------------+
| FreeBSD 14.1        | SKIPPED               | PASS               | SKIPPED              | SKIPPED           | SKIPPED          | SKIPPED           |
+---------------------+-----------------------+--------------------+----------------------+-------------------+------------------+-------------------+
| CentOS Stream 9     | SKIPPED               | PASS               | SKIPPED              | SKIPPED           | PASS             | PASS              |
+---------------------+-----------------------+--------------------+----------------------+-------------------+------------------+-------------------+
| Debian Bullseye     | SKIPPED               | PASS               | SKIPPED              | SKIPPED           | PASS             | PASS              |
+---------------------+-----------------------+--------------------+----------------------+-------------------+------------------+-------------------+
| Debian 12           | SKIPPED               | PASS               | SKIPPED              | SKIPPED           | PASS             | PASS              |
+---------------------+-----------------------+--------------------+----------------------+-------------------+------------------+-------------------+
| Fedora 37           | SKIPPED               | PASS               | SKIPPED              | SKIPPED           | PASS             | PASS              |
+---------------------+-----------------------+--------------------+----------------------+-------------------+------------------+-------------------+
| Fedora 38 (Clang)   | SKIPPED               | PASS               | SKIPPED              | SKIPPED           | PASS             | PASS              |
+---------------------+-----------------------+--------------------+----------------------+-------------------+------------------+-------------------+
| Fedora 38           | SKIPPED               | PASS               | SKIPPED              | SKIPPED           | PASS             | PASS              |
+---------------------+-----------------------+--------------------+----------------------+-------------------+------------------+-------------------+
| Fedora 39 (Clang)   | SKIPPED               | PASS               | SKIPPED              | SKIPPED           | PASS             | PASS              |
+---------------------+-----------------------+--------------------+----------------------+-------------------+------------------+-------------------+
| Fedora 40 (Clang)   | SKIPPED               | PASS               | SKIPPED              | SKIPPED           | PASS             | PASS              |
+---------------------+-----------------------+--------------------+----------------------+-------------------+------------------+-------------------+
| Fedora 40           | SKIPPED               | PASS               | SKIPPED              | SKIPPED           | PASS             | PASS              |
+---------------------+-----------------------+--------------------+----------------------+-------------------+------------------+-------------------+
| openSUSE Leap 15    | SKIPPED               | PASS               | SKIPPED              | SKIPPED           | PASS             | SKIPPED           |
+---------------------+-----------------------+--------------------+----------------------+-------------------+------------------+-------------------+
| RHEL8               | SKIPPED               | PASS               | SKIPPED              | SKIPPED           | PASS             | SKIPPED           |
+---------------------+-----------------------+--------------------+----------------------+-------------------+------------------+-------------------+
| RHEL9               | SKIPPED               | PASS               | SKIPPED              | SKIPPED           | PASS             | SKIPPED           |
+---------------------+-----------------------+--------------------+----------------------+-------------------+------------------+-------------------+
| Ubuntu 20.04        | SKIPPED               | PASS               | SKIPPED              | SKIPPED           | PASS             | SKIPPED           |
+---------------------+-----------------------+--------------------+----------------------+-------------------+------------------+-------------------+
| Ubuntu 22.04        | SKIPPED               | PASS               | SKIPPED              | SKIPPED           | PASS             | PASS              |
+---------------------+-----------------------+--------------------+----------------------+-------------------+------------------+-------------------+
| Ubuntu 24.04        | SKIPPED               | PASS               | SKIPPED              | SKIPPED           | PASS             | PASS              |
+---------------------+-----------------------+--------------------+----------------------+-------------------+------------------+-------------------+
| Alpine              | SKIPPED               | PASS               | SKIPPED              | SKIPPED           | PASS             | SKIPPED           |
+---------------------+-----------------------+--------------------+----------------------+-------------------+------------------+-------------------+
| Fedora 39           | SKIPPED               | PASS               | SKIPPED              | SKIPPED           | PASS             | PASS              |
+---------------------+-----------------------+--------------------+----------------------+-------------------+------------------+-------------------+


Windows Server 2022
	Kernel: 10.0.20348.2031
	Compiler: clang 15.0.7, gcc 14.1.0 (MinGW), and MSVC VS 19.39.33521

FreeBSD 13.4
	Kernel: 13.4-RELEASE-p1
	Compiler: clang 18.1.6

FreeBSD 14.1
	Kernel: 14.1-RELEASE-p3
	Compiler: clang 18.1.5

CentOS Stream 9
	Kernel: Depends on container host
	Compiler: gcc 11.4.1 20231218 (Red Hat 11.4.1-3)

Debian Bullseye
	Kernel: Depends on container host
	Compiler: gcc (Debian 10.2.1-6) 10.2.1 20210110

Debian 12
	Kernel: Depends on container host
	Compiler: gcc (Debian 12.2.0-14) 12.2.0

Fedora 37
	Kernel: Depends on container host system
	Compiler: gcc 12.3.1 20230508 (Red Hat 12.3.1-1)

Fedora 38 (Clang)
	Kernel: Depends on container host
	Compiler: clang 16.0.6 (Fedora 16.0.6-4.fc38)

Fedora 38
	Kernel: Depends on container host
	Compiler: gcc 13.2.1 20240316 (Red Hat 13.2.1-7)

Fedora 39 (Clang)
	Kernel: Depends on container host
	Compiler: clang 17.0.6 (Fedora 17.0.6-2.fc39)

Fedora 40 (Clang)
	Kernel: Depends on container host
	Compiler: clang 18.1.6 (Fedora 18.1.6-3.fc40)

Fedora 40
	Kernel: Depends on container host
	Compiler: gcc 14.2.1 20240801 (Red Hat 14.2.1-1)

openSUSE Leap 15
	Kernel: Depends on container host
	Compiler: gcc (SUSE Linux) 7.5.0

RHEL8
	Kernel: Depends on container host
	Compiler: gcc 8.5.0 20210514 (Red Hat 8.5.0-22)

RHEL9
	Kernel: Depends on container host
	Compiler: gcc 11.4.1 20231218 (Red Hat 11.4.1-3)

Ubuntu 20.04
	Kernel: Depends on container host
	Compiler: gcc (Ubuntu 9.4.0-1ubuntu1~20.04.2) 9.4.0

Ubuntu 22.04
	Kernel: Depends on container host
	Compiler: gcc (Ubuntu 11.4.0-1ubuntu1~22.04) 11.4.0

Ubuntu 24.04
	Kernel: Depends on container host
	Compiler: gcc (Ubuntu 13.2.0-23ubuntu4) 13.2.0

Alpine
	Kernel: Depends on container host
	Compiler: gcc (Alpine 13.2.1_git20240309) 13.2.1 20240309

Fedora 39
	Kernel: Depends on container host
	Compiler: gcc 13.3.1 20240522 (Red Hat 13.3.1-1)

To view detailed results, visit:
https://lab.dpdk.org/results/dashboard/patchsets/31331/

UNH-IOL DPDK Community Lab

To manage your email subscriptions, visit: 
https://lab.dpdk.org/results/dashboard/preferences/subscriptions/