From mboxrd@z Thu Jan  1 00:00:00 1970
Return-Path: <test-report-bounces@dpdk.org>
Received: from mails.dpdk.org (mails.dpdk.org [217.70.189.124])
	by inbox.dpdk.org (Postfix) with ESMTP id 42BA245A73
	for <public@inbox.dpdk.org>; Tue,  8 Oct 2024 07:54:48 +0200 (CEST)
Received: from mails.dpdk.org (localhost [127.0.0.1])
	by mails.dpdk.org (Postfix) with ESMTP id 3E721402D4;
	Tue,  8 Oct 2024 07:54:48 +0200 (CEST)
Received: from mail-pl1-f228.google.com (mail-pl1-f228.google.com
 [209.85.214.228])
 by mails.dpdk.org (Postfix) with ESMTP id 1187D4025D
 for <test-report@dpdk.org>; Tue,  8 Oct 2024 07:54:46 +0200 (CEST)
Received: by mail-pl1-f228.google.com with SMTP id
 d9443c01a7336-20c56b816faso2485385ad.2
 for <test-report@dpdk.org>; Mon, 07 Oct 2024 22:54:46 -0700 (PDT)
DKIM-Signature: v=1; a=rsa-sha256; c=relaxed/relaxed;
 d=iol.unh.edu; s=unh-iol; t=1728366885; x=1728971685; darn=dpdk.org;
 h=cc:to:from:subject:message-id:date:from:to:cc:subject:date
 :message-id:reply-to;
 bh=UyRCwD6T71oVTPOdxPz7lPt5K6cNMtPTNKmv10fXac8=;
 b=EsSXK9tqbD7mkMJgFYocQdIZZ62rCecft6p0t9bXH1IxNDF1uhL209K3oXkGcoVr6Y
 5HtwggQ8Gq4eUDSVVZGj6yyH7LPqn05Ac1Gy00Hktd/Nsr/8OxJATJ903S02HfeWyX5S
 TSdOmXwIy8/4zr7ltPi1+ELze1YK2PdkiK+lM=
X-Google-DKIM-Signature: v=1; a=rsa-sha256; c=relaxed/relaxed;
 d=1e100.net; s=20230601; t=1728366885; x=1728971685;
 h=cc:to:from:subject:message-id:date:x-gm-message-state:from:to:cc
 :subject:date:message-id:reply-to;
 bh=UyRCwD6T71oVTPOdxPz7lPt5K6cNMtPTNKmv10fXac8=;
 b=fwT9U+mEQrg2fSrewaz8/e5KgRVD7dW4piauGM5SRQ5aQeB0E9tv4mcV7pWDcDH6Hv
 7vHpSjWJ57fT9swKiNoYemcbUBEkDCWJkRCoLeoUoK0IK45shi6fZ/PvrefosNZctvTK
 6MTF75UacQA5aX8U+36JdBx+KcnJjdbovRwZQ+QfjpT6YNjIOeKQ155i8esGCojbNT6g
 a3wNd3LMEyDclIuGMGyLf7YvnvMd7tCT9lt4c3EJed4pLwKPUJxaUe05j8i5LNqxD/o0
 FNm3JUyRcy8ifZp2+S/faEvadgi95j0s1Cs8QNo0+dfELgf8273ZZtION7Ig4Oc0H+NV
 +4XQ==
X-Gm-Message-State: AOJu0YxXE8WAmsRrW/ZD5Etl8yseSb/j15T3yNKUfI6Nrml0TJN9jPVa
 k9OpYFgsksVuUeSI8Z5SL50vXEMq9+/IoI3nhW3wOkBVn1sMRLawjHyF/dNx4nFONu6/75AW0Cu
 ZtTavw8/B7A9kiV/jRTJnLnWaEQ4p4km36BoOYA6hRQml6Td/
X-Google-Smtp-Source: AGHT+IEY1nA1eigWl8R/2Sc7UlRS326CtMJu8BemxAsdSDYcoSY2jas7SOHdSSTtc9fkjIaQyH/OVjqN6sxh
X-Received: by 2002:a17:902:f68d:b0:20b:bad4:5b95 with SMTP id
 d9443c01a7336-20bfdfb10b7mr198160335ad.13.1728366885210; 
 Mon, 07 Oct 2024 22:54:45 -0700 (PDT)
Received: from postal.iol.unh.edu (postal.iol.unh.edu.
 [2606:4100:3880:1234::84]) by smtp-relay.gmail.com with ESMTPS id
 d9443c01a7336-20c138d0d26sm2841975ad.53.2024.10.07.22.54.45
 (version=TLS1_2 cipher=ECDHE-ECDSA-AES128-GCM-SHA256 bits=128/128);
 Mon, 07 Oct 2024 22:54:45 -0700 (PDT)
X-Relaying-Domain: iol.unh.edu
Date: Mon, 07 Oct 2024 22:54:45 -0700 (PDT)
Message-ID: <6704c925.170a0220.a7b8a.38b5SMTPIN_ADDED_MISSING@mx.google.com>
Received: from [172.21.0.2] (unknown [172.18.0.240])
 by postal.iol.unh.edu (Postfix) with ESMTP id A0941605C380;
 Tue,  8 Oct 2024 01:54:44 -0400 (EDT)
Subject: |SUCCESS| [GIT MASTER] d20fd65f258afb5b572fe686b7d1032aeb95e079
From: dpdklab@iol.unh.edu
To: Test Report <test-report@dpdk.org>
Cc: dpdk-test-reports@iol.unh.edu, Xueming Li <xuemingl@nvidia.com>,
 Christian Ehrhardt <christian.ehrhardt@canonical.com>,
 Kevin Traynor <ktraynor@redhat.com>, Luca Boccassi <bluca@debian.org>
Content-Type: text/plain
X-BeenThere: test-report@dpdk.org
X-Mailman-Version: 2.1.29
Precedence: list
List-Id: automatic DPDK test reports <test-report.dpdk.org>
List-Unsubscribe: <https://mails.dpdk.org/options/test-report>,
 <mailto:test-report-request@dpdk.org?subject=unsubscribe>
List-Archive: <http://mails.dpdk.org/archives/test-report/>
List-Post: <mailto:test-report@dpdk.org>
List-Help: <mailto:test-report-request@dpdk.org?subject=help>
List-Subscribe: <https://mails.dpdk.org/listinfo/test-report>,
 <mailto:test-report-request@dpdk.org?subject=subscribe>
Errors-To: test-report-bounces@dpdk.org

_Testing PASS_

Branch: tags/v21.11

d20fd65f258afb5b572fe686b7d1032aeb95e079 --> testing pass

Upstream job id: Windows-Compile-DPDK-Native#22842

Test environment and result as below:

+---------------------+-----------------------+----------------------+--------------------+
|     Environment     | dpdk_win_llvm_compile | dpdk_mingw64_compile | dpdk_meson_compile |
+=====================+=======================+======================+====================+
| Windows Server 2022 | PASS                  | PASS                 | SKIPPED            |
+---------------------+-----------------------+----------------------+--------------------+
| FreeBSD 13.4        | SKIPPED               | SKIPPED              | PASS               |
+---------------------+-----------------------+----------------------+--------------------+
| FreeBSD 14.1        | SKIPPED               | SKIPPED              | PASS               |
+---------------------+-----------------------+----------------------+--------------------+


Windows Server 2022
	Kernel: 10.0.20348.2031
	Compiler: clang 15.0.7, gcc 14.1.0 (MinGW), and MSVC VS 19.39.33521

FreeBSD 13.4
	Kernel: 13.4-RELEASE-p1
	Compiler: clang 18.1.6

FreeBSD 14.1
	Kernel: 14.1-RELEASE-p3
	Compiler: clang 18.1.5

To view detailed results, visit:
https://lab.dpdk.org/results/dashboard/tarballs/30907/

UNH-IOL DPDK Community Lab

To manage your email subscriptions, visit: 
https://lab.dpdk.org/results/dashboard/preferences/subscriptions/