From mboxrd@z Thu Jan  1 00:00:00 1970
Return-Path: <test-report-bounces@dpdk.org>
Received: from mails.dpdk.org (mails.dpdk.org [217.70.189.124])
	by inbox.dpdk.org (Postfix) with ESMTP id CFEA645AA2
	for <public@inbox.dpdk.org>; Wed,  9 Oct 2024 03:46:13 +0200 (CEST)
Received: from mails.dpdk.org (localhost [127.0.0.1])
	by mails.dpdk.org (Postfix) with ESMTP id A0F394025E;
	Wed,  9 Oct 2024 03:46:13 +0200 (CEST)
Received: from mail-qt1-f228.google.com (mail-qt1-f228.google.com
 [209.85.160.228])
 by mails.dpdk.org (Postfix) with ESMTP id B00D24021E
 for <test-report@dpdk.org>; Wed,  9 Oct 2024 03:46:12 +0200 (CEST)
Received: by mail-qt1-f228.google.com with SMTP id
 d75a77b69052e-4583068795eso58433411cf.1
 for <test-report@dpdk.org>; Tue, 08 Oct 2024 18:46:12 -0700 (PDT)
DKIM-Signature: v=1; a=rsa-sha256; c=relaxed/relaxed;
 d=iol.unh.edu; s=unh-iol; t=1728438372; x=1729043172; darn=dpdk.org;
 h=references:in-reply-to:cc:to:from:subject:message-id:date:from:to
 :cc:subject:date:message-id:reply-to;
 bh=pqJCYLM58zEiqIaQR5ye7VeyI/qYrCrTu9hJNSkzXko=;
 b=QBLS87zUPhnVWLDI8R4WBGnyY3V50vnqjzxJCi3D9B3DkPeE0gQTSoQvmEzu1EyEYd
 XgKwjdk6/bMg8vvVrcGfMrlHiu6VIaLRmnuMEI1YaGVFINMKJbus5I0RIxtTiuEvfc2q
 dd2jv4BsM0kYnjE8jrBCBF0Dx4X8o0hsvKIw4=
X-Google-DKIM-Signature: v=1; a=rsa-sha256; c=relaxed/relaxed;
 d=1e100.net; s=20230601; t=1728438372; x=1729043172;
 h=references:in-reply-to:cc:to:from:subject:message-id:date
 :x-gm-message-state:from:to:cc:subject:date:message-id:reply-to;
 bh=pqJCYLM58zEiqIaQR5ye7VeyI/qYrCrTu9hJNSkzXko=;
 b=SOUqAELv3+xwJNqlDw8nApqfeC7LFdA88GGG10z8y5mwt17bwvM5V53SsOd5nu3D5V
 8ss9QfDZDIIRHqtBGAjXYfITOAbLNWdkAJeQILcZtippdzo+7vWaLhvTkQ//crHlj8z2
 DPTms9s2to0Aa/Ax9X/qmpktz8t0OxFaRs+KlCqHkprOMlVXATSux7E9pz0v0tZCHKqn
 grlCO++Llmzsxy7y4Mi9WCs0skqN8qCSGAo95JeeazC3Oy+dad2eza+PFeLL+LzPnnVp
 NSjtYSO4JyyCGR5EhAPiun0kqWfPaGFCkEfCOLqKQZMnkwc6NJzuYwYA8ChL+fHw8t7C
 xrUA==
X-Gm-Message-State: AOJu0Yx1EvKMAP+zzK9MvBSG7HW/szS94ZupsvIyyNgNiq0rSht9GW54
 Ku+7IlxNRmYxg7tuwOaMu36p9iNHvbXH087tdDmah7bhb25xaUmQvEtOQ6Vr1ygxbBNh69buzee
 /vE4HSTfuUW8+X3vgqZSjoMPIeFV0JxmJu9wZdmXE
X-Google-Smtp-Source: AGHT+IHp82Um3umJtdObFRHstO9rgXfhK1+i9kBCdvtugsVmgXy6E/QnIXL9SD33PKnI8RCtH9NoXgY7Yojc
X-Received: by 2002:a05:622a:1447:b0:45f:33b:50b5 with SMTP id
 d75a77b69052e-45fa5f20a24mr14503781cf.23.1728438372102; 
 Tue, 08 Oct 2024 18:46:12 -0700 (PDT)
Received: from postal.iol.unh.edu (postal.iol.unh.edu. [132.177.123.84])
 by smtp-relay.gmail.com with ESMTPS id
 d75a77b69052e-45da74eefb6sm2072911cf.11.2024.10.08.18.46.12
 (version=TLS1_2 cipher=ECDHE-ECDSA-AES128-GCM-SHA256 bits=128/128);
 Tue, 08 Oct 2024 18:46:12 -0700 (PDT)
X-Relaying-Domain: iol.unh.edu
Date: Tue, 08 Oct 2024 18:46:12 -0700 (PDT)
Message-ID: <6705e064.050a0220.a288.dbe2SMTPIN_ADDED_MISSING@mx.google.com>
Received: from [172.21.0.3] (unknown [172.18.0.240])
 by postal.iol.unh.edu (Postfix) with ESMTP id B6DE76050A6B;
 Tue,  8 Oct 2024 21:46:10 -0400 (EDT)
Subject: |SUCCESS| pw145420-145422 [PATCH] [v2,3/3] app/testpmd: add support 
From: dpdklab@iol.unh.edu
To: Test Report <test-report@dpdk.org>
Cc: dpdk-test-reports@iol.unh.edu
In-Reply-To: <20241008144320.1632138-4-bruce.richardson@intel.com>
References: <20241008144320.1632138-4-bruce.richardson@intel.com>
Content-Type: text/plain
X-BeenThere: test-report@dpdk.org
X-Mailman-Version: 2.1.29
Precedence: list
List-Id: automatic DPDK test reports <test-report.dpdk.org>
List-Unsubscribe: <https://mails.dpdk.org/options/test-report>,
 <mailto:test-report-request@dpdk.org?subject=unsubscribe>
List-Archive: <http://mails.dpdk.org/archives/test-report/>
List-Post: <mailto:test-report@dpdk.org>
List-Help: <mailto:test-report-request@dpdk.org?subject=help>
List-Subscribe: <https://mails.dpdk.org/listinfo/test-report>,
 <mailto:test-report-request@dpdk.org?subject=subscribe>
Errors-To: test-report-bounces@dpdk.org

Test-Label: iol-compile-arm64-testing
Test-Status: SUCCESS
http://dpdk.org/patch/145422

_Testing PASS_

Submitter: Bruce Richardson <bruce.richardson@intel.com>
Date: Tuesday, October 08 2024 14:43:20 
DPDK git baseline: Repo:dpdk
  Branch: master
  CommitID:d90786b85aceec37b65a52c9d1fe7e3dcaee1df2

145420-145422 --> testing pass

Upstream job id: Generic-DPDK-Compile-Meson#312355

Test environment and result as below:

+----------------------------------------+--------------------+
|              Environment               | dpdk_meson_compile |
+========================================+====================+
| RHEL9 (ARM)                            | PASS               |
+----------------------------------------+--------------------+
| Ubuntu 20.04 ARM GCC Cross Compile     | PASS               |
+----------------------------------------+--------------------+
| Ubuntu 20.04 ARM SVE                   | PASS               |
+----------------------------------------+--------------------+
| Debian 12 with MUSDK                   | PASS               |
+----------------------------------------+--------------------+
| Fedora 37 (ARM)                        | PASS               |
+----------------------------------------+--------------------+
| Fedora 38 (ARM)                        | PASS               |
+----------------------------------------+--------------------+
| Fedora 38 (ARM Clang)                  | PASS               |
+----------------------------------------+--------------------+
| Fedora 39 (ARM)                        | PASS               |
+----------------------------------------+--------------------+
| Fedora 39 (ARM Clang)                  | PASS               |
+----------------------------------------+--------------------+
| Fedora 40 (ARM)                        | PASS               |
+----------------------------------------+--------------------+
| Fedora 40 (ARM Clang)                  | PASS               |
+----------------------------------------+--------------------+
| Ubuntu 20.04 (ARM)                     | PASS               |
+----------------------------------------+--------------------+
| Ubuntu 22.04 (ARM)                     | PASS               |
+----------------------------------------+--------------------+
| Ubuntu 24.04 (ARM)                     | PASS               |
+----------------------------------------+--------------------+
| CentOS Stream 9 (ARM)                  | PASS               |
+----------------------------------------+--------------------+
| Debian 11 (Buster) (ARM)               | PASS               |
+----------------------------------------+--------------------+
| Debian 12 (arm)                        | PASS               |
+----------------------------------------+--------------------+
| Ubuntu 20.04 ARM Clang Cross Compile   | PASS               |
+----------------------------------------+--------------------+
| Ubuntu 20.04 aarch32 GCC Cross Compile | PASS               |
+----------------------------------------+--------------------+


RHEL9 (ARM)
	Kernel: Depends on container host
	Compiler: gcc 11.4.1 20231218 (Red Hat 11.4.1-3)

Ubuntu 20.04 ARM GCC Cross Compile
	Kernel: Depends on container host
	Compiler: aarch64-linux-gnu-gcc (Ubuntu 9.4.0-1ubuntu1~20.04.2) 9.4.0

Ubuntu 20.04 ARM SVE
	Kernel: Depends on container host
	Compiler: gcc (Ubuntu 10.5.0-1ubuntu1~20.04) 10.5.0

Debian 12 with MUSDK
	Kernel: Depends on container host
	Compiler: gcc (Debian 12.2.0-14) 12.2.0

Fedora 37 (ARM)
	Kernel: Depends on container host
	Compiler: gcc 12.3.1 20230508 (Red Hat 12.3.1-1)

Fedora 38 (ARM)
	Kernel: Depends on container host
	Compiler: gcc 13.2.1 20240316 (Red Hat 13.2.1-7)

Fedora 38 (ARM Clang)
	Kernel: Depends on container host
	Compiler: clang 16.0.6 (Fedora 16.0.6-4.fc38)

Fedora 39 (ARM)
	Kernel: Depends on container host
	Compiler: gcc 13.3.1 20240522 (Red Hat 13.3.1-1)

Fedora 39 (ARM Clang)
	Kernel: Depends on container host
	Compiler: clang 17.0.6 (Fedora 17.0.6-2.fc39)

Fedora 40 (ARM)
	Kernel: Depends on container host
	Compiler: gcc 14.2.1 20240801 (Red Hat 14.2.1-1)

Fedora 40 (ARM Clang)
	Kernel: Depends on container host
	Compiler: clang 18.1.6 (Fedora 18.1.6-3.fc40)

Ubuntu 20.04 (ARM)
	Kernel: Depends on container host
	Compiler: gcc (Ubuntu 9.4.0-1ubuntu1~20.04.2) 9.4.0

Ubuntu 22.04 (ARM)
	Kernel: Depends on container host
	Compiler: gcc (Ubuntu 11.4.0-1ubuntu1~22.04) 11.4.0

Ubuntu 24.04 (ARM)
	Kernel: Depends on container host
	Compiler: gcc (Ubuntu 13.2.0-23ubuntu4) 13.2.0

CentOS Stream 9 (ARM)
	Kernel: Depends on container host
	Compiler: gcc 11.4.1 20231218 (Red Hat 11.4.1-3)

Debian 11 (Buster) (ARM)
	Kernel: Depends on container host
	Compiler: gcc (Debian 10.2.1-6) 10.2.1 20210110

Debian 12 (arm)
	Kernel: Depends on container host
	Compiler: gcc (Debian 12.2.0-14) 12.2.0

Ubuntu 20.04 ARM Clang Cross Compile
	Kernel: Depends on container host
	Compiler: clang 10.0.0-4ubuntu1

Ubuntu 20.04 aarch32 GCC Cross Compile
	Kernel: Depends on container host
	Compiler: gcc 9.4.0

To view detailed results, visit:
https://lab.dpdk.org/results/dashboard/patchsets/31346/

UNH-IOL DPDK Community Lab

To manage your email subscriptions, visit: 
https://lab.dpdk.org/results/dashboard/preferences/subscriptions/