From mboxrd@z Thu Jan  1 00:00:00 1970
Return-Path: <test-report-bounces@dpdk.org>
Received: from mails.dpdk.org (mails.dpdk.org [217.70.189.124])
	by inbox.dpdk.org (Postfix) with ESMTP id C1CD445AEA
	for <public@inbox.dpdk.org>; Wed,  9 Oct 2024 06:10:05 +0200 (CEST)
Received: from mails.dpdk.org (localhost [127.0.0.1])
	by mails.dpdk.org (Postfix) with ESMTP id B618C4029C;
	Wed,  9 Oct 2024 06:10:05 +0200 (CEST)
Received: from mail-qv1-f100.google.com (mail-qv1-f100.google.com
 [209.85.219.100])
 by mails.dpdk.org (Postfix) with ESMTP id 6C69F4028A
 for <test-report@dpdk.org>; Wed,  9 Oct 2024 06:10:04 +0200 (CEST)
Received: by mail-qv1-f100.google.com with SMTP id
 6a1803df08f44-6cbc08e7495so10128416d6.3
 for <test-report@dpdk.org>; Tue, 08 Oct 2024 21:10:04 -0700 (PDT)
DKIM-Signature: v=1; a=rsa-sha256; c=relaxed/relaxed;
 d=iol.unh.edu; s=unh-iol; t=1728447004; x=1729051804; darn=dpdk.org;
 h=references:in-reply-to:cc:to:from:subject:message-id:date:from:to
 :cc:subject:date:message-id:reply-to;
 bh=aGqYL/DrN7wVXujDxYqaEal+IYiWZkhg28j1Y1PHlC0=;
 b=E/BEgwKGVwxFNTjmJLzY+ikCi/MVjeN8RHaD/dy+ocD4+zVV1AvVxHyXfEkNsK+Mgx
 jbKeOJqMwVpfzcQ2cgyQGttYAMzX+Ou17y976XEAATLqmpzmA85kahSiLuZB/YPi5Wnk
 N+eDU+lHg4t8LZ8UHiZiyWvOFAWcjsAgksYP8=
X-Google-DKIM-Signature: v=1; a=rsa-sha256; c=relaxed/relaxed;
 d=1e100.net; s=20230601; t=1728447004; x=1729051804;
 h=references:in-reply-to:cc:to:from:subject:message-id:date
 :x-gm-message-state:from:to:cc:subject:date:message-id:reply-to;
 bh=aGqYL/DrN7wVXujDxYqaEal+IYiWZkhg28j1Y1PHlC0=;
 b=kbP0a6aaG+R5HJyWGxxuraTej1k7K0o4Q0749SKptQbHELurcvoqX0MHhbGnS1HWkj
 OI/qWq7lpQN284blZ9MvNJOfGCv7Pn1B3qz9/Wr7lYvPXZxQZzZWPWoh8pESsTZiLH80
 9kK+qVx9syM9qHl6ULTnV6DwAKLu86eCfiRepC3cRk2f/c4AD+NYrJpaoPHttPBqKQZj
 yioKWhoSTTnSM6LKeAL793nc8962NQIc39THRG4zhuBk3ppBpP5dnGm2piqO7lwNDHYJ
 VxmE1jKWm77u5M/P2rgBNvdqnSXnQxU36M5LznyoaE/cOyU+5gA+3xfOfqS5FlDm/D3F
 zVHA==
X-Gm-Message-State: AOJu0Yyo99k9/tr2xuRT/87PfDtmSIdfnBhDjzorY29rQHM57ESBsNjq
 vafEXlAasqycGa2JX9w6GMDux1TRe6/0kSx48ryQbjDHYj9lVcBxbW1aIrxXYki7E4TJEoPcwr7
 wkUKaeIrdEbtEW1Us2TRNkwCbHo6IyyaP6gJRcdVv7Ki2DUY6P6DbUg7X
X-Google-Smtp-Source: AGHT+IHA8APtEnery8NXrj+2l7a8kMVrHcV3zh5x5XwO86ClfH8JRs4WdP7iJppLEg/bAmEvFYMf8k5KInNL
X-Received: by 2002:a05:6214:5f05:b0:6cb:a20f:4e2a with SMTP id
 6a1803df08f44-6cbc9593dd2mr21076386d6.29.1728447003759; 
 Tue, 08 Oct 2024 21:10:03 -0700 (PDT)
Received: from postal.iol.unh.edu (postal.iol.unh.edu.
 [2606:4100:3880:1234::84]) by smtp-relay.gmail.com with ESMTPS id
 6a1803df08f44-6cbc8bd97afsm322856d6.44.2024.10.08.21.10.03
 (version=TLS1_2 cipher=ECDHE-ECDSA-AES128-GCM-SHA256 bits=128/128);
 Tue, 08 Oct 2024 21:10:03 -0700 (PDT)
X-Relaying-Domain: iol.unh.edu
Date: Tue, 08 Oct 2024 21:10:03 -0700 (PDT)
Message-ID: <6706021b.d40a0220.aeb0b.2402SMTPIN_ADDED_MISSING@mx.google.com>
Received: from [172.17.0.4] (unknown [172.18.0.217])
 by postal.iol.unh.edu (Postfix) with ESMTP id 588EC6050A6B;
 Wed,  9 Oct 2024 00:10:03 -0400 (EDT)
Subject: |SUCCESS| pw145488-145489 [PATCH] [v2,2/2] test/fib: add RCU functio
From: dpdklab@iol.unh.edu
To: Test Report <test-report@dpdk.org>
Cc: dpdk-test-reports@iol.unh.edu
In-Reply-To: <20241008175524.450829-2-vladimir.medvedkin@intel.com>
References: <20241008175524.450829-2-vladimir.medvedkin@intel.com>
Content-Type: text/plain
X-BeenThere: test-report@dpdk.org
X-Mailman-Version: 2.1.29
Precedence: list
List-Id: automatic DPDK test reports <test-report.dpdk.org>
List-Unsubscribe: <https://mails.dpdk.org/options/test-report>,
 <mailto:test-report-request@dpdk.org?subject=unsubscribe>
List-Archive: <http://mails.dpdk.org/archives/test-report/>
List-Post: <mailto:test-report@dpdk.org>
List-Help: <mailto:test-report-request@dpdk.org?subject=help>
List-Subscribe: <https://mails.dpdk.org/listinfo/test-report>,
 <mailto:test-report-request@dpdk.org?subject=subscribe>
Errors-To: test-report-bounces@dpdk.org

Test-Label: iol-compile-amd64-testing
Test-Status: SUCCESS
http://dpdk.org/patch/145489

_Testing PASS_

Submitter: Vladimir Medvedkin <vladimir.medvedkin@intel.com>
Date: Tuesday, October 08 2024 17:55:24 
DPDK git baseline: Repo:dpdk
  Branch: master
  CommitID:e7bc451c996b5882c5d8267725f3d88118009c75

145488-145489 --> testing pass

Upstream job id: Generic-DPDK-Compile-Meson#312446

Test environment and result as below:

+---------------------+-----------------------+----------------------+-------------------+--------------------+------------------+-------------------+
|     Environment     | dpdk_win_llvm_compile | dpdk_mingw64_compile | dpdk_msvc_compile | dpdk_meson_compile | dpdk_compile_ovs | dpdk_compile_spdk |
+=====================+=======================+======================+===================+====================+==================+===================+
| Windows Server 2022 | PASS                  | PASS                 | PASS              | SKIPPED            | SKIPPED          | SKIPPED           |
+---------------------+-----------------------+----------------------+-------------------+--------------------+------------------+-------------------+
| FreeBSD 13.4        | SKIPPED               | SKIPPED              | SKIPPED           | PASS               | SKIPPED          | SKIPPED           |
+---------------------+-----------------------+----------------------+-------------------+--------------------+------------------+-------------------+
| FreeBSD 14.1        | SKIPPED               | SKIPPED              | SKIPPED           | PASS               | SKIPPED          | SKIPPED           |
+---------------------+-----------------------+----------------------+-------------------+--------------------+------------------+-------------------+
| CentOS Stream 9     | SKIPPED               | SKIPPED              | SKIPPED           | PASS               | PASS             | PASS              |
+---------------------+-----------------------+----------------------+-------------------+--------------------+------------------+-------------------+
| Debian Bullseye     | SKIPPED               | SKIPPED              | SKIPPED           | PASS               | PASS             | PASS              |
+---------------------+-----------------------+----------------------+-------------------+--------------------+------------------+-------------------+
| Debian 12           | SKIPPED               | SKIPPED              | SKIPPED           | PASS               | PASS             | PASS              |
+---------------------+-----------------------+----------------------+-------------------+--------------------+------------------+-------------------+
| Fedora 37           | SKIPPED               | SKIPPED              | SKIPPED           | PASS               | PASS             | PASS              |
+---------------------+-----------------------+----------------------+-------------------+--------------------+------------------+-------------------+
| Fedora 38 (Clang)   | SKIPPED               | SKIPPED              | SKIPPED           | PASS               | PASS             | PASS              |
+---------------------+-----------------------+----------------------+-------------------+--------------------+------------------+-------------------+
| Fedora 38           | SKIPPED               | SKIPPED              | SKIPPED           | PASS               | PASS             | PASS              |
+---------------------+-----------------------+----------------------+-------------------+--------------------+------------------+-------------------+
| Fedora 39 (Clang)   | SKIPPED               | SKIPPED              | SKIPPED           | PASS               | PASS             | PASS              |
+---------------------+-----------------------+----------------------+-------------------+--------------------+------------------+-------------------+
| Fedora 39           | SKIPPED               | SKIPPED              | SKIPPED           | PASS               | PASS             | PASS              |
+---------------------+-----------------------+----------------------+-------------------+--------------------+------------------+-------------------+
| Fedora 40 (Clang)   | SKIPPED               | SKIPPED              | SKIPPED           | PASS               | PASS             | PASS              |
+---------------------+-----------------------+----------------------+-------------------+--------------------+------------------+-------------------+
| Fedora 40           | SKIPPED               | SKIPPED              | SKIPPED           | PASS               | PASS             | PASS              |
+---------------------+-----------------------+----------------------+-------------------+--------------------+------------------+-------------------+
| openSUSE Leap 15    | SKIPPED               | SKIPPED              | SKIPPED           | PASS               | PASS             | SKIPPED           |
+---------------------+-----------------------+----------------------+-------------------+--------------------+------------------+-------------------+
| RHEL8               | SKIPPED               | SKIPPED              | SKIPPED           | PASS               | PASS             | SKIPPED           |
+---------------------+-----------------------+----------------------+-------------------+--------------------+------------------+-------------------+
| RHEL9               | SKIPPED               | SKIPPED              | SKIPPED           | PASS               | PASS             | SKIPPED           |
+---------------------+-----------------------+----------------------+-------------------+--------------------+------------------+-------------------+
| Ubuntu 20.04        | SKIPPED               | SKIPPED              | SKIPPED           | PASS               | PASS             | SKIPPED           |
+---------------------+-----------------------+----------------------+-------------------+--------------------+------------------+-------------------+
| Ubuntu 22.04        | SKIPPED               | SKIPPED              | SKIPPED           | PASS               | PASS             | PASS              |
+---------------------+-----------------------+----------------------+-------------------+--------------------+------------------+-------------------+
| Ubuntu 24.04        | SKIPPED               | SKIPPED              | SKIPPED           | PASS               | PASS             | PASS              |
+---------------------+-----------------------+----------------------+-------------------+--------------------+------------------+-------------------+
| Alpine              | SKIPPED               | SKIPPED              | SKIPPED           | PASS               | PASS             | SKIPPED           |
+---------------------+-----------------------+----------------------+-------------------+--------------------+------------------+-------------------+


Windows Server 2022
	Kernel: 10.0.20348.2031
	Compiler: clang 15.0.7, gcc 14.1.0 (MinGW), and MSVC VS 19.39.33521

FreeBSD 13.4
	Kernel: 13.4-RELEASE-p1
	Compiler: clang 18.1.6

FreeBSD 14.1
	Kernel: 14.1-RELEASE-p3
	Compiler: clang 18.1.5

CentOS Stream 9
	Kernel: Depends on container host
	Compiler: gcc 11.4.1 20231218 (Red Hat 11.4.1-3)

Debian Bullseye
	Kernel: Depends on container host
	Compiler: gcc (Debian 10.2.1-6) 10.2.1 20210110

Debian 12
	Kernel: Depends on container host
	Compiler: gcc (Debian 12.2.0-14) 12.2.0

Fedora 37
	Kernel: Depends on container host system
	Compiler: gcc 12.3.1 20230508 (Red Hat 12.3.1-1)

Fedora 38 (Clang)
	Kernel: Depends on container host
	Compiler: clang 16.0.6 (Fedora 16.0.6-4.fc38)

Fedora 38
	Kernel: Depends on container host
	Compiler: gcc 13.2.1 20240316 (Red Hat 13.2.1-7)

Fedora 39 (Clang)
	Kernel: Depends on container host
	Compiler: clang 17.0.6 (Fedora 17.0.6-2.fc39)

Fedora 39
	Kernel: Depends on container host
	Compiler: gcc 13.3.1 20240522 (Red Hat 13.3.1-1)

Fedora 40 (Clang)
	Kernel: Depends on container host
	Compiler: clang 18.1.6 (Fedora 18.1.6-3.fc40)

Fedora 40
	Kernel: Depends on container host
	Compiler: gcc 14.2.1 20240801 (Red Hat 14.2.1-1)

openSUSE Leap 15
	Kernel: Depends on container host
	Compiler: gcc (SUSE Linux) 7.5.0

RHEL8
	Kernel: Depends on container host
	Compiler: gcc 8.5.0 20210514 (Red Hat 8.5.0-22)

RHEL9
	Kernel: Depends on container host
	Compiler: gcc 11.4.1 20231218 (Red Hat 11.4.1-3)

Ubuntu 20.04
	Kernel: Depends on container host
	Compiler: gcc (Ubuntu 9.4.0-1ubuntu1~20.04.2) 9.4.0

Ubuntu 22.04
	Kernel: Depends on container host
	Compiler: gcc (Ubuntu 11.4.0-1ubuntu1~22.04) 11.4.0

Ubuntu 24.04
	Kernel: Depends on container host
	Compiler: gcc (Ubuntu 13.2.0-23ubuntu4) 13.2.0

Alpine
	Kernel: Depends on container host
	Compiler: gcc (Alpine 13.2.1_git20240309) 13.2.1 20240309

To view detailed results, visit:
https://lab.dpdk.org/results/dashboard/patchsets/31359/

UNH-IOL DPDK Community Lab

To manage your email subscriptions, visit: 
https://lab.dpdk.org/results/dashboard/preferences/subscriptions/