From mboxrd@z Thu Jan  1 00:00:00 1970
Return-Path: <test-report-bounces@dpdk.org>
Received: from mails.dpdk.org (mails.dpdk.org [217.70.189.124])
	by inbox.dpdk.org (Postfix) with ESMTP id A223845AF0
	for <public@inbox.dpdk.org>; Wed,  9 Oct 2024 10:43:22 +0200 (CEST)
Received: from mails.dpdk.org (localhost [127.0.0.1])
	by mails.dpdk.org (Postfix) with ESMTP id 9BEEA40E25;
	Wed,  9 Oct 2024 10:43:22 +0200 (CEST)
Received: from mail-yw1-f227.google.com (mail-yw1-f227.google.com
 [209.85.128.227])
 by mails.dpdk.org (Postfix) with ESMTP id CBD0C40E16
 for <test-report@dpdk.org>; Wed,  9 Oct 2024 10:43:21 +0200 (CEST)
Received: by mail-yw1-f227.google.com with SMTP id
 00721157ae682-6e2ef9af517so28307117b3.1
 for <test-report@dpdk.org>; Wed, 09 Oct 2024 01:43:21 -0700 (PDT)
DKIM-Signature: v=1; a=rsa-sha256; c=relaxed/relaxed;
 d=iol.unh.edu; s=unh-iol; t=1728463401; x=1729068201; darn=dpdk.org;
 h=references:in-reply-to:cc:to:from:subject:message-id:date:from:to
 :cc:subject:date:message-id:reply-to;
 bh=XYu8syPp/NBQ268c2yFrcF4ko9aoRtVqa7NqzTZz7Kw=;
 b=hA7IlquFFE4wDtoANdlwqu8yTYsA30q/iSwCpljRw/oQBz0qFd7wYlnxFBAb+D2M/x
 Gqc6QNvkuBeTQqtOhsinW9/4UJehSIt7wWy4plBovX6V+/Brp6TNeQPbxvS+8uYiUktl
 YaOzzKnxDUCJ72oJ+nj+AO5nkyNP1gWpRvHss=
X-Google-DKIM-Signature: v=1; a=rsa-sha256; c=relaxed/relaxed;
 d=1e100.net; s=20230601; t=1728463401; x=1729068201;
 h=references:in-reply-to:cc:to:from:subject:message-id:date
 :x-gm-message-state:from:to:cc:subject:date:message-id:reply-to;
 bh=XYu8syPp/NBQ268c2yFrcF4ko9aoRtVqa7NqzTZz7Kw=;
 b=rd5GJGe7LBlVZ1ZkPCGEdZo6Kl0ss8ngCOOYf5YykswJyhl8D/6ZL7SZqEmE6R7vyY
 HxlhM8ygKhU6Fm4vxkD8778+zYzsvfjQCYHgEZHB/A8aU3zO/ycHeR2OQpvHBY43MRxc
 HOqPIXVAD24rbmv76/Khr9AtriSXippyUdyCOLsqUilBX5JvhcjFutMcCl/HLW4LTNE0
 /cvMyXc01aRuFIcm4h1Sjd8edLI69PWSGoemmEYXPnXIs71OhT+RhBlfd8oHiDhFSZbd
 hyb12Zy8sZxaKYqdJzn8HT4rxrf9ARkimU0xOE2zY9PDbHbPZGfsS+HFk/79H0U3lDZ4
 emhQ==
X-Gm-Message-State: AOJu0Yz+LA2Davy+liinsjLaILQ092HZcmADwGl7ezB3SA9HJ39FNPvk
 XMjykE6ViE+l7GccuRoQm1UjU6BkQn+6ts3tjPDj1Nz7+hQomDpsX87Noc9X5iGjUacJr7FpfBS
 tmul9MCjYyHsoDtb/LG6Dg1rkcXBu8U603W4eKrAw
X-Google-Smtp-Source: AGHT+IHLVAgDg/GR0A/p0gtwVTkk20e9DxplgAn1QLBvGuAUZXvIRNz31ZcMBXWZPEbnsenub7C1JE40a6sc
X-Received: by 2002:a05:690c:85:b0:6b9:d327:9ad6 with SMTP id
 00721157ae682-6e3224d1eb6mr18553457b3.33.1728463401052; 
 Wed, 09 Oct 2024 01:43:21 -0700 (PDT)
Received: from postal.iol.unh.edu (postal.iol.unh.edu. [132.177.123.84])
 by smtp-relay.gmail.com with ESMTPS id
 00721157ae682-6e3139bab96sm821727b3.49.2024.10.09.01.43.20
 (version=TLS1_2 cipher=ECDHE-ECDSA-AES128-GCM-SHA256 bits=128/128);
 Wed, 09 Oct 2024 01:43:21 -0700 (PDT)
X-Relaying-Domain: iol.unh.edu
Date: Wed, 09 Oct 2024 01:43:21 -0700 (PDT)
Message-ID: <67064229.050a0220.171105.603aSMTPIN_ADDED_MISSING@mx.google.com>
Received: from [172.17.0.4] (unknown [172.18.0.217])
 by postal.iol.unh.edu (Postfix) with ESMTP id A62836050A6B;
 Wed,  9 Oct 2024 04:43:20 -0400 (EDT)
Subject: |SUCCESS| pw145511 [PATCH] net/mvneta: fix possible out-of-bounds wr
From: dpdklab@iol.unh.edu
To: Test Report <test-report@dpdk.org>
Cc: dpdk-test-reports@iol.unh.edu
In-Reply-To: <20241009022342.39152-1-fengchengwen@huawei.com>
References: <20241009022342.39152-1-fengchengwen@huawei.com>
Content-Type: text/plain
X-BeenThere: test-report@dpdk.org
X-Mailman-Version: 2.1.29
Precedence: list
List-Id: automatic DPDK test reports <test-report.dpdk.org>
List-Unsubscribe: <https://mails.dpdk.org/options/test-report>,
 <mailto:test-report-request@dpdk.org?subject=unsubscribe>
List-Archive: <http://mails.dpdk.org/archives/test-report/>
List-Post: <mailto:test-report@dpdk.org>
List-Help: <mailto:test-report-request@dpdk.org?subject=help>
List-Subscribe: <https://mails.dpdk.org/listinfo/test-report>,
 <mailto:test-report-request@dpdk.org?subject=subscribe>
Errors-To: test-report-bounces@dpdk.org

Test-Label: iol-compile-amd64-testing
Test-Status: SUCCESS
http://dpdk.org/patch/145511

_Testing PASS_

Submitter: Chengwen Feng <fengchengwen@huawei.com>
Date: Wednesday, October 09 2024 02:23:42 
DPDK git baseline: Repo:dpdk
  Branch: master
  CommitID:9a723449a5b30626db66bb27cd96834261d11971

145511 --> testing pass

Upstream job id: Windows-Compile-DPDK-VS#3383

Test environment and result as below:

+---------------------+-----------------------+----------------------+-------------------+--------------------+
|     Environment     | dpdk_win_llvm_compile | dpdk_mingw64_compile | dpdk_msvc_compile | dpdk_meson_compile |
+=====================+=======================+======================+===================+====================+
| Windows Server 2022 | PASS                  | PASS                 | PASS              | SKIPPED            |
+---------------------+-----------------------+----------------------+-------------------+--------------------+
| FreeBSD 14.1        | SKIPPED               | SKIPPED              | SKIPPED           | PASS               |
+---------------------+-----------------------+----------------------+-------------------+--------------------+


Windows Server 2022
	Kernel: 10.0.20348.2031
	Compiler: clang 15.0.7, gcc 14.1.0 (MinGW), and MSVC VS 19.39.33521

FreeBSD 14.1
	Kernel: 14.1-RELEASE-p3
	Compiler: clang 18.1.5

To view detailed results, visit:
https://lab.dpdk.org/results/dashboard/patchsets/31368/

UNH-IOL DPDK Community Lab

To manage your email subscriptions, visit: 
https://lab.dpdk.org/results/dashboard/preferences/subscriptions/