From mboxrd@z Thu Jan  1 00:00:00 1970
Return-Path: <test-report-bounces@dpdk.org>
Received: from mails.dpdk.org (mails.dpdk.org [217.70.189.124])
	by inbox.dpdk.org (Postfix) with ESMTP id CC90B45AF5
	for <public@inbox.dpdk.org>; Wed,  9 Oct 2024 21:55:56 +0200 (CEST)
Received: from mails.dpdk.org (localhost [127.0.0.1])
	by mails.dpdk.org (Postfix) with ESMTP id C952940156;
	Wed,  9 Oct 2024 21:55:56 +0200 (CEST)
Received: from mail-pj1-f98.google.com (mail-pj1-f98.google.com
 [209.85.216.98]) by mails.dpdk.org (Postfix) with ESMTP id A630D4014F
 for <test-report@dpdk.org>; Wed,  9 Oct 2024 21:55:55 +0200 (CEST)
Received: by mail-pj1-f98.google.com with SMTP id
 98e67ed59e1d1-2e09f67bc39so208554a91.1
 for <test-report@dpdk.org>; Wed, 09 Oct 2024 12:55:55 -0700 (PDT)
DKIM-Signature: v=1; a=rsa-sha256; c=relaxed/relaxed;
 d=iol.unh.edu; s=unh-iol; t=1728503755; x=1729108555; darn=dpdk.org;
 h=references:in-reply-to:cc:to:from:subject:message-id:date:from:to
 :cc:subject:date:message-id:reply-to;
 bh=+ovD/sgFLNIp/3J1CD5vi8aqnQk4tQEl30HlLXAmM5o=;
 b=fHM4aeBaeuEaYmT4UOtnSLH9Am+QHMn1GOlW7sRB04/JN2elAICeOZ0eYVkKU1+m3N
 6Z+AJqOWrZBalQ2HlZ0ZnOATrFPk1NeCuIfXh45yjMnjD+qmkFn0V0RzIuy2Wrxk70W+
 0L7IN162nYTKossfG7z1m+5fwZaf+60RaurJ0=
X-Google-DKIM-Signature: v=1; a=rsa-sha256; c=relaxed/relaxed;
 d=1e100.net; s=20230601; t=1728503755; x=1729108555;
 h=references:in-reply-to:cc:to:from:subject:message-id:date
 :x-gm-message-state:from:to:cc:subject:date:message-id:reply-to;
 bh=+ovD/sgFLNIp/3J1CD5vi8aqnQk4tQEl30HlLXAmM5o=;
 b=J10W+FrAojKKHQ0owIg2/YywXApwvpgPUdjn0d53i35HU9NJocOYchdiXUCLJRCHTL
 ihWntrLvMSI2w8dPFR6qfgiivSh8XKLfytveP6fWV81rZeJERJZ7AX9S4fyTrXjOvuxG
 95zQo2x6TNiOqKJ4BiMTpRrobV2AzO90lcTut80afMLoszR6UX82ZjAl/PF8HI9qj3aO
 gsYoWR0qlTE8jrfc8eVu7NJl0raRWbMxx9odxqEEM4c+2HDEo3HbUr2Ac0SJViTqfmlV
 emikr3rqjtZRIgO7fHRa2SovT9yfmFmHvpvPRTiJzl9+1ds+oOIZFT9G+GH0WeTkGSSK
 4/7g==
X-Gm-Message-State: AOJu0Yx99l/+zuyhWob+IKMaqt1F9GULnh4ZtUfooEbes4gCAiV6y5/n
 DUCZ9mivDDTDG4gF39GyXH4ZPQ1cZ8EMgazlzUYfZJ86RWg/dyLcjlmTC/Xt/UTlIK3szt2B2Aw
 ZtKFrbIosPKvL83VUG4wHpJBMXsmkBcGs0scyTAze
X-Google-Smtp-Source: AGHT+IE9pmOMb8DEEeaC1C0ke2B5NsbjsJmtESaesVdxK68zOG2mN8kPFZfJTB6tULNSjor7l4FhqjO1Buc8
X-Received: by 2002:a17:90b:3a8f:b0:2e2:c406:ec84 with SMTP id
 98e67ed59e1d1-2e2c406ed25mr1678171a91.38.1728503754764; 
 Wed, 09 Oct 2024 12:55:54 -0700 (PDT)
Received: from postal.iol.unh.edu (postal.iol.unh.edu. [132.177.123.84])
 by smtp-relay.gmail.com with ESMTPS id
 98e67ed59e1d1-2e2b226d035sm86227a91.1.2024.10.09.12.55.54
 (version=TLS1_2 cipher=ECDHE-ECDSA-AES128-GCM-SHA256 bits=128/128);
 Wed, 09 Oct 2024 12:55:54 -0700 (PDT)
X-Relaying-Domain: iol.unh.edu
Date: Wed, 09 Oct 2024 12:55:54 -0700 (PDT)
Message-ID: <6706dfca.170a0220.220120.5f55SMTPIN_ADDED_MISSING@mx.google.com>
Received: from [172.21.0.4] (unknown [172.18.0.240])
 by postal.iol.unh.edu (Postfix) with ESMTP id E5DE16050A6B;
 Wed,  9 Oct 2024 15:55:53 -0400 (EDT)
Subject: |SUCCESS| pw145533-145536 [PATCH] [4/4] net/mlx5: update dump script
From: dpdklab@iol.unh.edu
To: Test Report <test-report@dpdk.org>
Cc: dpdk-test-reports@iol.unh.edu
In-Reply-To: <20241009114028.973284-5-viacheslavo@nvidia.com>
References: <20241009114028.973284-5-viacheslavo@nvidia.com>
Content-Type: text/plain
X-BeenThere: test-report@dpdk.org
X-Mailman-Version: 2.1.29
Precedence: list
List-Id: automatic DPDK test reports <test-report.dpdk.org>
List-Unsubscribe: <https://mails.dpdk.org/options/test-report>,
 <mailto:test-report-request@dpdk.org?subject=unsubscribe>
List-Archive: <http://mails.dpdk.org/archives/test-report/>
List-Post: <mailto:test-report@dpdk.org>
List-Help: <mailto:test-report-request@dpdk.org?subject=help>
List-Subscribe: <https://mails.dpdk.org/listinfo/test-report>,
 <mailto:test-report-request@dpdk.org?subject=subscribe>
Errors-To: test-report-bounces@dpdk.org

Test-Label: iol-compile-amd64-testing
Test-Status: SUCCESS
http://dpdk.org/patch/145536

_Testing PASS_

Submitter: Viacheslav Ovsiienko <viacheslavo@nvidia.com>
Date: Wednesday, October 09 2024 11:40:28 
DPDK git baseline: Repo:dpdk
  Branch: master
  CommitID:92f33d7016a5dfd0fc8ee95607db9671af7256a7

145533-145536 --> testing pass

Upstream job id: Generic-DPDK-Compile-Meson#312912

Test environment and result as below:

+---------------------+--------------------+-------------------+----------------------+-----------------------+------------------+-------------------+
|     Environment     | dpdk_meson_compile | dpdk_msvc_compile | dpdk_mingw64_compile | dpdk_win_llvm_compile | dpdk_compile_ovs | dpdk_compile_spdk |
+=====================+====================+===================+======================+=======================+==================+===================+
| FreeBSD 13.4        | PASS               | SKIPPED           | SKIPPED              | SKIPPED               | SKIPPED          | SKIPPED           |
+---------------------+--------------------+-------------------+----------------------+-----------------------+------------------+-------------------+
| FreeBSD 14.1        | PASS               | SKIPPED           | SKIPPED              | SKIPPED               | SKIPPED          | SKIPPED           |
+---------------------+--------------------+-------------------+----------------------+-----------------------+------------------+-------------------+
| CentOS Stream 9     | PASS               | SKIPPED           | SKIPPED              | SKIPPED               | PASS             | PASS              |
+---------------------+--------------------+-------------------+----------------------+-----------------------+------------------+-------------------+
| Debian Bullseye     | PASS               | SKIPPED           | SKIPPED              | SKIPPED               | PASS             | PASS              |
+---------------------+--------------------+-------------------+----------------------+-----------------------+------------------+-------------------+
| Debian 12           | PASS               | SKIPPED           | SKIPPED              | SKIPPED               | PASS             | PASS              |
+---------------------+--------------------+-------------------+----------------------+-----------------------+------------------+-------------------+
| Fedora 37           | PASS               | SKIPPED           | SKIPPED              | SKIPPED               | PASS             | PASS              |
+---------------------+--------------------+-------------------+----------------------+-----------------------+------------------+-------------------+
| Fedora 38 (Clang)   | PASS               | SKIPPED           | SKIPPED              | SKIPPED               | PASS             | PASS              |
+---------------------+--------------------+-------------------+----------------------+-----------------------+------------------+-------------------+
| Fedora 38           | PASS               | SKIPPED           | SKIPPED              | SKIPPED               | PASS             | PASS              |
+---------------------+--------------------+-------------------+----------------------+-----------------------+------------------+-------------------+
| Fedora 39 (Clang)   | PASS               | SKIPPED           | SKIPPED              | SKIPPED               | PASS             | PASS              |
+---------------------+--------------------+-------------------+----------------------+-----------------------+------------------+-------------------+
| Fedora 39           | PASS               | SKIPPED           | SKIPPED              | SKIPPED               | PASS             | PASS              |
+---------------------+--------------------+-------------------+----------------------+-----------------------+------------------+-------------------+
| Fedora 40 (Clang)   | PASS               | SKIPPED           | SKIPPED              | SKIPPED               | PASS             | PASS              |
+---------------------+--------------------+-------------------+----------------------+-----------------------+------------------+-------------------+
| Fedora 40           | PASS               | SKIPPED           | SKIPPED              | SKIPPED               | PASS             | PASS              |
+---------------------+--------------------+-------------------+----------------------+-----------------------+------------------+-------------------+
| openSUSE Leap 15    | PASS               | SKIPPED           | SKIPPED              | SKIPPED               | PASS             | SKIPPED           |
+---------------------+--------------------+-------------------+----------------------+-----------------------+------------------+-------------------+
| RHEL8               | PASS               | SKIPPED           | SKIPPED              | SKIPPED               | PASS             | SKIPPED           |
+---------------------+--------------------+-------------------+----------------------+-----------------------+------------------+-------------------+
| RHEL9               | PASS               | SKIPPED           | SKIPPED              | SKIPPED               | PASS             | SKIPPED           |
+---------------------+--------------------+-------------------+----------------------+-----------------------+------------------+-------------------+
| Ubuntu 20.04        | PASS               | SKIPPED           | SKIPPED              | SKIPPED               | PASS             | SKIPPED           |
+---------------------+--------------------+-------------------+----------------------+-----------------------+------------------+-------------------+
| Ubuntu 22.04        | PASS               | SKIPPED           | SKIPPED              | SKIPPED               | PASS             | PASS              |
+---------------------+--------------------+-------------------+----------------------+-----------------------+------------------+-------------------+
| Ubuntu 24.04        | PASS               | SKIPPED           | SKIPPED              | SKIPPED               | PASS             | PASS              |
+---------------------+--------------------+-------------------+----------------------+-----------------------+------------------+-------------------+
| Alpine              | PASS               | SKIPPED           | SKIPPED              | SKIPPED               | PASS             | SKIPPED           |
+---------------------+--------------------+-------------------+----------------------+-----------------------+------------------+-------------------+
| Windows Server 2022 | SKIPPED            | PASS              | PASS                 | PASS                  | SKIPPED          | SKIPPED           |
+---------------------+--------------------+-------------------+----------------------+-----------------------+------------------+-------------------+


FreeBSD 13.4
	Kernel: 13.4-RELEASE-p1
	Compiler: clang 18.1.6

FreeBSD 14.1
	Kernel: 14.1-RELEASE-p3
	Compiler: clang 18.1.5

CentOS Stream 9
	Kernel: Depends on container host
	Compiler: gcc 11.4.1 20231218 (Red Hat 11.4.1-3)

Debian Bullseye
	Kernel: Depends on container host
	Compiler: gcc (Debian 10.2.1-6) 10.2.1 20210110

Debian 12
	Kernel: Depends on container host
	Compiler: gcc (Debian 12.2.0-14) 12.2.0

Fedora 37
	Kernel: Depends on container host system
	Compiler: gcc 12.3.1 20230508 (Red Hat 12.3.1-1)

Fedora 38 (Clang)
	Kernel: Depends on container host
	Compiler: clang 16.0.6 (Fedora 16.0.6-4.fc38)

Fedora 38
	Kernel: Depends on container host
	Compiler: gcc 13.2.1 20240316 (Red Hat 13.2.1-7)

Fedora 39 (Clang)
	Kernel: Depends on container host
	Compiler: clang 17.0.6 (Fedora 17.0.6-2.fc39)

Fedora 39
	Kernel: Depends on container host
	Compiler: gcc 13.3.1 20240522 (Red Hat 13.3.1-1)

Fedora 40 (Clang)
	Kernel: Depends on container host
	Compiler: clang 18.1.6 (Fedora 18.1.6-3.fc40)

Fedora 40
	Kernel: Depends on container host
	Compiler: gcc 14.2.1 20240801 (Red Hat 14.2.1-1)

openSUSE Leap 15
	Kernel: Depends on container host
	Compiler: gcc (SUSE Linux) 7.5.0

RHEL8
	Kernel: Depends on container host
	Compiler: gcc 8.5.0 20210514 (Red Hat 8.5.0-22)

RHEL9
	Kernel: Depends on container host
	Compiler: gcc 11.4.1 20231218 (Red Hat 11.4.1-3)

Ubuntu 20.04
	Kernel: Depends on container host
	Compiler: gcc (Ubuntu 9.4.0-1ubuntu1~20.04.2) 9.4.0

Ubuntu 22.04
	Kernel: Depends on container host
	Compiler: gcc (Ubuntu 11.4.0-1ubuntu1~22.04) 11.4.0

Ubuntu 24.04
	Kernel: Depends on container host
	Compiler: gcc (Ubuntu 13.2.0-23ubuntu4) 13.2.0

Alpine
	Kernel: Depends on container host
	Compiler: gcc (Alpine 13.2.1_git20240309) 13.2.1 20240309

Windows Server 2022
	Kernel: 10.0.20348.2031
	Compiler: clang 15.0.7, gcc 14.1.0 (MinGW), and MSVC VS 19.39.33521

To view detailed results, visit:
https://lab.dpdk.org/results/dashboard/patchsets/31378/

UNH-IOL DPDK Community Lab

To manage your email subscriptions, visit: 
https://lab.dpdk.org/results/dashboard/preferences/subscriptions/