From mboxrd@z Thu Jan  1 00:00:00 1970
Return-Path: <test-report-bounces@dpdk.org>
Received: from mails.dpdk.org (mails.dpdk.org [217.70.189.124])
	by inbox.dpdk.org (Postfix) with ESMTP id 68F1945AFC
	for <public@inbox.dpdk.org>; Thu, 10 Oct 2024 07:09:22 +0200 (CEST)
Received: from mails.dpdk.org (localhost [127.0.0.1])
	by mails.dpdk.org (Postfix) with ESMTP id 62FD34029A;
	Thu, 10 Oct 2024 07:09:22 +0200 (CEST)
Received: from mail-qv1-f97.google.com (mail-qv1-f97.google.com
 [209.85.219.97]) by mails.dpdk.org (Postfix) with ESMTP id D145D40298
 for <test-report@dpdk.org>; Thu, 10 Oct 2024 07:09:18 +0200 (CEST)
Received: by mail-qv1-f97.google.com with SMTP id
 6a1803df08f44-6cbcc2bd800so5067916d6.0
 for <test-report@dpdk.org>; Wed, 09 Oct 2024 22:09:18 -0700 (PDT)
DKIM-Signature: v=1; a=rsa-sha256; c=relaxed/relaxed;
 d=iol.unh.edu; s=unh-iol; t=1728536958; x=1729141758; darn=dpdk.org;
 h=cc:to:from:subject:message-id:date:from:to:cc:subject:date
 :message-id:reply-to;
 bh=A60By0ijj4ZfNs20jRgsWfweTIRTHsMfRvqICtey6TY=;
 b=RTy6lyBWMlrg0wmpje+WpRBZ6p+VW4s1RtFPF7Vf+0AZFpCs2iLCfZPSS+Mi3uA1yv
 cqa5hk3UPK24jOkEBjjNuiSyfgHkZm7WqVqr/gFNV7O32B9OekmrVDYnsv6VKql7PSVg
 m+ykYi+4FjWF/rs/TNXn33PqYjOG4AnR9vgIM=
X-Google-DKIM-Signature: v=1; a=rsa-sha256; c=relaxed/relaxed;
 d=1e100.net; s=20230601; t=1728536958; x=1729141758;
 h=cc:to:from:subject:message-id:date:x-gm-message-state:from:to:cc
 :subject:date:message-id:reply-to;
 bh=A60By0ijj4ZfNs20jRgsWfweTIRTHsMfRvqICtey6TY=;
 b=mv/zKCmZOTHEtOLY0mlV+hoa9aZMTWiEkte2vthWRZpjxO0g1fjhiAHtywXp0J0nNp
 I+oRDe4l+/J4z/6eWL1ll+sp2svSbgCUfy3Rq10tvIAeVajbtOyqkT8MicFsYiUog9u8
 HVUeAeohP4+orBpgWLcNd4gBhvscKd/0FL3zX3kVm4SjeK7doz5L+b/3Jz6oXW9HVMKe
 zixGDaBpkHqu2PqE64qVfW8COu5wqmun+C3BqodLx7ZnzR0swbyO9mr1QKcY+vAQ1jH1
 oCG18//rGOGTZRIgMtR06oCruZrfgucUqLego846qJ8ZOTDCyt5lglLpQnIn7qgzpBdG
 SeeQ==
X-Gm-Message-State: AOJu0YyRKy98pWvjh+VwLo/oIalViu0fD/2a7WbCGuRD4QGRLykQ2C3y
 b6qvP/Fy8fGptGDTF3T7AdTeM2S71a3BBt/wzqnIVoEQNfTCQjRbef8FIeWncYlfmtlowj6Qa2m
 uKMCktKg2UuCFo2QA1Q44b4eV07VINLdB
X-Google-Smtp-Source: AGHT+IFVDDg/4PpE+p3Bu1JpbDFyRSFaWHKYdDSjsu7CP9zHBitmwisikcNmW06laE60j5mUxPdZJSY7wMZn
X-Received: by 2002:a05:6214:3382:b0:6c7:c646:4b7f with SMTP id
 6a1803df08f44-6cbe51f54c6mr37846576d6.3.1728536958235; 
 Wed, 09 Oct 2024 22:09:18 -0700 (PDT)
Received: from postal.iol.unh.edu (postal.iol.unh.edu. [132.177.123.84])
 by smtp-relay.gmail.com with ESMTPS id
 6a1803df08f44-6cbe85bc0d7sm244246d6.28.2024.10.09.22.09.18
 (version=TLS1_2 cipher=ECDHE-ECDSA-AES128-GCM-SHA256 bits=128/128);
 Wed, 09 Oct 2024 22:09:18 -0700 (PDT)
X-Relaying-Domain: iol.unh.edu
Date: Wed, 09 Oct 2024 22:09:18 -0700 (PDT)
Message-ID: <6707617e.d40a0220.19b041.18d8SMTPIN_ADDED_MISSING@mx.google.com>
Received: from [172.21.0.4] (unknown [172.18.0.240])
 by postal.iol.unh.edu (Postfix) with ESMTP id E877F6052471;
 Thu, 10 Oct 2024 01:09:17 -0400 (EDT)
Subject: |SUCCESS| [GIT MASTER] d20fd65f258afb5b572fe686b7d1032aeb95e079
From: dpdklab@iol.unh.edu
To: Test Report <test-report@dpdk.org>
Cc: dpdk-test-reports@iol.unh.edu, Xueming Li <xuemingl@nvidia.com>,
 Christian Ehrhardt <christian.ehrhardt@canonical.com>,
 Kevin Traynor <ktraynor@redhat.com>, Luca Boccassi <bluca@debian.org>
Content-Type: text/plain
X-BeenThere: test-report@dpdk.org
X-Mailman-Version: 2.1.29
Precedence: list
List-Id: automatic DPDK test reports <test-report.dpdk.org>
List-Unsubscribe: <https://mails.dpdk.org/options/test-report>,
 <mailto:test-report-request@dpdk.org?subject=unsubscribe>
List-Archive: <http://mails.dpdk.org/archives/test-report/>
List-Post: <mailto:test-report@dpdk.org>
List-Help: <mailto:test-report-request@dpdk.org?subject=help>
List-Subscribe: <https://mails.dpdk.org/listinfo/test-report>,
 <mailto:test-report-request@dpdk.org?subject=subscribe>
Errors-To: test-report-bounces@dpdk.org

_Testing PASS_

Branch: tags/v21.11

d20fd65f258afb5b572fe686b7d1032aeb95e079 --> testing pass

Upstream job id: Windows-Compile-DPDK-Native#22924

Test environment and result as below:

+---------------------+-----------------------+----------------------+--------------------+
|     Environment     | dpdk_win_llvm_compile | dpdk_mingw64_compile | dpdk_meson_compile |
+=====================+=======================+======================+====================+
| Windows Server 2022 | PASS                  | PASS                 | SKIPPED            |
+---------------------+-----------------------+----------------------+--------------------+
| FreeBSD 13.4        | SKIPPED               | SKIPPED              | PASS               |
+---------------------+-----------------------+----------------------+--------------------+
| FreeBSD 14.1        | SKIPPED               | SKIPPED              | PASS               |
+---------------------+-----------------------+----------------------+--------------------+


Windows Server 2022
	Kernel: 10.0.20348.2031
	Compiler: clang 15.0.7, gcc 14.1.0 (MinGW), and MSVC VS 19.39.33521

FreeBSD 13.4
	Kernel: 13.4-RELEASE-p1
	Compiler: clang 18.1.6

FreeBSD 14.1
	Kernel: 14.1-RELEASE-p3
	Compiler: clang 18.1.5

To view detailed results, visit:
https://lab.dpdk.org/results/dashboard/tarballs/30949/

UNH-IOL DPDK Community Lab

To manage your email subscriptions, visit: 
https://lab.dpdk.org/results/dashboard/preferences/subscriptions/