From mboxrd@z Thu Jan  1 00:00:00 1970
Return-Path: <test-report-bounces@dpdk.org>
Received: from mails.dpdk.org (mails.dpdk.org [217.70.189.124])
	by inbox.dpdk.org (Postfix) with ESMTP id A011D45AFC
	for <public@inbox.dpdk.org>; Thu, 10 Oct 2024 07:34:03 +0200 (CEST)
Received: from mails.dpdk.org (localhost [127.0.0.1])
	by mails.dpdk.org (Postfix) with ESMTP id 7B4994029A;
	Thu, 10 Oct 2024 07:34:03 +0200 (CEST)
Received: from mail-oi1-f226.google.com (mail-oi1-f226.google.com
 [209.85.167.226])
 by mails.dpdk.org (Postfix) with ESMTP id DD43140298
 for <test-report@dpdk.org>; Thu, 10 Oct 2024 07:34:02 +0200 (CEST)
Received: by mail-oi1-f226.google.com with SMTP id
 5614622812f47-3e4d624ac53so231053b6e.2
 for <test-report@dpdk.org>; Wed, 09 Oct 2024 22:34:02 -0700 (PDT)
DKIM-Signature: v=1; a=rsa-sha256; c=relaxed/relaxed;
 d=iol.unh.edu; s=unh-iol; t=1728538442; x=1729143242; darn=dpdk.org;
 h=cc:to:from:subject:message-id:date:from:to:cc:subject:date
 :message-id:reply-to;
 bh=exJX6aqGXohnbKy86ewwvu75sUiVXP4k8T26HYODJJI=;
 b=Kfd0CmtHbErmrzCJ/3xMkmGSNQZWoNoeBbFvSa1IjgC3LnhRUDMZ/+sJKobVtu2nUL
 qg5B+gXtIhtWkAQu3FGfvKeGUpB4pY41Nx6LYNz4Bn778lmaTk10qku+B7fDYm8zPcol
 o27C+i050N/d4wrGg/PGzyXnD/pAPciDnWGag=
X-Google-DKIM-Signature: v=1; a=rsa-sha256; c=relaxed/relaxed;
 d=1e100.net; s=20230601; t=1728538442; x=1729143242;
 h=cc:to:from:subject:message-id:date:x-gm-message-state:from:to:cc
 :subject:date:message-id:reply-to;
 bh=exJX6aqGXohnbKy86ewwvu75sUiVXP4k8T26HYODJJI=;
 b=qADDVNl3kRA30/06/UHzE6wuIJ5wtHCQ6o1hGkt47xWtDsX8w6E8BmbMIN1E+rZoH7
 PxUocHFQlaEGYO5/zltwjN1XABTJKUbq+EJxGMiDr3bybJaktaHB6/nGVOkF/xKXEltf
 LIv5uytHWsealXVfZx8TXngPl98ilW26g7XuTNYx/CsKvuavKLGnmvOvwaj5N4SRgbNH
 jnYipNB7c3NBQ6nOCcVzWKrMjCAiuVI71VgKkeC/zokAKimrrueS7yTTjV4HZDgpCKwL
 1s8hVwjf0mmNLrrduaDnYufqCO8Dhtf9+WueN9FBkxkXWSf11o6ybjnRxsooFPU+fQAb
 qv6Q==
X-Gm-Message-State: AOJu0YxJVWBKifcLVU6Q8xAelQLGCMPTPM0qGM3g7ZJdI7TneY59QN3g
 An2btXvQHZJdI/mOdTjegT8BbOSo2iP8uqhsNVwTbh3UEcOcfW7Qbday47HNRUHIAhZ9n4YlDNm
 pEnS1sZrHVIG6QGn65JvlknmI87OS8Uan3J2lAXaS9a0XN+wI
X-Google-Smtp-Source: AGHT+IEUY9LhPVnDygKhDidKZx1HNW2BwpG3qzP5G+VH1Urxu8e7lOeXxJse8bVQ2VYoa9+7j6xi9p5fef9N
X-Received: by 2002:a05:6808:170a:b0:3e3:e3ae:b73b with SMTP id
 5614622812f47-3e3e672b12dmr3063226b6e.25.1728538442028; 
 Wed, 09 Oct 2024 22:34:02 -0700 (PDT)
Received: from postal.iol.unh.edu (postal.iol.unh.edu.
 [2606:4100:3880:1234::84]) by smtp-relay.gmail.com with ESMTPS id
 006d021491bc7-5eb11aa73ffsm14944eaf.19.2024.10.09.22.34.01
 (version=TLS1_2 cipher=ECDHE-ECDSA-AES128-GCM-SHA256 bits=128/128);
 Wed, 09 Oct 2024 22:34:02 -0700 (PDT)
X-Relaying-Domain: iol.unh.edu
Date: Wed, 09 Oct 2024 22:34:02 -0700 (PDT)
Message-ID: <6707674a.4a0a0220.56c8f.1054SMTPIN_ADDED_MISSING@mx.google.com>
Received: from [172.21.0.3] (unknown [172.18.0.240])
 by postal.iol.unh.edu (Postfix) with ESMTP id 8032D6052471;
 Thu, 10 Oct 2024 01:34:01 -0400 (EDT)
Subject: |SUCCESS| [GIT MASTER] e8eb14e00d56027bef8569d68cf00e39670edca2
From: dpdklab@iol.unh.edu
To: Test Report <test-report@dpdk.org>
Cc: dpdk-test-reports@iol.unh.edu, Xueming Li <xuemingl@nvidia.com>,
 Christian Ehrhardt <christian.ehrhardt@canonical.com>,
 Kevin Traynor <ktraynor@redhat.com>, Luca Boccassi <bluca@debian.org>
Content-Type: text/plain
X-BeenThere: test-report@dpdk.org
X-Mailman-Version: 2.1.29
Precedence: list
List-Id: automatic DPDK test reports <test-report.dpdk.org>
List-Unsubscribe: <https://mails.dpdk.org/options/test-report>,
 <mailto:test-report-request@dpdk.org?subject=unsubscribe>
List-Archive: <http://mails.dpdk.org/archives/test-report/>
List-Post: <mailto:test-report@dpdk.org>
List-Help: <mailto:test-report-request@dpdk.org?subject=help>
List-Subscribe: <https://mails.dpdk.org/listinfo/test-report>,
 <mailto:test-report-request@dpdk.org?subject=subscribe>
Errors-To: test-report-bounces@dpdk.org

_Testing PASS_

Branch: tags/v23.11

e8eb14e00d56027bef8569d68cf00e39670edca2 --> testing pass

Upstream job id: Windows-Compile-DPDK-Native#22926

Test environment and result as below:

+---------------------+--------------------+-----------------------+----------------------+-------------------+
|     Environment     | dpdk_meson_compile | dpdk_win_llvm_compile | dpdk_mingw64_compile | dpdk_msvc_compile |
+=====================+====================+=======================+======================+===================+
| FreeBSD 13.4        | PASS               | SKIPPED               | SKIPPED              | SKIPPED           |
+---------------------+--------------------+-----------------------+----------------------+-------------------+
| FreeBSD 14.1        | PASS               | SKIPPED               | SKIPPED              | SKIPPED           |
+---------------------+--------------------+-----------------------+----------------------+-------------------+
| Windows Server 2022 | SKIPPED            | PASS                  | PASS                 | PASS              |
+---------------------+--------------------+-----------------------+----------------------+-------------------+


FreeBSD 13.4
	Kernel: 13.4-RELEASE-p1
	Compiler: clang 18.1.6

FreeBSD 14.1
	Kernel: 14.1-RELEASE-p3
	Compiler: clang 18.1.5

Windows Server 2022
	Kernel: 10.0.20348.2031
	Compiler: clang 15.0.7, gcc 14.1.0 (MinGW), and MSVC VS 19.39.33521

To view detailed results, visit:
https://lab.dpdk.org/results/dashboard/tarballs/30948/

UNH-IOL DPDK Community Lab

To manage your email subscriptions, visit: 
https://lab.dpdk.org/results/dashboard/preferences/subscriptions/