From mboxrd@z Thu Jan  1 00:00:00 1970
Return-Path: <test-report-bounces@dpdk.org>
Received: from mails.dpdk.org (mails.dpdk.org [217.70.189.124])
	by inbox.dpdk.org (Postfix) with ESMTP id 9BBC145B08
	for <public@inbox.dpdk.org>; Thu, 10 Oct 2024 18:56:35 +0200 (CEST)
Received: from mails.dpdk.org (localhost [127.0.0.1])
	by mails.dpdk.org (Postfix) with ESMTP id 9875F402A3;
	Thu, 10 Oct 2024 18:56:35 +0200 (CEST)
Received: from mail-pj1-f100.google.com (mail-pj1-f100.google.com
 [209.85.216.100])
 by mails.dpdk.org (Postfix) with ESMTP id 8D27740144
 for <test-report@dpdk.org>; Thu, 10 Oct 2024 18:56:34 +0200 (CEST)
Received: by mail-pj1-f100.google.com with SMTP id
 98e67ed59e1d1-2e18856feb4so1086720a91.3
 for <test-report@dpdk.org>; Thu, 10 Oct 2024 09:56:34 -0700 (PDT)
DKIM-Signature: v=1; a=rsa-sha256; c=relaxed/relaxed;
 d=iol.unh.edu; s=unh-iol; t=1728579394; x=1729184194; darn=dpdk.org;
 h=references:in-reply-to:cc:to:from:subject:message-id:date:from:to
 :cc:subject:date:message-id:reply-to;
 bh=2EBHnudTs+gh1ie2HNvUCMZ+VjQOjYzAi0JUkcVEqAs=;
 b=CYv/9gvCaSWCpHkfN3YSXB3CxAG58bCs3SE25NSN6ckyETnNO82ozcYk+G4awweBz8
 oirVrpJS0+0RCrpm3Gr9xreEHhgl40Y46i3O4NyODmVSBUNh6Z52F98NzjwFWclfQByV
 Ri1upmfx0bQC1PCnlRYRI9onjMShhiCYdNvMA=
X-Google-DKIM-Signature: v=1; a=rsa-sha256; c=relaxed/relaxed;
 d=1e100.net; s=20230601; t=1728579394; x=1729184194;
 h=references:in-reply-to:cc:to:from:subject:message-id:date
 :x-gm-message-state:from:to:cc:subject:date:message-id:reply-to;
 bh=2EBHnudTs+gh1ie2HNvUCMZ+VjQOjYzAi0JUkcVEqAs=;
 b=eM6l9sq5WACOZNFYqXwdKhDyiPYxnmqIK0Vd+6gB/S1V1BdSK9m+QoU9yzJyaO3llb
 LM1dRXLQUigutq9QB41nvWtRwDgSw0z/8h+atiPNwNpH2+H00uZH5gm5xs8CUD96S+VJ
 bsQE2YS5QHdt/VNkV1DWkgTMDC6NEXwohnYqq/iIuvxjS65djR9qEN7G4hdfGsinVOk+
 5CF7CspOu5yONjz7EcSu+O4Doh8yMSKqfxfa3edi889ySpo3Vg1hLPzetFPfbL60oBfc
 td8oDLADJ2kOLyHM9C6llKQ7eo/BqS8ybPSDReofoHgNdszwPVsniFGCcBRN4sId0LlR
 7O5g==
X-Gm-Message-State: AOJu0YysGgJBfOIdvIDdeNzUWwJiPcXU3yceFJqSGuzav0l/2UhK216s
 z79/YbnV2lS8N1F0THUv7Lt64ZMdgFq8P5W35K4UWxZ3fdGXKWSdpybfVwn+fRSPin00Xn9IyZT
 9jCc5aOB4wfrbVWDwLlesR4NZFlrZ9nlF+s/zY1QUsItZhs84euJhMTRB
X-Google-Smtp-Source: AGHT+IE2iOv2626RdkQh3pa/qzXfB9x/Z18V1yJslFB2MpHMwncnPgqPeZHiipqr52EeDG0U+0aMinA8zamK
X-Received: by 2002:a17:90a:da8f:b0:2e2:daab:cc69 with SMTP id
 98e67ed59e1d1-2e2daabcce4mr2532269a91.12.1728579393747; 
 Thu, 10 Oct 2024 09:56:33 -0700 (PDT)
Received: from postal.iol.unh.edu (postal.iol.unh.edu.
 [2606:4100:3880:1234::84]) by smtp-relay.gmail.com with ESMTPS id
 98e67ed59e1d1-2e2ae9f2a2csm206830a91.11.2024.10.10.09.56.33
 (version=TLS1_2 cipher=ECDHE-ECDSA-AES128-GCM-SHA256 bits=128/128);
 Thu, 10 Oct 2024 09:56:33 -0700 (PDT)
X-Relaying-Domain: iol.unh.edu
Date: Thu, 10 Oct 2024 09:56:33 -0700 (PDT)
Message-ID: <67080741.170a0220.258b0a.d995SMTPIN_ADDED_MISSING@mx.google.com>
Received: from [172.21.0.2] (unknown [172.18.0.240])
 by postal.iol.unh.edu (Postfix) with ESMTP id C9D956052471;
 Thu, 10 Oct 2024 12:56:32 -0400 (EDT)
Subject: |SUCCESS| pw145598-145601 [PATCH] [v2,4/4] test/thash: add tests for
From: dpdklab@iol.unh.edu
To: Test Report <test-report@dpdk.org>
Cc: dpdk-test-reports@iol.unh.edu
In-Reply-To: <20241010123331.749004-5-vladimir.medvedkin@intel.com>
References: <20241010123331.749004-5-vladimir.medvedkin@intel.com>
Content-Type: text/plain
X-BeenThere: test-report@dpdk.org
X-Mailman-Version: 2.1.29
Precedence: list
List-Id: automatic DPDK test reports <test-report.dpdk.org>
List-Unsubscribe: <https://mails.dpdk.org/options/test-report>,
 <mailto:test-report-request@dpdk.org?subject=unsubscribe>
List-Archive: <http://mails.dpdk.org/archives/test-report/>
List-Post: <mailto:test-report@dpdk.org>
List-Help: <mailto:test-report-request@dpdk.org?subject=help>
List-Subscribe: <https://mails.dpdk.org/listinfo/test-report>,
 <mailto:test-report-request@dpdk.org?subject=subscribe>
Errors-To: test-report-bounces@dpdk.org

Test-Label: iol-compile-amd64-testing
Test-Status: SUCCESS
http://dpdk.org/patch/145601

_Testing PASS_

Submitter: Vladimir Medvedkin <vladimir.medvedkin@intel.com>
Date: Thursday, October 10 2024 12:33:31 
DPDK git baseline: Repo:dpdk
  Branch: master
  CommitID:7d7a41f9ec223ede1d749d260e0409713c635f14

145598-145601 --> testing pass

Upstream job id: Windows-Compile-DPDK-Native#22946

Test environment and result as below:

+---------------------+-----------------------+----------------------+--------------------+
|     Environment     | dpdk_win_llvm_compile | dpdk_mingw64_compile | dpdk_meson_compile |
+=====================+=======================+======================+====================+
| Windows Server 2022 | PASS                  | PASS                 | SKIPPED            |
+---------------------+-----------------------+----------------------+--------------------+
| FreeBSD 13.4        | SKIPPED               | SKIPPED              | PASS               |
+---------------------+-----------------------+----------------------+--------------------+
| FreeBSD 14.1        | SKIPPED               | SKIPPED              | PASS               |
+---------------------+-----------------------+----------------------+--------------------+


Windows Server 2022
	Kernel: 10.0.20348.2031
	Compiler: clang 15.0.7, gcc 14.1.0 (MinGW), and MSVC VS 19.39.33521

FreeBSD 13.4
	Kernel: 13.4-RELEASE-p1
	Compiler: clang 18.1.6

FreeBSD 14.1
	Kernel: 14.1-RELEASE-p3
	Compiler: clang 18.1.5

To view detailed results, visit:
https://lab.dpdk.org/results/dashboard/patchsets/31400/

UNH-IOL DPDK Community Lab

To manage your email subscriptions, visit: 
https://lab.dpdk.org/results/dashboard/preferences/subscriptions/