From mboxrd@z Thu Jan  1 00:00:00 1970
Return-Path: <test-report-bounces@dpdk.org>
Received: from mails.dpdk.org (mails.dpdk.org [217.70.189.124])
	by inbox.dpdk.org (Postfix) with ESMTP id B6F8645B09
	for <public@inbox.dpdk.org>; Thu, 10 Oct 2024 20:36:27 +0200 (CEST)
Received: from mails.dpdk.org (localhost [127.0.0.1])
	by mails.dpdk.org (Postfix) with ESMTP id 944B7402BB;
	Thu, 10 Oct 2024 20:36:27 +0200 (CEST)
Received: from mail-vk1-f227.google.com (mail-vk1-f227.google.com
 [209.85.221.227])
 by mails.dpdk.org (Postfix) with ESMTP id CD6E94025D
 for <test-report@dpdk.org>; Thu, 10 Oct 2024 20:36:25 +0200 (CEST)
Received: by mail-vk1-f227.google.com with SMTP id
 71dfb90a1353d-5090e09438aso400826e0c.0
 for <test-report@dpdk.org>; Thu, 10 Oct 2024 11:36:25 -0700 (PDT)
DKIM-Signature: v=1; a=rsa-sha256; c=relaxed/relaxed;
 d=iol.unh.edu; s=unh-iol; t=1728585385; x=1729190185; darn=dpdk.org;
 h=references:in-reply-to:cc:to:from:subject:message-id:date:from:to
 :cc:subject:date:message-id:reply-to;
 bh=PYSWOB3e1HIb1thrmN+tOu8XtqXg0cMwJ+lVzPoMveQ=;
 b=JCluxQXh4AyBfUwobyxOh7YlUdqL3GL9g9/Fn6lzcfwbGGpClBbj/n6akenopklQNT
 PBn9CfRYKA1siDzjf0yfk/HtnCZCkYE6Fpis4aZdPcv/L9OmCbI+5tiTrQUJvQje5GWL
 9xGwN/eXK85ksQaHKQNuNKE5/UxcpT6AGCiQ4=
X-Google-DKIM-Signature: v=1; a=rsa-sha256; c=relaxed/relaxed;
 d=1e100.net; s=20230601; t=1728585385; x=1729190185;
 h=references:in-reply-to:cc:to:from:subject:message-id:date
 :x-gm-message-state:from:to:cc:subject:date:message-id:reply-to;
 bh=PYSWOB3e1HIb1thrmN+tOu8XtqXg0cMwJ+lVzPoMveQ=;
 b=Hc5dXm7tU7kzk/+HsEwisV1S3gIWAY1xlz3CiN2UzxabSRDF5rqGOfv9XixWgALHNN
 V1HaqWU9M1mRwaaXtuWXzW1X5PbkR5SpAR6I/V7XRFiSA7SrFTI1De+lSFicTM2lfUYs
 yPU4Xl0RF/MEEskY41FxbqsnjrJyy9Ix7hn2+Zi61DanogXMPP49pRIjgiRrmmRs+4Iz
 TwTew80BzN//Z28A1IvjELmLiuVLoW0eJk/v8ryJsSAo7Tbwe8zoYEW0d3dy9qJhVjBy
 2KgtWO1pSmYEt8SJecvSks29MOlWX22G0PezB7Y4ZvabqJiRX6LmGZHtgcgYnt5w20go
 DLPA==
X-Gm-Message-State: AOJu0Ywz2jHqXRfOxcuiWNZDEUT68RvFHiR6mQ/rCBlD3HpMGOQTQgZx
 ova4yakiZJhEWX2m3FQIS5YpvkFopduM+23lxHSZkp/OetD9OdKGIlS+XMYbo4MxUhiYDg2us4J
 zhkbk0zbhBTElhWPh81whLiiVBEgt4bbeXcXklf4d23IXMUZJuQoTFVgW
X-Google-Smtp-Source: AGHT+IHVo/Ecn4xxY7vy0/8nyLPf14fJUuBiddUfnPdSIkmxAf8lVQPZaFmcA7m1wgMhQZy3p4NGs+Y5Y3w2
X-Received: by 2002:a05:6122:2519:b0:50c:ae69:b6dc with SMTP id
 71dfb90a1353d-50cf0c83bb3mr6059918e0c.8.1728585385038; 
 Thu, 10 Oct 2024 11:36:25 -0700 (PDT)
Received: from postal.iol.unh.edu (postal.iol.unh.edu.
 [2606:4100:3880:1234::84]) by smtp-relay.gmail.com with ESMTPS id
 6a1803df08f44-6cbe8611c1csm737496d6.48.2024.10.10.11.36.24
 (version=TLS1_2 cipher=ECDHE-ECDSA-AES128-GCM-SHA256 bits=128/128);
 Thu, 10 Oct 2024 11:36:25 -0700 (PDT)
X-Relaying-Domain: iol.unh.edu
Date: Thu, 10 Oct 2024 11:36:25 -0700 (PDT)
Message-ID: <67081ea9.050a0220.1750d.4eeeSMTPIN_ADDED_MISSING@mx.google.com>
Received: from [172.21.0.2] (unknown [172.18.0.240])
 by postal.iol.unh.edu (Postfix) with ESMTP id B796D6052471;
 Thu, 10 Oct 2024 14:36:24 -0400 (EDT)
Subject: |SUCCESS| pw145574-145575 [PATCH] [2/2] net/nfp: enhance the flower 
From: dpdklab@iol.unh.edu
To: Test Report <test-report@dpdk.org>
Cc: dpdk-test-reports@iol.unh.edu
In-Reply-To: <20241010074557.3622716-3-chaoyong.he@corigine.com>
References: <20241010074557.3622716-3-chaoyong.he@corigine.com>
Content-Type: text/plain
X-BeenThere: test-report@dpdk.org
X-Mailman-Version: 2.1.29
Precedence: list
List-Id: automatic DPDK test reports <test-report.dpdk.org>
List-Unsubscribe: <https://mails.dpdk.org/options/test-report>,
 <mailto:test-report-request@dpdk.org?subject=unsubscribe>
List-Archive: <http://mails.dpdk.org/archives/test-report/>
List-Post: <mailto:test-report@dpdk.org>
List-Help: <mailto:test-report-request@dpdk.org?subject=help>
List-Subscribe: <https://mails.dpdk.org/listinfo/test-report>,
 <mailto:test-report-request@dpdk.org?subject=subscribe>
Errors-To: test-report-bounces@dpdk.org

Test-Label: iol-unit-arm64-testing
Test-Status: SUCCESS
http://dpdk.org/patch/145575

_Testing PASS_

Submitter: Chaoyong He <chaoyong.he@corigine.com>
Date: Thursday, October 10 2024 07:45:57 
DPDK git baseline: Repo:dpdk
  Branch: master
  CommitID:80eb65df1ac1e5b5ed79c364b793bc08c9e0e081

145574-145575 --> testing pass

Upstream job id: Generic-Unit-Test-DPDK#273213

Test environment and result as below:

+-----------------------------+----------------+--------------+------------------------------+---------------------------+
|         Environment         | dpdk_unit_test | lpm_autotest | cryptodev_sw_snow3g_autotest | cryptodev_sw_zuc_autotest |
+=============================+================+==============+==============================+===========================+
| Debian 11 (Buster) (ARM)    | PASS           | SKIPPED      | SKIPPED                      | SKIPPED                   |
+-----------------------------+----------------+--------------+------------------------------+---------------------------+
| CentOS Stream 9 (ARM)       | PASS           | SKIPPED      | SKIPPED                      | SKIPPED                   |
+-----------------------------+----------------+--------------+------------------------------+---------------------------+
| Debian 12 (arm)             | PASS           | SKIPPED      | PASS                         | PASS                      |
+-----------------------------+----------------+--------------+------------------------------+---------------------------+
| Fedora 37 (ARM)             | PASS           | SKIPPED      | SKIPPED                      | SKIPPED                   |
+-----------------------------+----------------+--------------+------------------------------+---------------------------+
| Fedora 38 (ARM)             | PASS           | SKIPPED      | SKIPPED                      | SKIPPED                   |
+-----------------------------+----------------+--------------+------------------------------+---------------------------+
| Fedora 38 (ARM Clang)       | PASS           | SKIPPED      | SKIPPED                      | SKIPPED                   |
+-----------------------------+----------------+--------------+------------------------------+---------------------------+
| Fedora 39 (ARM)             | PASS           | SKIPPED      | SKIPPED                      | SKIPPED                   |
+-----------------------------+----------------+--------------+------------------------------+---------------------------+
| Fedora 40 (ARM)             | PASS           | SKIPPED      | SKIPPED                      | SKIPPED                   |
+-----------------------------+----------------+--------------+------------------------------+---------------------------+
| Fedora 40 (ARM Clang)       | PASS           | SKIPPED      | SKIPPED                      | SKIPPED                   |
+-----------------------------+----------------+--------------+------------------------------+---------------------------+
| RHEL9 (ARM)                 | PASS           | SKIPPED      | SKIPPED                      | SKIPPED                   |
+-----------------------------+----------------+--------------+------------------------------+---------------------------+
| Ubuntu 20.04 (ARM)          | PASS           | SKIPPED      | SKIPPED                      | SKIPPED                   |
+-----------------------------+----------------+--------------+------------------------------+---------------------------+
| Ubuntu 22.04 (ARM)          | PASS           | SKIPPED      | SKIPPED                      | SKIPPED                   |
+-----------------------------+----------------+--------------+------------------------------+---------------------------+
| Ubuntu 24.04 (ARM)          | PASS           | SKIPPED      | SKIPPED                      | SKIPPED                   |
+-----------------------------+----------------+--------------+------------------------------+---------------------------+
| 32-bit Ubuntu 20.04.4 (ARM) | PASS           | SKIPPED      | SKIPPED                      | SKIPPED                   |
+-----------------------------+----------------+--------------+------------------------------+---------------------------+
| Fedora 39 (ARM Clang)       | PASS           | SKIPPED      | SKIPPED                      | SKIPPED                   |
+-----------------------------+----------------+--------------+------------------------------+---------------------------+
| Ubuntu 20.04 ARM SVE        | SKIPPED        | PASS         | SKIPPED                      | SKIPPED                   |
+-----------------------------+----------------+--------------+------------------------------+---------------------------+


Debian 11 (Buster) (ARM)
	Kernel: Depends on container host
	Compiler: gcc (Debian 10.2.1-6) 10.2.1 20210110

CentOS Stream 9 (ARM)
	Kernel: Depends on container host
	Compiler: gcc 11.4.1 20231218 (Red Hat 11.4.1-3)

Debian 12 (arm)
	Kernel: Depends on container host
	Compiler: gcc (Debian 12.2.0-14) 12.2.0

Fedora 37 (ARM)
	Kernel: Depends on container host
	Compiler: gcc 12.3.1 20230508 (Red Hat 12.3.1-1)

Fedora 38 (ARM)
	Kernel: Depends on container host
	Compiler: gcc 13.2.1 20240316 (Red Hat 13.2.1-7)

Fedora 38 (ARM Clang)
	Kernel: Depends on container host
	Compiler: clang 16.0.6 (Fedora 16.0.6-4.fc38)

Fedora 39 (ARM)
	Kernel: Depends on container host
	Compiler: gcc 13.3.1 20240522 (Red Hat 13.3.1-1)

Fedora 40 (ARM)
	Kernel: Depends on container host
	Compiler: gcc 14.2.1 20240801 (Red Hat 14.2.1-1)

Fedora 40 (ARM Clang)
	Kernel: Depends on container host
	Compiler: clang 18.1.6 (Fedora 18.1.6-3.fc40)

RHEL9 (ARM)
	Kernel: Depends on container host
	Compiler: gcc 11.4.1 20231218 (Red Hat 11.4.1-3)

Ubuntu 20.04 (ARM)
	Kernel: Depends on container host
	Compiler: gcc (Ubuntu 9.4.0-1ubuntu1~20.04.2) 9.4.0

Ubuntu 22.04 (ARM)
	Kernel: Depends on container host
	Compiler: gcc (Ubuntu 11.4.0-1ubuntu1~22.04) 11.4.0

Ubuntu 24.04 (ARM)
	Kernel: Depends on container host
	Compiler: gcc (Ubuntu 13.2.0-23ubuntu4) 13.2.0

32-bit Ubuntu 20.04.4 (ARM)
	Kernel: 5.4.0-155-generic aarch64
	Compiler: gcc 9.4

Fedora 39 (ARM Clang)
	Kernel: Depends on container host
	Compiler: clang 17.0.6 (Fedora 17.0.6-2.fc39)

Ubuntu 20.04 ARM SVE
	Kernel: Depends on container host
	Compiler: gcc (Ubuntu 10.5.0-1ubuntu1~20.04) 10.5.0

To view detailed results, visit:
https://lab.dpdk.org/results/dashboard/patchsets/31392/

UNH-IOL DPDK Community Lab

To manage your email subscriptions, visit: 
https://lab.dpdk.org/results/dashboard/preferences/subscriptions/