From mboxrd@z Thu Jan  1 00:00:00 1970
Return-Path: <test-report-bounces@dpdk.org>
Received: from mails.dpdk.org (mails.dpdk.org [217.70.189.124])
	by inbox.dpdk.org (Postfix) with ESMTP id AAD7545B0D
	for <public@inbox.dpdk.org>; Fri, 11 Oct 2024 07:28:06 +0200 (CEST)
Received: from mails.dpdk.org (localhost [127.0.0.1])
	by mails.dpdk.org (Postfix) with ESMTP id A61AA4060A;
	Fri, 11 Oct 2024 07:28:06 +0200 (CEST)
Received: from mail-vs1-f98.google.com (mail-vs1-f98.google.com
 [209.85.217.98]) by mails.dpdk.org (Postfix) with ESMTP id 4ED71402F2
 for <test-report@dpdk.org>; Fri, 11 Oct 2024 07:28:05 +0200 (CEST)
Received: by mail-vs1-f98.google.com with SMTP id
 ada2fe7eead31-4a3a34b3a5aso526575137.1
 for <test-report@dpdk.org>; Thu, 10 Oct 2024 22:28:05 -0700 (PDT)
DKIM-Signature: v=1; a=rsa-sha256; c=relaxed/relaxed;
 d=iol.unh.edu; s=unh-iol; t=1728624484; x=1729229284; darn=dpdk.org;
 h=cc:to:from:subject:message-id:date:from:to:cc:subject:date
 :message-id:reply-to;
 bh=SyTst01PhA3aVUc/K1yBo/efhzTCMBO+S9uadlcS/Tc=;
 b=eOKLfYDlrhcRkFzRMjPQPCcW4IAu2YaWY3m32l69DWT1lSzrsg1lGaH2lqO5z1J4zY
 xUZH1V+W4ILvXg3BHs7rRQlIp21fYy/eAx2Wm+ysd9/eCq5Cer8RKPxff8ibshBW1EdX
 9LRGLOAqmOfXwM08IaC5Glh/N4Oo3oPE1sN64=
X-Google-DKIM-Signature: v=1; a=rsa-sha256; c=relaxed/relaxed;
 d=1e100.net; s=20230601; t=1728624484; x=1729229284;
 h=cc:to:from:subject:message-id:date:x-gm-message-state:from:to:cc
 :subject:date:message-id:reply-to;
 bh=SyTst01PhA3aVUc/K1yBo/efhzTCMBO+S9uadlcS/Tc=;
 b=tSf302aDa2vUpsVpmyTy+L66pIhVmJCVYX9mKLPqYZfv5mV5D5Jrc+XAMmrDZgPISG
 l9BPZ57FLFD2iXdOl5v3InarhQ8gElfj99fzrXJzAzLkfpB5iwtwoWo+FHYT5QWzvRcd
 kG4KVfmfUBPT2zzkqz9XeyvH3mRq3r8jLc2+LaQbqIjX6iYyroEVHSjIvydU+r4UdrW+
 +vKiIkyPFgyecGUHglE0jUQfwTKFUoB6nSJfIz7UkGePquH6qgsIuvwiNmfLcjGX/cb/
 SdUQRN5ggbAjzgrE7NhSDqJUY1Nxb1tkz4u/bw2FQWh8stBLIEdaIZ6cp+2v+VrPeht1
 T9MA==
X-Gm-Message-State: AOJu0YwR3hETmh5Y7kdfXvShhVtay7HHRkNEQpg3f4jW33LfLXWd7bba
 oX4774tIq/1AetTn6Jiptn40FK7n7TaSY/ss/M51RBCWySr7lXX13Swd3FYzfp2mE/sAm3HSS61
 OdDEMu42O4/AFf5qnbSZzrolHUj9Iuyx/dwhFL/O/RK+bpjfV
X-Google-Smtp-Source: AGHT+IFdEeROXju+dxfLm/6hjTZcBzPSIZhl1MNeDnFmKnAz7sgpbh0LblHGNoRiMplENWsFQzhzdLXmSUm5
X-Received: by 2002:a05:6102:440d:b0:498:f38a:2c8b with SMTP id
 ada2fe7eead31-4a465a9c71fmr1397474137.25.1728624484541; 
 Thu, 10 Oct 2024 22:28:04 -0700 (PDT)
Received: from postal.iol.unh.edu (postal.iol.unh.edu.
 [2606:4100:3880:1234::84]) by smtp-relay.gmail.com with ESMTPS id
 6a1803df08f44-6cbe86672b8sm1119486d6.66.2024.10.10.22.28.04
 (version=TLS1_2 cipher=ECDHE-ECDSA-AES128-GCM-SHA256 bits=128/128);
 Thu, 10 Oct 2024 22:28:04 -0700 (PDT)
X-Relaying-Domain: iol.unh.edu
Date: Thu, 10 Oct 2024 22:28:04 -0700 (PDT)
Message-ID: <6708b764.d40a0220.18ea47.7118SMTPIN_ADDED_MISSING@mx.google.com>
Received: from [172.21.0.4] (unknown [172.18.0.240])
 by postal.iol.unh.edu (Postfix) with ESMTP id 3E2FF6052471;
 Fri, 11 Oct 2024 01:28:04 -0400 (EDT)
Subject: |SUCCESS| [GIT MASTER] d20fd65f258afb5b572fe686b7d1032aeb95e079
From: dpdklab@iol.unh.edu
To: Test Report <test-report@dpdk.org>
Cc: dpdk-test-reports@iol.unh.edu, Xueming Li <xuemingl@nvidia.com>,
 Christian Ehrhardt <christian.ehrhardt@canonical.com>,
 Kevin Traynor <ktraynor@redhat.com>, Luca Boccassi <bluca@debian.org>
Content-Type: text/plain
X-BeenThere: test-report@dpdk.org
X-Mailman-Version: 2.1.29
Precedence: list
List-Id: automatic DPDK test reports <test-report.dpdk.org>
List-Unsubscribe: <https://mails.dpdk.org/options/test-report>,
 <mailto:test-report-request@dpdk.org?subject=unsubscribe>
List-Archive: <http://mails.dpdk.org/archives/test-report/>
List-Post: <mailto:test-report@dpdk.org>
List-Help: <mailto:test-report-request@dpdk.org?subject=help>
List-Subscribe: <https://mails.dpdk.org/listinfo/test-report>,
 <mailto:test-report-request@dpdk.org?subject=subscribe>
Errors-To: test-report-bounces@dpdk.org

_Testing PASS_

Branch: tags/v21.11

d20fd65f258afb5b572fe686b7d1032aeb95e079 --> testing pass

Upstream job id: Generic-VM-DPDK-Compile-Meson#30184

Test environment and result as below:

+---------------------+-----------------------+----------------------+--------------------+
|     Environment     | dpdk_win_llvm_compile | dpdk_mingw64_compile | dpdk_meson_compile |
+=====================+=======================+======================+====================+
| Windows Server 2022 | PASS                  | PASS                 | SKIPPED            |
+---------------------+-----------------------+----------------------+--------------------+
| FreeBSD 13.4        | SKIPPED               | SKIPPED              | PASS               |
+---------------------+-----------------------+----------------------+--------------------+
| FreeBSD 14.1        | SKIPPED               | SKIPPED              | PASS               |
+---------------------+-----------------------+----------------------+--------------------+


Windows Server 2022
	Kernel: 10.0.20348.2031
	Compiler: clang 15.0.7, gcc 14.1.0 (MinGW), and MSVC VS 19.39.33521

FreeBSD 13.4
	Kernel: 13.4-RELEASE-p1
	Compiler: clang 18.1.6

FreeBSD 14.1
	Kernel: 14.1-RELEASE-p3
	Compiler: clang 18.1.5

To view detailed results, visit:
https://lab.dpdk.org/results/dashboard/tarballs/30972/

UNH-IOL DPDK Community Lab

To manage your email subscriptions, visit: 
https://lab.dpdk.org/results/dashboard/preferences/subscriptions/