From mboxrd@z Thu Jan  1 00:00:00 1970
Return-Path: <test-report-bounces@dpdk.org>
Received: from mails.dpdk.org (mails.dpdk.org [217.70.189.124])
	by inbox.dpdk.org (Postfix) with ESMTP id 1C47545B24
	for <public@inbox.dpdk.org>; Sun, 13 Oct 2024 06:03:39 +0200 (CEST)
Received: from mails.dpdk.org (localhost [127.0.0.1])
	by mails.dpdk.org (Postfix) with ESMTP id 15B2940273;
	Sun, 13 Oct 2024 06:03:39 +0200 (CEST)
Received: from mail-qv1-f100.google.com (mail-qv1-f100.google.com
 [209.85.219.100])
 by mails.dpdk.org (Postfix) with ESMTP id 9AEF840151
 for <test-report@dpdk.org>; Sun, 13 Oct 2024 06:03:38 +0200 (CEST)
Received: by mail-qv1-f100.google.com with SMTP id
 6a1803df08f44-6c5acb785f2so17491666d6.0
 for <test-report@dpdk.org>; Sat, 12 Oct 2024 21:03:38 -0700 (PDT)
DKIM-Signature: v=1; a=rsa-sha256; c=relaxed/relaxed;
 d=iol.unh.edu; s=unh-iol; t=1728792218; x=1729397018; darn=dpdk.org;
 h=references:in-reply-to:cc:to:from:subject:message-id:date:from:to
 :cc:subject:date:message-id:reply-to;
 bh=vzhqGq1VD+jHz6zHgxMTaZ1XeYPViv93qqBW2W/GNBw=;
 b=gZvq7DilQvQjivthZyYglqQpH7amfn6HHswVOQRCrLxOohYx8SE+M3UhG4HA+Bn35w
 HbfrJGxzZxwT9zG8l6zvq+u13Z14yjtLnwvSP9Y5Quz9CAki0uK4zdC5vK5F7BVcZL82
 7sGpBpt4yy1tklGXFZ7GiW4BFzi9nVDiOzP9c=
X-Google-DKIM-Signature: v=1; a=rsa-sha256; c=relaxed/relaxed;
 d=1e100.net; s=20230601; t=1728792218; x=1729397018;
 h=references:in-reply-to:cc:to:from:subject:message-id:date
 :x-gm-message-state:from:to:cc:subject:date:message-id:reply-to;
 bh=vzhqGq1VD+jHz6zHgxMTaZ1XeYPViv93qqBW2W/GNBw=;
 b=KkPm/iPPoaMg0EmsUdTTb0/dUDsW4m0cw8VbaCM7qTShBtpJFy/iHPEsAZ4G7roC1E
 nYolL4B2yifMVaiQcJI78tLCnZI4khHRmGv/y1IpEGVR+jsW73XX0rD7C2yb1ELImu6y
 Dw5J8agJyUJYBrCoC5e11lvLVlRfB6RkUaFC5e6RyYOdoaKUQdsnGiwjusIp7BGY5SvR
 L2CumyLYQc3KuzkfJVlYUftsUX98oPeYx9D/KXrF6K6X74K0aEN3SIWEWBwTkycm4WBg
 4ctPOfjhu/eCTVxR6OoRb1sghLYRMM6OPi3J/+iVcghtqtdHArAomJliNnbCno98zqF2
 1pdw==
X-Gm-Message-State: AOJu0YxHswVXedlL6CeJtDI99vXHLnnqJ0CadcvqEtHya+txeFttoRQT
 PSRxhGuWASF01nv3Zu5+hxBylaldrs9wcXvrP2YFsJ5IyFvbfwaKGLGuMONCv2OxmpdICiD4EXj
 ZzwjGdAHP50lPUNgFZ4QGclOUgkrJa0R22BEPOkYKKD3fOVRfCsZXrEJq
X-Google-Smtp-Source: AGHT+IHl3u7NrXlRSH3ZWgZL/tj5O71Lp+vG/6sdat/LOiJ/rL7cpeYQoY2tr0xXjKNDdM1k1UaJjsE0rvLv
X-Received: by 2002:a05:6214:5890:b0:6cb:c9d0:df32 with SMTP id
 6a1803df08f44-6cbeff80f57mr92807426d6.11.1728792217957; 
 Sat, 12 Oct 2024 21:03:37 -0700 (PDT)
Received: from postal.iol.unh.edu (postal.iol.unh.edu.
 [2606:4100:3880:1234::84]) by smtp-relay.gmail.com with ESMTPS id
 6a1803df08f44-6cbe85b9923sm2535816d6.19.2024.10.12.21.03.37
 (version=TLS1_2 cipher=ECDHE-ECDSA-AES128-GCM-SHA256 bits=128/128);
 Sat, 12 Oct 2024 21:03:37 -0700 (PDT)
X-Relaying-Domain: iol.unh.edu
Date: Sat, 12 Oct 2024 21:03:37 -0700 (PDT)
Message-ID: <670b4699.050a0220.17c1f3.21e7SMTPIN_ADDED_MISSING@mx.google.com>
Received: from [172.21.0.3] (unknown [172.18.0.240])
 by postal.iol.unh.edu (Postfix) with ESMTP id A796B6052471;
 Sun, 13 Oct 2024 00:03:37 -0400 (EDT)
Subject: |SUCCESS| pw145802 [PATCH] [v2] ethdev: verify queue ID when Tx done
From: dpdklab@iol.unh.edu
To: Test Report <test-report@dpdk.org>
Cc: dpdk-test-reports@iol.unh.edu
In-Reply-To: <20241012091437.21382-1-haijie1@huawei.com>
References: <20241012091437.21382-1-haijie1@huawei.com>
Content-Type: text/plain
X-BeenThere: test-report@dpdk.org
X-Mailman-Version: 2.1.29
Precedence: list
List-Id: automatic DPDK test reports <test-report.dpdk.org>
List-Unsubscribe: <https://mails.dpdk.org/options/test-report>,
 <mailto:test-report-request@dpdk.org?subject=unsubscribe>
List-Archive: <http://mails.dpdk.org/archives/test-report/>
List-Post: <mailto:test-report@dpdk.org>
List-Help: <mailto:test-report-request@dpdk.org?subject=help>
List-Subscribe: <https://mails.dpdk.org/listinfo/test-report>,
 <mailto:test-report-request@dpdk.org?subject=subscribe>
Errors-To: test-report-bounces@dpdk.org

Test-Label: iol-compile-amd64-testing
Test-Status: SUCCESS
http://dpdk.org/patch/145802

_Testing PASS_

Submitter: Jie Hai <haijie1@huawei.com>
Date: Saturday, October 12 2024 09:14:37 
DPDK git baseline: Repo:dpdk
  Branch: master
  CommitID:abac260cef8d7e29aea1fd15066515a9054e2899

145802 --> testing pass

Upstream job id: Generic-VM-DPDK-Compile-Meson#30212

Test environment and result as below:

+---------------------+----------------------+-------------------+--------------------+
|     Environment     | dpdk_mingw64_compile | dpdk_msvc_compile | dpdk_meson_compile |
+=====================+======================+===================+====================+
| Windows Server 2022 | PASS                 | PASS              | SKIPPED            |
+---------------------+----------------------+-------------------+--------------------+
| FreeBSD 13.4        | SKIPPED              | SKIPPED           | PASS               |
+---------------------+----------------------+-------------------+--------------------+
| FreeBSD 14.1        | SKIPPED              | SKIPPED           | PASS               |
+---------------------+----------------------+-------------------+--------------------+


Windows Server 2022
	Kernel: 10.0.20348.2031
	Compiler: clang 15.0.7, gcc 14.1.0 (MinGW), and MSVC VS 19.39.33521

FreeBSD 13.4
	Kernel: 13.4-RELEASE-p1
	Compiler: clang 18.1.6

FreeBSD 14.1
	Kernel: 14.1-RELEASE-p3
	Compiler: clang 18.1.5

To view detailed results, visit:
https://lab.dpdk.org/results/dashboard/patchsets/31449/

UNH-IOL DPDK Community Lab

To manage your email subscriptions, visit: 
https://lab.dpdk.org/results/dashboard/preferences/subscriptions/