From mboxrd@z Thu Jan  1 00:00:00 1970
Return-Path: <test-report-bounces@dpdk.org>
Received: from mails.dpdk.org (mails.dpdk.org [217.70.189.124])
	by inbox.dpdk.org (Postfix) with ESMTP id 45BC945B28
	for <public@inbox.dpdk.org>; Sun, 13 Oct 2024 09:46:26 +0200 (CEST)
Received: from mails.dpdk.org (localhost [127.0.0.1])
	by mails.dpdk.org (Postfix) with ESMTP id 4120D40273;
	Sun, 13 Oct 2024 09:46:26 +0200 (CEST)
Received: from mail-pl1-f227.google.com (mail-pl1-f227.google.com
 [209.85.214.227])
 by mails.dpdk.org (Postfix) with ESMTP id 5ED6E40151
 for <test-report@dpdk.org>; Sun, 13 Oct 2024 09:46:24 +0200 (CEST)
Received: by mail-pl1-f227.google.com with SMTP id
 d9443c01a7336-208cf673b8dso34870175ad.3
 for <test-report@dpdk.org>; Sun, 13 Oct 2024 00:46:24 -0700 (PDT)
DKIM-Signature: v=1; a=rsa-sha256; c=relaxed/relaxed;
 d=iol.unh.edu; s=unh-iol; t=1728805583; x=1729410383; darn=dpdk.org;
 h=references:in-reply-to:cc:to:from:subject:message-id:date:from:to
 :cc:subject:date:message-id:reply-to;
 bh=gA0nNLz6wWnkpXPR3HhxPE/cLNFDG8p0rG6HXdrRj9s=;
 b=PDL9DY/Wuua8bsSRrd3Wsl3juwuh9cjmYPapKzI0xmUsDrgHUt6RMyFSKLvdnsyc+Z
 RILXx0Opcxfu0Te1HWy/wTD0AxiwbfbcFKolCbZmDUOQk/1QW7sz6jqrbTeqigx2LJvm
 vCmO/59WWF8j0dIOpPC75bVygROpgxZkq37sM=
X-Google-DKIM-Signature: v=1; a=rsa-sha256; c=relaxed/relaxed;
 d=1e100.net; s=20230601; t=1728805583; x=1729410383;
 h=references:in-reply-to:cc:to:from:subject:message-id:date
 :x-gm-message-state:from:to:cc:subject:date:message-id:reply-to;
 bh=gA0nNLz6wWnkpXPR3HhxPE/cLNFDG8p0rG6HXdrRj9s=;
 b=RPGq2cG6+WnWO83mj4nENw/8Xzh9uojAft+PqCPfxZ6T5gobeYlhaSEW1mDEDeHf4J
 st+3z4Ta0Zl/j7pMFlFzyB/GZb16u2eFuX7BZxtlX6E3Y9oClJuq10W1oV9BGtmQaePw
 DsqgVMweRveDoYv7vHFOrYmGjWhjirtEp6IWUB6+na+OWJm0sgvABGeohDE+nXnID8P+
 p3wlnn5+4XycH+8z+Ekn8JTRM1tj1RCbITWeV4chOcg8j5LWKxczDzPDWejcw4T8nYwg
 Nqd+Q4tFrD+gXBKI6zbTn4VelJM6l1jAZ9u7xhVweoVvNeFJd9x7FrBQqf5OEKbdQNTo
 DTWw==
X-Gm-Message-State: AOJu0YzrWE77CWWZGW23pNEi3GV6U22XEZOXd4Om8EXUbOOcia8z7PBk
 axj3Yhdm3QY2ZJuqiaNeEqq1PxjfHt5E/kLqBxuyIG4LJZKLjlffciJZ2IkSHREYbqIGHk+6naf
 FfzBDQfzbma94Qfi+eOHaq6BW7zPdKeniVOfJQ6CWKn+TfpdaxNHjmCgE
X-Google-Smtp-Source: AGHT+IHV5MaWTdvODxsSCPMM/BAixOnA4Qq1LxwMyTKMYY1K7QsHyuDC+HY4egjm+cJ2JbvEt1lCLRnwM/b5
X-Received: by 2002:a17:902:f542:b0:20b:8bd0:7395 with SMTP id
 d9443c01a7336-20ca16c8c08mr101430455ad.46.1728805583530; 
 Sun, 13 Oct 2024 00:46:23 -0700 (PDT)
Received: from postal.iol.unh.edu (postal.iol.unh.edu.
 [2606:4100:3880:1234::84]) by smtp-relay.gmail.com with ESMTPS id
 d9443c01a7336-20c8b9ac8d5sm1704605ad.11.2024.10.13.00.46.23
 (version=TLS1_2 cipher=ECDHE-ECDSA-AES128-GCM-SHA256 bits=128/128);
 Sun, 13 Oct 2024 00:46:23 -0700 (PDT)
X-Relaying-Domain: iol.unh.edu
Date: Sun, 13 Oct 2024 00:46:23 -0700 (PDT)
Message-ID: <670b7acf.170a0220.62ed1.b2e9SMTPIN_ADDED_MISSING@mx.google.com>
Received: from [172.21.0.3] (unknown [172.18.0.240])
 by postal.iol.unh.edu (Postfix) with ESMTP id AA3226052471;
 Sun, 13 Oct 2024 03:46:22 -0400 (EDT)
Subject: |SUCCESS| pw145802 [PATCH] [v2] ethdev: verify queue ID when Tx done
From: dpdklab@iol.unh.edu
To: Test Report <test-report@dpdk.org>
Cc: dpdk-test-reports@iol.unh.edu
In-Reply-To: <20241012091437.21382-1-haijie1@huawei.com>
References: <20241012091437.21382-1-haijie1@huawei.com>
Content-Type: text/plain
X-BeenThere: test-report@dpdk.org
X-Mailman-Version: 2.1.29
Precedence: list
List-Id: automatic DPDK test reports <test-report.dpdk.org>
List-Unsubscribe: <https://mails.dpdk.org/options/test-report>,
 <mailto:test-report-request@dpdk.org?subject=unsubscribe>
List-Archive: <http://mails.dpdk.org/archives/test-report/>
List-Post: <mailto:test-report@dpdk.org>
List-Help: <mailto:test-report-request@dpdk.org?subject=help>
List-Subscribe: <https://mails.dpdk.org/listinfo/test-report>,
 <mailto:test-report-request@dpdk.org?subject=subscribe>
Errors-To: test-report-bounces@dpdk.org

Test-Label: iol-compile-arm64-testing
Test-Status: SUCCESS
http://dpdk.org/patch/145802

_Testing PASS_

Submitter: Jie Hai <haijie1@huawei.com>
Date: Saturday, October 12 2024 09:14:37 
DPDK git baseline: Repo:dpdk
  Branch: master
  CommitID:abac260cef8d7e29aea1fd15066515a9054e2899

145802 --> testing pass

Upstream job id: Generic-DPDK-Compile-Meson#314677

Test environment and result as below:

+----------------------------------------+--------------------+
|              Environment               | dpdk_meson_compile |
+========================================+====================+
| RHEL9 (ARM)                            | PASS               |
+----------------------------------------+--------------------+
| Ubuntu 20.04 ARM GCC Cross Compile     | PASS               |
+----------------------------------------+--------------------+
| Ubuntu 20.04 ARM SVE                   | PASS               |
+----------------------------------------+--------------------+
| Debian 12 with MUSDK                   | PASS               |
+----------------------------------------+--------------------+
| Fedora 38 (ARM Clang)                  | PASS               |
+----------------------------------------+--------------------+
| Fedora 39 (ARM)                        | PASS               |
+----------------------------------------+--------------------+
| Fedora 39 (ARM Clang)                  | PASS               |
+----------------------------------------+--------------------+
| Ubuntu 22.04 (ARM)                     | PASS               |
+----------------------------------------+--------------------+
| Debian 12 (arm)                        | PASS               |
+----------------------------------------+--------------------+
| Ubuntu 20.04 ARM Clang Cross Compile   | PASS               |
+----------------------------------------+--------------------+
| Ubuntu 20.04 aarch32 GCC Cross Compile | PASS               |
+----------------------------------------+--------------------+
| Fedora 37 (ARM)                        | PASS               |
+----------------------------------------+--------------------+
| Fedora 38 (ARM)                        | PASS               |
+----------------------------------------+--------------------+
| Fedora 40 (ARM Clang)                  | PASS               |
+----------------------------------------+--------------------+
| Fedora 40 (ARM)                        | PASS               |
+----------------------------------------+--------------------+
| Ubuntu 20.04 (ARM)                     | PASS               |
+----------------------------------------+--------------------+
| Ubuntu 24.04 (ARM)                     | PASS               |
+----------------------------------------+--------------------+
| CentOS Stream 9 (ARM)                  | PASS               |
+----------------------------------------+--------------------+
| Debian 11 (Buster) (ARM)               | PASS               |
+----------------------------------------+--------------------+


RHEL9 (ARM)
	Kernel: Depends on container host
	Compiler: gcc 11.4.1 20231218 (Red Hat 11.4.1-3)

Ubuntu 20.04 ARM GCC Cross Compile
	Kernel: Depends on container host
	Compiler: aarch64-linux-gnu-gcc (Ubuntu 9.4.0-1ubuntu1~20.04.2) 9.4.0

Ubuntu 20.04 ARM SVE
	Kernel: Depends on container host
	Compiler: gcc (Ubuntu 10.5.0-1ubuntu1~20.04) 10.5.0

Debian 12 with MUSDK
	Kernel: Depends on container host
	Compiler: gcc (Debian 12.2.0-14) 12.2.0

Fedora 38 (ARM Clang)
	Kernel: Depends on container host
	Compiler: clang 16.0.6 (Fedora 16.0.6-4.fc38)

Fedora 39 (ARM)
	Kernel: Depends on container host
	Compiler: gcc 13.3.1 20240522 (Red Hat 13.3.1-1)

Fedora 39 (ARM Clang)
	Kernel: Depends on container host
	Compiler: clang 17.0.6 (Fedora 17.0.6-2.fc39)

Ubuntu 22.04 (ARM)
	Kernel: Depends on container host
	Compiler: gcc (Ubuntu 11.4.0-1ubuntu1~22.04) 11.4.0

Debian 12 (arm)
	Kernel: Depends on container host
	Compiler: gcc (Debian 12.2.0-14) 12.2.0

Ubuntu 20.04 ARM Clang Cross Compile
	Kernel: Depends on container host
	Compiler: clang 10.0.0-4ubuntu1

Ubuntu 20.04 aarch32 GCC Cross Compile
	Kernel: Depends on container host
	Compiler: gcc 9.4.0

Fedora 37 (ARM)
	Kernel: Depends on container host
	Compiler: gcc 12.3.1 20230508 (Red Hat 12.3.1-1)

Fedora 38 (ARM)
	Kernel: Depends on container host
	Compiler: gcc 13.2.1 20240316 (Red Hat 13.2.1-7)

Fedora 40 (ARM Clang)
	Kernel: Depends on container host
	Compiler: clang 18.1.6 (Fedora 18.1.6-3.fc40)

Fedora 40 (ARM)
	Kernel: Depends on container host
	Compiler: gcc 14.2.1 20240801 (Red Hat 14.2.1-1)

Ubuntu 20.04 (ARM)
	Kernel: Depends on container host
	Compiler: gcc (Ubuntu 9.4.0-1ubuntu1~20.04.2) 9.4.0

Ubuntu 24.04 (ARM)
	Kernel: Depends on container host
	Compiler: gcc (Ubuntu 13.2.0-23ubuntu4) 13.2.0

CentOS Stream 9 (ARM)
	Kernel: Depends on container host
	Compiler: gcc 11.4.1 20231218 (Red Hat 11.4.1-3)

Debian 11 (Buster) (ARM)
	Kernel: Depends on container host
	Compiler: gcc (Debian 10.2.1-6) 10.2.1 20210110

To view detailed results, visit:
https://lab.dpdk.org/results/dashboard/patchsets/31449/

UNH-IOL DPDK Community Lab

To manage your email subscriptions, visit: 
https://lab.dpdk.org/results/dashboard/preferences/subscriptions/