From mboxrd@z Thu Jan  1 00:00:00 1970
Return-Path: <test-report-bounces@dpdk.org>
Received: from mails.dpdk.org (mails.dpdk.org [217.70.189.124])
	by inbox.dpdk.org (Postfix) with ESMTP id 7E02945B2A
	for <public@inbox.dpdk.org>; Sun, 13 Oct 2024 10:05:53 +0200 (CEST)
Received: from mails.dpdk.org (localhost [127.0.0.1])
	by mails.dpdk.org (Postfix) with ESMTP id 7AA9E40273;
	Sun, 13 Oct 2024 10:05:53 +0200 (CEST)
Received: from mail-pl1-f228.google.com (mail-pl1-f228.google.com
 [209.85.214.228])
 by mails.dpdk.org (Postfix) with ESMTP id D472E40151
 for <test-report@dpdk.org>; Sun, 13 Oct 2024 10:05:51 +0200 (CEST)
Received: by mail-pl1-f228.google.com with SMTP id
 d9443c01a7336-20b5affde14so19016715ad.3
 for <test-report@dpdk.org>; Sun, 13 Oct 2024 01:05:51 -0700 (PDT)
DKIM-Signature: v=1; a=rsa-sha256; c=relaxed/relaxed;
 d=iol.unh.edu; s=unh-iol; t=1728806751; x=1729411551; darn=dpdk.org;
 h=references:in-reply-to:cc:to:from:subject:message-id:date:from:to
 :cc:subject:date:message-id:reply-to;
 bh=dzGizPB2OMJnHF5mgEKjdpElOWLFrcukgBbk5kGXFWk=;
 b=YJyaPJnGAAgNaXpZToDdfrqVgemjls9pLulXoJKIyLoF/KBhj4liKecPp2DjvabK8v
 UPB/Rb4H/sjycRIwJSGTDA0IWdd+6ZGJNwtm5m5YK0RpVC1NpHIba18/bloewT1adtX3
 3MjaodOGKlZzdT8TLx/5U5B/kP2LFJd2Zk+XM=
X-Google-DKIM-Signature: v=1; a=rsa-sha256; c=relaxed/relaxed;
 d=1e100.net; s=20230601; t=1728806751; x=1729411551;
 h=references:in-reply-to:cc:to:from:subject:message-id:date
 :x-gm-message-state:from:to:cc:subject:date:message-id:reply-to;
 bh=dzGizPB2OMJnHF5mgEKjdpElOWLFrcukgBbk5kGXFWk=;
 b=WC3fPy7PdWpVe8lXqn78ySwbQFwojIyjx/+kwc+ukTEmeSjpSs1wOXFZcoolU/AhEk
 T6IJiSafrtir5cvDFI2LFzqznYvGoVpZfqGE60OIM27+bndz+/+IRdIM7RsgcjVhkD6K
 fwNbsJmCc5nkWVnWFO/6EnC95tFSRSRpefKLfe3649mH9Y0WJzd8ef3U7YwTN6RKHMJ4
 zzFj7px+P98yOolQPQaQrsWdR7xYPS4+kEssKSClxHQ+KzBKPcCsfDG/+oIwODbuqvI+
 s5vK7SqRFdmXlTr16ZvRKgAcF/YBn62axN1D5fmWiSLlb0wBN5GdGJqiS94bU210NRoo
 iHWQ==
X-Gm-Message-State: AOJu0YzhgRLwCwoD582USee52OEGf1O19iGPl++Xv3jP0pBhcFuVU6it
 YvuXCVrhCh+JYhKtAcomSSAxBWv9YgUvNBpmQdQkE20m0QEMqCMZ1C1YNT1nF+NzrIZSI3u3aw8
 KeMxC0MzQFNn47L/Ed95+SI6bA+ewxcXcWgfWWOtgt58m72KsWP6K8Q+o
X-Google-Smtp-Source: AGHT+IHsng7cjfUdj1Hhs6JZitt3HS5ioqtO6kJG7KPQBo3hWiTl75eSSW++s7rR/hnd26BPnQeyCIU8UZiq
X-Received: by 2002:a17:902:d481:b0:20c:a387:7dc9 with SMTP id
 d9443c01a7336-20ca3877fd7mr102245805ad.29.1728806751021; 
 Sun, 13 Oct 2024 01:05:51 -0700 (PDT)
Received: from postal.iol.unh.edu (postal.iol.unh.edu.
 [2606:4100:3880:1234::84]) by smtp-relay.gmail.com with ESMTPS id
 41be03b00d2f7-7ea730cc2d6sm103803a12.19.2024.10.13.01.05.50
 (version=TLS1_2 cipher=ECDHE-ECDSA-AES128-GCM-SHA256 bits=128/128);
 Sun, 13 Oct 2024 01:05:51 -0700 (PDT)
X-Relaying-Domain: iol.unh.edu
Date: Sun, 13 Oct 2024 01:05:51 -0700 (PDT)
Message-ID: <670b7f5f.630a0220.1c32e0.7513SMTPIN_ADDED_MISSING@mx.google.com>
Received: from [172.21.0.3] (unknown [172.18.0.240])
 by postal.iol.unh.edu (Postfix) with ESMTP id 29F5D6052471;
 Sun, 13 Oct 2024 04:05:50 -0400 (EDT)
Subject: |SUCCESS| pw145800 [PATCH] net/mlx5: fix potential memory leak in me
From: dpdklab@iol.unh.edu
To: Test Report <test-report@dpdk.org>
Cc: dpdk-test-reports@iol.unh.edu
In-Reply-To: <20241012072641.3396372-1-shunh@nvidia.com>
References: <20241012072641.3396372-1-shunh@nvidia.com>
Content-Type: text/plain
X-BeenThere: test-report@dpdk.org
X-Mailman-Version: 2.1.29
Precedence: list
List-Id: automatic DPDK test reports <test-report.dpdk.org>
List-Unsubscribe: <https://mails.dpdk.org/options/test-report>,
 <mailto:test-report-request@dpdk.org?subject=unsubscribe>
List-Archive: <http://mails.dpdk.org/archives/test-report/>
List-Post: <mailto:test-report@dpdk.org>
List-Help: <mailto:test-report-request@dpdk.org?subject=help>
List-Subscribe: <https://mails.dpdk.org/listinfo/test-report>,
 <mailto:test-report-request@dpdk.org?subject=subscribe>
Errors-To: test-report-bounces@dpdk.org

Test-Label: iol-compile-amd64-testing
Test-Status: SUCCESS
http://dpdk.org/patch/145800

_Testing PASS_

Submitter: Shun Hao <shunh@nvidia.com>
Date: Saturday, October 12 2024 07:26:40 
DPDK git baseline: Repo:dpdk
  Branch: master
  CommitID:92f33d7016a5dfd0fc8ee95607db9671af7256a7

145800 --> testing pass

Upstream job id: Windows-Compile-DPDK-Native#23004

Test environment and result as below:

+---------------------+--------------------+-------------------+----------------------+
|     Environment     | dpdk_meson_compile | dpdk_msvc_compile | dpdk_mingw64_compile |
+=====================+====================+===================+======================+
| FreeBSD 13.4        | PASS               | SKIPPED           | SKIPPED              |
+---------------------+--------------------+-------------------+----------------------+
| FreeBSD 14.1        | PASS               | SKIPPED           | SKIPPED              |
+---------------------+--------------------+-------------------+----------------------+
| Windows Server 2022 | SKIPPED            | PASS              | PASS                 |
+---------------------+--------------------+-------------------+----------------------+


FreeBSD 13.4
	Kernel: 13.4-RELEASE-p1
	Compiler: clang 18.1.6

FreeBSD 14.1
	Kernel: 14.1-RELEASE-p3
	Compiler: clang 18.1.5

Windows Server 2022
	Kernel: 10.0.20348.2031
	Compiler: clang 15.0.7, gcc 14.1.0 (MinGW), and MSVC VS 19.39.33521

To view detailed results, visit:
https://lab.dpdk.org/results/dashboard/patchsets/31447/

UNH-IOL DPDK Community Lab

To manage your email subscriptions, visit: 
https://lab.dpdk.org/results/dashboard/preferences/subscriptions/