From mboxrd@z Thu Jan  1 00:00:00 1970
Return-Path: <test-report-bounces@dpdk.org>
Received: from mails.dpdk.org (mails.dpdk.org [217.70.189.124])
	by inbox.dpdk.org (Postfix) with ESMTP id 5BF7745B2C
	for <public@inbox.dpdk.org>; Mon, 14 Oct 2024 00:39:31 +0200 (CEST)
Received: from mails.dpdk.org (localhost [127.0.0.1])
	by mails.dpdk.org (Postfix) with ESMTP id 57D524027F;
	Mon, 14 Oct 2024 00:39:31 +0200 (CEST)
Received: from mail-oa1-f98.google.com (mail-oa1-f98.google.com
 [209.85.160.98]) by mails.dpdk.org (Postfix) with ESMTP id E47F540274
 for <test-report@dpdk.org>; Mon, 14 Oct 2024 00:39:29 +0200 (CEST)
Received: by mail-oa1-f98.google.com with SMTP id
 586e51a60fabf-28896d9d9deso565444fac.2
 for <test-report@dpdk.org>; Sun, 13 Oct 2024 15:39:29 -0700 (PDT)
DKIM-Signature: v=1; a=rsa-sha256; c=relaxed/relaxed;
 d=iol.unh.edu; s=unh-iol; t=1728859169; x=1729463969; darn=dpdk.org;
 h=references:in-reply-to:cc:to:from:subject:message-id:date:from:to
 :cc:subject:date:message-id:reply-to;
 bh=QtmNgI2voQQ/ASuB2Hodeq8Cld4XOCmSA5Tl77LSAm0=;
 b=fY/7bgTM3pbXBqqpyLVVE3nZ9IicVJsVdN1auaVGYB30+C3cf9F5glNoe31+P7rGPE
 e/gc/gchn8ZAa4NoQgQTJkQqQCdQYjql5wcyB4petUj3HqQNFDEaYn4I2KbMHTvpPAUT
 GIKFrrcyfLQ85p8zZC+FSgHyrWWcCx97krKnE=
X-Google-DKIM-Signature: v=1; a=rsa-sha256; c=relaxed/relaxed;
 d=1e100.net; s=20230601; t=1728859169; x=1729463969;
 h=references:in-reply-to:cc:to:from:subject:message-id:date
 :x-gm-message-state:from:to:cc:subject:date:message-id:reply-to;
 bh=QtmNgI2voQQ/ASuB2Hodeq8Cld4XOCmSA5Tl77LSAm0=;
 b=XeY1AmGK+L0StaU1HxCwDYVMTiSKei+tjHvHX5yZEjBvPjiccoeDvprgd92ewrcXC2
 OEYWpEO7QJOMPtz0ZHEHq316a7BMOmtf6Ixu4anX4127RMjVRWb5C+89Zq9nXoo7pJ+N
 6LbOTDwXhstl23ZnNzXPlxQHwsdHsyX7yoQwQtVNoL04ZqPxAiOEYccsPtTf4bp7ksuN
 rsOUSUDWqSY+bz1ZNumm87AiZP21ys89UgHcXxxkXe9w3T7j+0Hp/7BKGvA14Qe6b4A2
 Vwgn5HqjiFYo7BW6DTRNtuUvHJTS5SMCzeqKU5TBSaVqze1Z+sw/mig5jU4HCRot4+es
 WoVw==
X-Gm-Message-State: AOJu0YydHJeBwjVtQhgP+7tCINGd4zW9Hg6rQ/wZDGLJOobb8BjsC1se
 uW1N2kkqAfx6pxyrSOzDXUTSFBeQ45V55jmNT+t6Qxoe1zxf4uytsHtAVzaLmhf9XOpbRiX5XDj
 XiZg9DFb94CepRAa2au00TA0eXuuEfCEaJoQYGPr6fmtjZUqefP5v1vEp
X-Google-Smtp-Source: AGHT+IEheessddJpRvjrerDm1bjuecNaVBTy0VXIQg9Q7FjjyF4RGYb6M9HORYObThBA9vO/0i2iAvaZLTZJ
X-Received: by 2002:a05:6871:88f:b0:286:f2cc:7a5a with SMTP id
 586e51a60fabf-2886df8f428mr5208307fac.29.1728859169010; 
 Sun, 13 Oct 2024 15:39:29 -0700 (PDT)
Received: from postal.iol.unh.edu (postal.iol.unh.edu.
 [2606:4100:3880:1234::84]) by smtp-relay.gmail.com with ESMTPS id
 586e51a60fabf-28882e13fc5sm247915fac.31.2024.10.13.15.39.28
 (version=TLS1_2 cipher=ECDHE-ECDSA-AES128-GCM-SHA256 bits=128/128);
 Sun, 13 Oct 2024 15:39:28 -0700 (PDT)
X-Relaying-Domain: iol.unh.edu
Date: Sun, 13 Oct 2024 15:39:28 -0700 (PDT)
Message-ID: <670c4c20.050a0220.3c24b8.1387SMTPIN_ADDED_MISSING@mx.google.com>
Received: from [172.21.0.3] (unknown [172.18.0.240])
 by postal.iol.unh.edu (Postfix) with ESMTP id 99A136052471;
 Sun, 13 Oct 2024 18:39:28 -0400 (EDT)
Subject: |SUCCESS| pw145807 [PATCH] net: improve vlan header type alignment
From: dpdklab@iol.unh.edu
To: Test Report <test-report@dpdk.org>
Cc: dpdk-test-reports@iol.unh.edu
In-Reply-To: <20241013083554.97489-1-mb@smartsharesystems.com>
References: <20241013083554.97489-1-mb@smartsharesystems.com>
Content-Type: text/plain
X-BeenThere: test-report@dpdk.org
X-Mailman-Version: 2.1.29
Precedence: list
List-Id: automatic DPDK test reports <test-report.dpdk.org>
List-Unsubscribe: <https://mails.dpdk.org/options/test-report>,
 <mailto:test-report-request@dpdk.org?subject=unsubscribe>
List-Archive: <http://mails.dpdk.org/archives/test-report/>
List-Post: <mailto:test-report@dpdk.org>
List-Help: <mailto:test-report-request@dpdk.org?subject=help>
List-Subscribe: <https://mails.dpdk.org/listinfo/test-report>,
 <mailto:test-report-request@dpdk.org?subject=subscribe>
Errors-To: test-report-bounces@dpdk.org

Test-Label: iol-compile-amd64-testing
Test-Status: SUCCESS
http://dpdk.org/patch/145807

_Testing PASS_

Submitter: Morten Brorup <mb@smartsharesystems.com>
Date: Sunday, October 13 2024 08:35:54 
DPDK git baseline: Repo:dpdk
  Branch: master
  CommitID:98613d32e3dac58d685f4f236cf8cc9733abaaf3

145807 --> testing pass

Upstream job id: Generic-DPDK-Compile-Meson#315051

Test environment and result as below:

+---------------------+--------------------+----------------------+-----------------------+-------------------+------------------+-------------------+
|     Environment     | dpdk_meson_compile | dpdk_mingw64_compile | dpdk_win_llvm_compile | dpdk_msvc_compile | dpdk_compile_ovs | dpdk_compile_spdk |
+=====================+====================+======================+=======================+===================+==================+===================+
| FreeBSD 13.4        | PASS               | SKIPPED              | SKIPPED               | SKIPPED           | SKIPPED          | SKIPPED           |
+---------------------+--------------------+----------------------+-----------------------+-------------------+------------------+-------------------+
| FreeBSD 14.1        | PASS               | SKIPPED              | SKIPPED               | SKIPPED           | SKIPPED          | SKIPPED           |
+---------------------+--------------------+----------------------+-----------------------+-------------------+------------------+-------------------+
| CentOS Stream 9     | PASS               | SKIPPED              | SKIPPED               | SKIPPED           | PASS             | PASS              |
+---------------------+--------------------+----------------------+-----------------------+-------------------+------------------+-------------------+
| Debian Bullseye     | PASS               | SKIPPED              | SKIPPED               | SKIPPED           | PASS             | PASS              |
+---------------------+--------------------+----------------------+-----------------------+-------------------+------------------+-------------------+
| Debian 12           | PASS               | SKIPPED              | SKIPPED               | SKIPPED           | PASS             | PASS              |
+---------------------+--------------------+----------------------+-----------------------+-------------------+------------------+-------------------+
| Fedora 38 (Clang)   | PASS               | SKIPPED              | SKIPPED               | SKIPPED           | PASS             | PASS              |
+---------------------+--------------------+----------------------+-----------------------+-------------------+------------------+-------------------+
| Fedora 39           | PASS               | SKIPPED              | SKIPPED               | SKIPPED           | PASS             | PASS              |
+---------------------+--------------------+----------------------+-----------------------+-------------------+------------------+-------------------+
| Fedora 40           | PASS               | SKIPPED              | SKIPPED               | SKIPPED           | PASS             | PASS              |
+---------------------+--------------------+----------------------+-----------------------+-------------------+------------------+-------------------+
| openSUSE Leap 15    | PASS               | SKIPPED              | SKIPPED               | SKIPPED           | PASS             | SKIPPED           |
+---------------------+--------------------+----------------------+-----------------------+-------------------+------------------+-------------------+
| Ubuntu 20.04        | PASS               | SKIPPED              | SKIPPED               | SKIPPED           | PASS             | SKIPPED           |
+---------------------+--------------------+----------------------+-----------------------+-------------------+------------------+-------------------+
| Ubuntu 22.04        | PASS               | SKIPPED              | SKIPPED               | SKIPPED           | PASS             | PASS              |
+---------------------+--------------------+----------------------+-----------------------+-------------------+------------------+-------------------+
| Ubuntu 24.04        | PASS               | SKIPPED              | SKIPPED               | SKIPPED           | PASS             | PASS              |
+---------------------+--------------------+----------------------+-----------------------+-------------------+------------------+-------------------+
| Alpine              | PASS               | SKIPPED              | SKIPPED               | SKIPPED           | PASS             | SKIPPED           |
+---------------------+--------------------+----------------------+-----------------------+-------------------+------------------+-------------------+
| Windows Server 2022 | SKIPPED            | PASS                 | PASS                  | PASS              | SKIPPED          | SKIPPED           |
+---------------------+--------------------+----------------------+-----------------------+-------------------+------------------+-------------------+


FreeBSD 13.4
	Kernel: 13.4-RELEASE-p1
	Compiler: clang 18.1.6

FreeBSD 14.1
	Kernel: 14.1-RELEASE-p3
	Compiler: clang 18.1.5

CentOS Stream 9
	Kernel: Depends on container host
	Compiler: gcc 11.4.1 20231218 (Red Hat 11.4.1-3)

Debian Bullseye
	Kernel: Depends on container host
	Compiler: gcc (Debian 10.2.1-6) 10.2.1 20210110

Debian 12
	Kernel: Depends on container host
	Compiler: gcc (Debian 12.2.0-14) 12.2.0

Fedora 38 (Clang)
	Kernel: Depends on container host
	Compiler: clang 16.0.6 (Fedora 16.0.6-4.fc38)

Fedora 39
	Kernel: Depends on container host
	Compiler: gcc 13.3.1 20240522 (Red Hat 13.3.1-1)

Fedora 40
	Kernel: Depends on container host
	Compiler: gcc 14.2.1 20240801 (Red Hat 14.2.1-1)

openSUSE Leap 15
	Kernel: Depends on container host
	Compiler: gcc (SUSE Linux) 7.5.0

Ubuntu 20.04
	Kernel: Depends on container host
	Compiler: gcc (Ubuntu 9.4.0-1ubuntu1~20.04.2) 9.4.0

Ubuntu 22.04
	Kernel: Depends on container host
	Compiler: gcc (Ubuntu 11.4.0-1ubuntu1~22.04) 11.4.0

Ubuntu 24.04
	Kernel: Depends on container host
	Compiler: gcc (Ubuntu 13.2.0-23ubuntu4) 13.2.0

Alpine
	Kernel: Depends on container host
	Compiler: gcc (Alpine 13.2.1_git20240309) 13.2.1 20240309

Windows Server 2022
	Kernel: 10.0.20348.2031
	Compiler: clang 15.0.7, gcc 14.1.0 (MinGW), and MSVC VS 19.39.33521

To view detailed results, visit:
https://lab.dpdk.org/results/dashboard/patchsets/31453/

UNH-IOL DPDK Community Lab

To manage your email subscriptions, visit: 
https://lab.dpdk.org/results/dashboard/preferences/subscriptions/