From mboxrd@z Thu Jan  1 00:00:00 1970
Return-Path: <test-report-bounces@dpdk.org>
Received: from mails.dpdk.org (mails.dpdk.org [217.70.189.124])
	by inbox.dpdk.org (Postfix) with ESMTP id 3BE6A45B31
	for <public@inbox.dpdk.org>; Mon, 14 Oct 2024 02:35:36 +0200 (CEST)
Received: from mails.dpdk.org (localhost [127.0.0.1])
	by mails.dpdk.org (Postfix) with ESMTP id 38A164027F;
	Mon, 14 Oct 2024 02:35:36 +0200 (CEST)
Received: from mail-pg1-f225.google.com (mail-pg1-f225.google.com
 [209.85.215.225])
 by mails.dpdk.org (Postfix) with ESMTP id 62C5D40274
 for <test-report@dpdk.org>; Mon, 14 Oct 2024 02:35:35 +0200 (CEST)
Received: by mail-pg1-f225.google.com with SMTP id
 41be03b00d2f7-7db637d1e4eso2511801a12.2
 for <test-report@dpdk.org>; Sun, 13 Oct 2024 17:35:35 -0700 (PDT)
DKIM-Signature: v=1; a=rsa-sha256; c=relaxed/relaxed;
 d=iol.unh.edu; s=unh-iol; t=1728866134; x=1729470934; darn=dpdk.org;
 h=references:in-reply-to:cc:to:from:subject:message-id:date:from:to
 :cc:subject:date:message-id:reply-to;
 bh=c+FUsFNt48U//Aav8oBfja8gAtQ0QImFX3/yxU60ju4=;
 b=fOI6CcIq9EdoyLofvy9wHn9SMk6OUju529mvcWdbqxerGzKNqDQrrt3y0FAGoygoBE
 90tMREBJIdy5k2AWUb2F7hHulAdonLiOfJ/YJ93y2wogrMgzai0hbm6gYdJ4T0sKz591
 GSQHfsozNHj2HWQANNi3K0qcx3YihqUD9NMZY=
X-Google-DKIM-Signature: v=1; a=rsa-sha256; c=relaxed/relaxed;
 d=1e100.net; s=20230601; t=1728866134; x=1729470934;
 h=references:in-reply-to:cc:to:from:subject:message-id:date
 :x-gm-message-state:from:to:cc:subject:date:message-id:reply-to;
 bh=c+FUsFNt48U//Aav8oBfja8gAtQ0QImFX3/yxU60ju4=;
 b=sBCTbR/+dZ3sF+u3WRaSeyA2S7hqWtR/kalf4ppeopE30jl/Fg29AFShCqeo/u8BNn
 sOrtWPbr2GzFNUT+FyZt/uZzTzVpYdtEe7pmtml9vCywVabxx6Al+h2hvCrtJNg4uPXt
 ilMNByoqLXNhg823fSivn3eNZgyn2HYF0JYUG04cXVVnnHa2yQccK261yu1w4k1e3glK
 HwNgBbVIuS6SGUKMLlX6tLz9ecdq5n8E3lve6eRMGtHMr8RMXrnfcpSVVbqMF/d6BPSR
 ZAfhJo3RUwJqLO/N+mrkOQDtly3Cbh7DGivhcgSMmtOMCiSzsSF99mEpJJjPZcMSOn95
 Fu6Q==
X-Gm-Message-State: AOJu0Yx7sptnl2NdDgUM1x7ntq8Agmw+dvBdpylgxP7+s3ZxMNOlzhvV
 3KI9jU4JyprnjQr7OJfcFZvAJVQxzyNMowkMuZRlU87YCM+R5KNlKsNU5KWAi22P0QLIWD++jvc
 rvSMcS7jpasBa3vwACVUfmisz+EmTF6COd7Ln71sZ
X-Google-Smtp-Source: AGHT+IEEISdgAdj7gojKvSuKRPvuqvyFxievGGVVwjNoigGoVeC0QKP7WrGS2ZXWUc1RKJEhO6ZU4BxY3BUi
X-Received: by 2002:a05:6a21:1789:b0:1c0:ef24:4125 with SMTP id
 adf61e73a8af0-1d8bcf46bdemr16929044637.26.1728866134438; 
 Sun, 13 Oct 2024 17:35:34 -0700 (PDT)
Received: from postal.iol.unh.edu (postal.iol.unh.edu. [132.177.123.84])
 by smtp-relay.gmail.com with ESMTPS id
 41be03b00d2f7-7ea6ecf7f12sm192783a12.14.2024.10.13.17.35.34
 (version=TLS1_2 cipher=ECDHE-ECDSA-AES128-GCM-SHA256 bits=128/128);
 Sun, 13 Oct 2024 17:35:34 -0700 (PDT)
X-Relaying-Domain: iol.unh.edu
Date: Sun, 13 Oct 2024 17:35:34 -0700 (PDT)
Message-ID: <670c6756.630a0220.1bb754.dc28SMTPIN_ADDED_MISSING@mx.google.com>
Received: from [172.17.0.3] (unknown [172.18.0.217])
 by postal.iol.unh.edu (Postfix) with ESMTP id A9E026052471;
 Sun, 13 Oct 2024 20:35:33 -0400 (EDT)
Subject: |SUCCESS| pw145764 [PATCH] [RFC,v2] net: 2-byte align packed headers
From: dpdklab@iol.unh.edu
To: Test Report <test-report@dpdk.org>
Cc: dpdk-test-reports@iol.unh.edu
In-Reply-To: <20241011160653.88028-1-mb@smartsharesystems.com>
References: <20241011160653.88028-1-mb@smartsharesystems.com>
Content-Type: text/plain
X-BeenThere: test-report@dpdk.org
X-Mailman-Version: 2.1.29
Precedence: list
List-Id: automatic DPDK test reports <test-report.dpdk.org>
List-Unsubscribe: <https://mails.dpdk.org/options/test-report>,
 <mailto:test-report-request@dpdk.org?subject=unsubscribe>
List-Archive: <http://mails.dpdk.org/archives/test-report/>
List-Post: <mailto:test-report@dpdk.org>
List-Help: <mailto:test-report-request@dpdk.org?subject=help>
List-Subscribe: <https://mails.dpdk.org/listinfo/test-report>,
 <mailto:test-report-request@dpdk.org?subject=subscribe>
Errors-To: test-report-bounces@dpdk.org

Test-Label: iol-compile-amd64-testing
Test-Status: SUCCESS
http://dpdk.org/patch/145764

_Testing PASS_

Submitter: Morten Brorup <mb@smartsharesystems.com>
Date: Friday, October 11 2024 16:06:53 
DPDK git baseline: Repo:dpdk
  Branch: master
  CommitID:98613d32e3dac58d685f4f236cf8cc9733abaaf3

145764 --> testing pass

Upstream job id: Windows-Compile-DPDK-Native#23026

Test environment and result as below:

+---------------------+--------------------+-----------------------+----------------------+
|     Environment     | dpdk_meson_compile | dpdk_win_llvm_compile | dpdk_mingw64_compile |
+=====================+====================+=======================+======================+
| FreeBSD 13.4        | PASS               | SKIPPED               | SKIPPED              |
+---------------------+--------------------+-----------------------+----------------------+
| FreeBSD 14.1        | PASS               | SKIPPED               | SKIPPED              |
+---------------------+--------------------+-----------------------+----------------------+
| Windows Server 2022 | SKIPPED            | PASS                  | PASS                 |
+---------------------+--------------------+-----------------------+----------------------+


FreeBSD 13.4
	Kernel: 13.4-RELEASE-p1
	Compiler: clang 18.1.6

FreeBSD 14.1
	Kernel: 14.1-RELEASE-p3
	Compiler: clang 18.1.5

Windows Server 2022
	Kernel: 10.0.20348.2031
	Compiler: clang 15.0.7, gcc 14.1.0 (MinGW), and MSVC VS 19.39.33521

To view detailed results, visit:
https://lab.dpdk.org/results/dashboard/patchsets/31438/

UNH-IOL DPDK Community Lab

To manage your email subscriptions, visit: 
https://lab.dpdk.org/results/dashboard/preferences/subscriptions/