From mboxrd@z Thu Jan  1 00:00:00 1970
Return-Path: <test-report-bounces@dpdk.org>
Received: from mails.dpdk.org (mails.dpdk.org [217.70.189.124])
	by inbox.dpdk.org (Postfix) with ESMTP id BB4E745AF8
	for <public@inbox.dpdk.org>; Tue, 15 Oct 2024 02:44:33 +0200 (CEST)
Received: from mails.dpdk.org (localhost [127.0.0.1])
	by mails.dpdk.org (Postfix) with ESMTP id 95C9940270;
	Tue, 15 Oct 2024 02:44:33 +0200 (CEST)
Received: from mail-io1-f99.google.com (mail-io1-f99.google.com
 [209.85.166.99]) by mails.dpdk.org (Postfix) with ESMTP id CDB804026C
 for <test-report@dpdk.org>; Tue, 15 Oct 2024 02:44:31 +0200 (CEST)
Received: by mail-io1-f99.google.com with SMTP id
 ca18e2360f4ac-835496c8d6fso283608339f.0
 for <test-report@dpdk.org>; Mon, 14 Oct 2024 17:44:31 -0700 (PDT)
DKIM-Signature: v=1; a=rsa-sha256; c=relaxed/relaxed;
 d=iol.unh.edu; s=unh-iol; t=1728953071; x=1729557871; darn=dpdk.org;
 h=references:in-reply-to:cc:to:from:subject:message-id:date:from:to
 :cc:subject:date:message-id:reply-to;
 bh=O49lY4WlJtBjNVA+XZT57qGoWDqnzXBfTsHZ5Ne9ONU=;
 b=GSKBafETNFJoE7Clt8Ywn7r0GyuyQW1ILX3c2N7/Huw1J0Wt8oM9mU3Y5hoJr7heVn
 qPZ11n8P1OwkjQzdYhEZBnmOS3+gP9/TpD93HE+p8qqhdE1gVPRrZ3ZjFjt7VbZlbgG3
 3We4MyCwYeeZfT+wgkfCWv/S5c/XYYGLvH1GM=
X-Google-DKIM-Signature: v=1; a=rsa-sha256; c=relaxed/relaxed;
 d=1e100.net; s=20230601; t=1728953071; x=1729557871;
 h=references:in-reply-to:cc:to:from:subject:message-id:date
 :x-gm-message-state:from:to:cc:subject:date:message-id:reply-to;
 bh=O49lY4WlJtBjNVA+XZT57qGoWDqnzXBfTsHZ5Ne9ONU=;
 b=i5llcVdyfvmFXWxmogjmZ49//chnQqx9piMIQWe+vdtywtOgeUrLMakQgYW2TG4mH2
 cfP30m5IS69Xz+yvoxrmDJOUEgjhJMWKv0Vax6BsAW3qXSSucocwOTrc2QXp4QCdruJu
 oNjhNci3AZArwgsg9sj3MjgGLLyVUPEk7GqD1Sw3W9lYl9HghfXBxK+PBFr5ublc3XuP
 us+Sa25zdygF8CDvcz2Z3DCzOKsCP8GMCB282am9/qus1oTUYf5q/1dngnD0UEwCbBSA
 kiYzD+gqgBVbIoK0Yv50v9w7SUXAe7SAZGZaZGdquRMIduOgwGh32iStP1jDBJoX+CIR
 dBVg==
X-Gm-Message-State: AOJu0YyeEwXV++/DbOPOJtclpQdNFL/EgNZhN2J/tyf2Yt7RoiicPnUs
 3C+EWTGzXBDrD9lql06d1ntcilbyUbV9Rhrmy9Ao1OMzlEmpySeV0oJlCYdxCysI8SRge8XczKF
 J2rFagznlVMMCOGZKgbWEG4KWeMlh3daqHa7MjhcC
X-Google-Smtp-Source: AGHT+IHQ9/OGPQQG0OTIHPPCSYvW2EH/iN6yXPnGZqP9KCCs+2UwORaUUzFpaWtUpellbGrhJLyjWq66uwjf
X-Received: by 2002:a05:6e02:1aaa:b0:3a0:ae35:f2eb with SMTP id
 e9e14a558f8ab-3a3bcdfdf39mr72645325ab.19.1728953071038; 
 Mon, 14 Oct 2024 17:44:31 -0700 (PDT)
Received: from postal.iol.unh.edu (postal.iol.unh.edu. [132.177.123.84])
 by smtp-relay.gmail.com with ESMTPS id
 e9e14a558f8ab-3a3d714c241sm84525ab.26.2024.10.14.17.44.30
 (version=TLS1_2 cipher=ECDHE-ECDSA-AES128-GCM-SHA256 bits=128/128);
 Mon, 14 Oct 2024 17:44:31 -0700 (PDT)
X-Relaying-Domain: iol.unh.edu
Date: Mon, 14 Oct 2024 17:44:31 -0700 (PDT)
Message-ID: <670dbaef.050a0220.2a00b9.08f0SMTPIN_ADDED_MISSING@mx.google.com>
Received: from [172.21.0.3] (unknown [172.18.0.240])
 by postal.iol.unh.edu (Postfix) with ESMTP id 866C06052471;
 Mon, 14 Oct 2024 20:44:30 -0400 (EDT)
Subject: |SUCCESS| pw145829-145843 [PATCH] [v6,15/15] bus/dpaa: add port bmi 
From: dpdklab@iol.unh.edu
To: Test Report <test-report@dpdk.org>
Cc: dpdk-test-reports@iol.unh.edu
In-Reply-To: <20241014093639.553467-16-g.singh@nxp.com>
References: <20241014093639.553467-16-g.singh@nxp.com>
Content-Type: text/plain
X-BeenThere: test-report@dpdk.org
X-Mailman-Version: 2.1.29
Precedence: list
List-Id: automatic DPDK test reports <test-report.dpdk.org>
List-Unsubscribe: <https://mails.dpdk.org/options/test-report>,
 <mailto:test-report-request@dpdk.org?subject=unsubscribe>
List-Archive: <http://mails.dpdk.org/archives/test-report/>
List-Post: <mailto:test-report@dpdk.org>
List-Help: <mailto:test-report-request@dpdk.org?subject=help>
List-Subscribe: <https://mails.dpdk.org/listinfo/test-report>,
 <mailto:test-report-request@dpdk.org?subject=subscribe>
Errors-To: test-report-bounces@dpdk.org

Test-Label: iol-compile-arm64-testing
Test-Status: SUCCESS
http://dpdk.org/patch/145843

_Testing PASS_

Submitter: Gagandeep Singh <g.singh@nxp.com>
Date: Monday, October 14 2024 09:36:39 
DPDK git baseline: Repo:dpdk
  Branch: master
  CommitID:3423756cf2e33cb222c2f82361c11f5d83a48ba3

145829-145843 --> testing pass

Upstream job id: Generic-DPDK-Compile-Meson#315726

Test environment and result as below:

+----------------------------------------+--------------------+
|              Environment               | dpdk_meson_compile |
+========================================+====================+
| Ubuntu 20.04 ARM GCC Cross Compile     | PASS               |
+----------------------------------------+--------------------+
| Ubuntu 20.04 ARM SVE                   | PASS               |
+----------------------------------------+--------------------+
| Debian 12 with MUSDK                   | PASS               |
+----------------------------------------+--------------------+
| Fedora 38 (ARM)                        | PASS               |
+----------------------------------------+--------------------+
| Fedora 38 (ARM Clang)                  | PASS               |
+----------------------------------------+--------------------+
| Fedora 39 (ARM)                        | PASS               |
+----------------------------------------+--------------------+
| Fedora 39 (ARM Clang)                  | PASS               |
+----------------------------------------+--------------------+
| Fedora 40 (ARM)                        | PASS               |
+----------------------------------------+--------------------+
| Fedora 40 (ARM Clang)                  | PASS               |
+----------------------------------------+--------------------+
| Ubuntu 20.04 (ARM)                     | PASS               |
+----------------------------------------+--------------------+
| Ubuntu 24.04 (ARM)                     | PASS               |
+----------------------------------------+--------------------+
| CentOS Stream 9 (ARM)                  | PASS               |
+----------------------------------------+--------------------+
| Debian 12 (arm)                        | PASS               |
+----------------------------------------+--------------------+
| Ubuntu 20.04 ARM Clang Cross Compile   | PASS               |
+----------------------------------------+--------------------+
| Ubuntu 20.04 aarch32 GCC Cross Compile | PASS               |
+----------------------------------------+--------------------+


Ubuntu 20.04 ARM GCC Cross Compile
	Kernel: Depends on container host
	Compiler: aarch64-linux-gnu-gcc (Ubuntu 9.4.0-1ubuntu1~20.04.2) 9.4.0

Ubuntu 20.04 ARM SVE
	Kernel: Depends on container host
	Compiler: gcc (Ubuntu 10.5.0-1ubuntu1~20.04) 10.5.0

Debian 12 with MUSDK
	Kernel: Depends on container host
	Compiler: gcc (Debian 12.2.0-14) 12.2.0

Fedora 38 (ARM)
	Kernel: Depends on container host
	Compiler: gcc 13.2.1 20240316 (Red Hat 13.2.1-7)

Fedora 38 (ARM Clang)
	Kernel: Depends on container host
	Compiler: clang 16.0.6 (Fedora 16.0.6-4.fc38)

Fedora 39 (ARM)
	Kernel: Depends on container host
	Compiler: gcc 13.3.1 20240522 (Red Hat 13.3.1-1)

Fedora 39 (ARM Clang)
	Kernel: Depends on container host
	Compiler: clang 17.0.6 (Fedora 17.0.6-2.fc39)

Fedora 40 (ARM)
	Kernel: Depends on container host
	Compiler: gcc 14.2.1 20240801 (Red Hat 14.2.1-1)

Fedora 40 (ARM Clang)
	Kernel: Depends on container host
	Compiler: clang 18.1.6 (Fedora 18.1.6-3.fc40)

Ubuntu 20.04 (ARM)
	Kernel: Depends on container host
	Compiler: gcc (Ubuntu 9.4.0-1ubuntu1~20.04.2) 9.4.0

Ubuntu 24.04 (ARM)
	Kernel: Depends on container host
	Compiler: gcc (Ubuntu 13.2.0-23ubuntu4) 13.2.0

CentOS Stream 9 (ARM)
	Kernel: Depends on container host
	Compiler: gcc 11.4.1 20231218 (Red Hat 11.4.1-3)

Debian 12 (arm)
	Kernel: Depends on container host
	Compiler: gcc (Debian 12.2.0-14) 12.2.0

Ubuntu 20.04 ARM Clang Cross Compile
	Kernel: Depends on container host
	Compiler: clang 10.0.0-4ubuntu1

Ubuntu 20.04 aarch32 GCC Cross Compile
	Kernel: Depends on container host
	Compiler: gcc 9.4.0

To view detailed results, visit:
https://lab.dpdk.org/results/dashboard/patchsets/31463/

UNH-IOL DPDK Community Lab

To manage your email subscriptions, visit: 
https://lab.dpdk.org/results/dashboard/preferences/subscriptions/