From mboxrd@z Thu Jan  1 00:00:00 1970
Return-Path: <test-report-bounces@dpdk.org>
Received: from mails.dpdk.org (mails.dpdk.org [217.70.189.124])
	by inbox.dpdk.org (Postfix) with ESMTP id 1B2BD45B44
	for <public@inbox.dpdk.org>; Tue, 15 Oct 2024 22:36:02 +0200 (CEST)
Received: from mails.dpdk.org (localhost [127.0.0.1])
	by mails.dpdk.org (Postfix) with ESMTP id 1550F4025D;
	Tue, 15 Oct 2024 22:36:02 +0200 (CEST)
Received: from mail-pj1-f100.google.com (mail-pj1-f100.google.com
 [209.85.216.100])
 by mails.dpdk.org (Postfix) with ESMTP id 4E1F140144
 for <test-report@dpdk.org>; Tue, 15 Oct 2024 22:36:00 +0200 (CEST)
Received: by mail-pj1-f100.google.com with SMTP id
 98e67ed59e1d1-2e2dc61bc41so3743454a91.1
 for <test-report@dpdk.org>; Tue, 15 Oct 2024 13:36:00 -0700 (PDT)
DKIM-Signature: v=1; a=rsa-sha256; c=relaxed/relaxed;
 d=iol.unh.edu; s=unh-iol; t=1729024559; x=1729629359; darn=dpdk.org;
 h=references:in-reply-to:cc:to:from:subject:message-id:date:from:to
 :cc:subject:date:message-id:reply-to;
 bh=e63+cj4R8qylvjbZHMxp1I1UkoBWXd7HMuxBIZ8gOnA=;
 b=LzYTOSViT4d5rZH7Gd7Fe9w2nJ7bTuAQ2Z0Xc/TWVwtjKo1OGYc/bpLMFZSvHqgvzF
 cg/qyAdXDjRNm6+QT6RbpSLdpEFtNAlmRiZ/Ur+/j3UvqxETUuEdySiPgNyUqpFJ6LZF
 EiueCDRoobIoXto9y74btwevEHo3eUP+0qG0c=
X-Google-DKIM-Signature: v=1; a=rsa-sha256; c=relaxed/relaxed;
 d=1e100.net; s=20230601; t=1729024559; x=1729629359;
 h=references:in-reply-to:cc:to:from:subject:message-id:date
 :x-gm-message-state:from:to:cc:subject:date:message-id:reply-to;
 bh=e63+cj4R8qylvjbZHMxp1I1UkoBWXd7HMuxBIZ8gOnA=;
 b=ZBPz05W+pafmbKE48JzrPjm3lsM+V1Nu8HAZfDP3a956dv+DWIVRIXb8AvVNYnpmYm
 /Inc2VrotMJ0FwlY+XvsAmWr972pn2jomTwFI6dyPcPFmUSQmIuuSGLWoF7s7y6MZ3B0
 sKvaduJfnAjBdxtmPabsfwEJN1VLxrMKGd7EqVBxJp3/y6dn4zU/Pe5nksWhXbivlAYl
 guxo/8ZCWp4CB07+oX0H8isB/Cy/Qa58jjnS2uFnW3SDOlaqRllBVIiFdv0NUNVRsDgm
 NWVOhlucyLyLK4y81tVWcbnZRX0wfqaritAsPJf49bYriCzKLeSIOV3DNtM9LZWJKPTz
 w9jg==
X-Gm-Message-State: AOJu0YyekYS9rS3RBt7K3eqsJVPeJsa+QMvyLI2wOe/bMRhD9YptzE+P
 9rVz0ErqksyIBQNoE7brwbV+v1izW7+fnGOmTezziV6L69/QDiZk0HSMvTRCgKbAOIAOWlan93Q
 h3Z+NpNsIvJ8bXm6tDd45vUiHPTFQeLjLSYuaLW6EY64GGEU+Q1m02oxK
X-Google-Smtp-Source: AGHT+IHwW4p9NhBYl/jOprKjA4cBZhWm2rzBmvbCA+necxkQA++ugO1jZ31vYgvd2s6wIUtRjph3yIqOPMk3
X-Received: by 2002:a17:90a:bf0c:b0:2e2:b45f:53b4 with SMTP id
 98e67ed59e1d1-2e31536de0dmr14924101a91.25.1729024559431; 
 Tue, 15 Oct 2024 13:35:59 -0700 (PDT)
Received: from postal.iol.unh.edu (postal.iol.unh.edu.
 [2606:4100:3880:1234::84]) by smtp-relay.gmail.com with ESMTPS id
 98e67ed59e1d1-2e392e8c6e8sm102123a91.2.2024.10.15.13.35.59
 (version=TLS1_2 cipher=ECDHE-ECDSA-AES128-GCM-SHA256 bits=128/128);
 Tue, 15 Oct 2024 13:35:59 -0700 (PDT)
X-Relaying-Domain: iol.unh.edu
Date: Tue, 15 Oct 2024 13:35:59 -0700 (PDT)
Message-ID: <670ed22f.170a0220.25dfd.6e28SMTPIN_ADDED_MISSING@mx.google.com>
Received: from [172.21.0.3] (unknown [172.18.0.240])
 by postal.iol.unh.edu (Postfix) with ESMTP id CE6F56052471;
 Tue, 15 Oct 2024 16:35:58 -0400 (EDT)
Subject: |SUCCESS| pw145922 [PATCH] [v6] devtools: add .clang-format file
From: dpdklab@iol.unh.edu
To: Test Report <test-report@dpdk.org>
Cc: dpdk-test-reports@iol.unh.edu
In-Reply-To: <20241014221642.66974-1-aomeryamac@gmail.com>
References: <20241014221642.66974-1-aomeryamac@gmail.com>
Content-Type: text/plain
X-BeenThere: test-report@dpdk.org
X-Mailman-Version: 2.1.29
Precedence: list
List-Id: automatic DPDK test reports <test-report.dpdk.org>
List-Unsubscribe: <https://mails.dpdk.org/options/test-report>,
 <mailto:test-report-request@dpdk.org?subject=unsubscribe>
List-Archive: <http://mails.dpdk.org/archives/test-report/>
List-Post: <mailto:test-report@dpdk.org>
List-Help: <mailto:test-report-request@dpdk.org?subject=help>
List-Subscribe: <https://mails.dpdk.org/listinfo/test-report>,
 <mailto:test-report-request@dpdk.org?subject=subscribe>
Errors-To: test-report-bounces@dpdk.org

Test-Label: iol-compile-arm64-testing
Test-Status: SUCCESS
http://dpdk.org/patch/145922

_Testing PASS_

Submitter: Abdullah Omer Yamac <aomeryamac@gmail.com>
Date: Monday, October 14 2024 22:16:42 
DPDK git baseline: Repo:dpdk
  Branch: master
  CommitID:d8381a8f54cdc789c4260efefb5a17b9612f417e

145922 --> testing pass

Upstream job id: Generic-DPDK-Compile-Meson#316430

Test environment and result as below:

+----------------------------------------+--------------------+
|              Environment               | dpdk_meson_compile |
+========================================+====================+
| RHEL9 (ARM)                            | PASS               |
+----------------------------------------+--------------------+
| Ubuntu 20.04 ARM GCC Cross Compile     | PASS               |
+----------------------------------------+--------------------+
| Ubuntu 20.04 ARM SVE                   | PASS               |
+----------------------------------------+--------------------+
| Debian 12 with MUSDK                   | PASS               |
+----------------------------------------+--------------------+
| Fedora 37 (ARM)                        | PASS               |
+----------------------------------------+--------------------+
| Fedora 38 (ARM)                        | PASS               |
+----------------------------------------+--------------------+
| Fedora 38 (ARM Clang)                  | PASS               |
+----------------------------------------+--------------------+
| Fedora 39 (ARM)                        | PASS               |
+----------------------------------------+--------------------+
| Fedora 39 (ARM Clang)                  | PASS               |
+----------------------------------------+--------------------+
| Fedora 40 (ARM Clang)                  | PASS               |
+----------------------------------------+--------------------+
| Ubuntu 20.04 (ARM)                     | PASS               |
+----------------------------------------+--------------------+
| Ubuntu 24.04 (ARM)                     | PASS               |
+----------------------------------------+--------------------+
| Ubuntu 22.04 (ARM)                     | PASS               |
+----------------------------------------+--------------------+
| Debian 12 (arm)                        | PASS               |
+----------------------------------------+--------------------+
| CentOS Stream 9 (ARM)                  | PASS               |
+----------------------------------------+--------------------+
| Ubuntu 20.04 aarch32 GCC Cross Compile | PASS               |
+----------------------------------------+--------------------+
| Debian 11 (Buster) (ARM)               | PASS               |
+----------------------------------------+--------------------+
| Ubuntu 20.04 ARM Clang Cross Compile   | PASS               |
+----------------------------------------+--------------------+
| Fedora 40 (ARM)                        | PASS               |
+----------------------------------------+--------------------+


RHEL9 (ARM)
	Kernel: Depends on container host
	Compiler: gcc 11.4.1 20231218 (Red Hat 11.4.1-3)

Ubuntu 20.04 ARM GCC Cross Compile
	Kernel: Depends on container host
	Compiler: aarch64-linux-gnu-gcc (Ubuntu 9.4.0-1ubuntu1~20.04.2) 9.4.0

Ubuntu 20.04 ARM SVE
	Kernel: Depends on container host
	Compiler: gcc (Ubuntu 10.5.0-1ubuntu1~20.04) 10.5.0

Debian 12 with MUSDK
	Kernel: Depends on container host
	Compiler: gcc (Debian 12.2.0-14) 12.2.0

Fedora 37 (ARM)
	Kernel: Depends on container host
	Compiler: gcc 12.3.1 20230508 (Red Hat 12.3.1-1)

Fedora 38 (ARM)
	Kernel: Depends on container host
	Compiler: gcc 13.2.1 20240316 (Red Hat 13.2.1-7)

Fedora 38 (ARM Clang)
	Kernel: Depends on container host
	Compiler: clang 16.0.6 (Fedora 16.0.6-4.fc38)

Fedora 39 (ARM)
	Kernel: Depends on container host
	Compiler: gcc 13.3.1 20240522 (Red Hat 13.3.1-1)

Fedora 39 (ARM Clang)
	Kernel: Depends on container host
	Compiler: clang 17.0.6 (Fedora 17.0.6-2.fc39)

Fedora 40 (ARM Clang)
	Kernel: Depends on container host
	Compiler: clang 18.1.6 (Fedora 18.1.6-3.fc40)

Ubuntu 20.04 (ARM)
	Kernel: Depends on container host
	Compiler: gcc (Ubuntu 9.4.0-1ubuntu1~20.04.2) 9.4.0

Ubuntu 24.04 (ARM)
	Kernel: Depends on container host
	Compiler: gcc (Ubuntu 13.2.0-23ubuntu4) 13.2.0

Ubuntu 22.04 (ARM)
	Kernel: Depends on container host
	Compiler: gcc (Ubuntu 11.4.0-1ubuntu1~22.04) 11.4.0

Debian 12 (arm)
	Kernel: Depends on container host
	Compiler: gcc (Debian 12.2.0-14) 12.2.0

CentOS Stream 9 (ARM)
	Kernel: Depends on container host
	Compiler: gcc 11.4.1 20231218 (Red Hat 11.4.1-3)

Ubuntu 20.04 aarch32 GCC Cross Compile
	Kernel: Depends on container host
	Compiler: gcc 9.4.0

Debian 11 (Buster) (ARM)
	Kernel: Depends on container host
	Compiler: gcc (Debian 10.2.1-6) 10.2.1 20210110

Ubuntu 20.04 ARM Clang Cross Compile
	Kernel: Depends on container host
	Compiler: clang 10.0.0-4ubuntu1

Fedora 40 (ARM)
	Kernel: Depends on container host
	Compiler: gcc 14.2.1 20240801 (Red Hat 14.2.1-1)

To view detailed results, visit:
https://lab.dpdk.org/results/dashboard/patchsets/31480/

UNH-IOL DPDK Community Lab

To manage your email subscriptions, visit: 
https://lab.dpdk.org/results/dashboard/preferences/subscriptions/