From mboxrd@z Thu Jan  1 00:00:00 1970
Return-Path: <test-report-bounces@dpdk.org>
Received: from mails.dpdk.org (mails.dpdk.org [217.70.189.124])
	by inbox.dpdk.org (Postfix) with ESMTP id 0601245B44
	for <public@inbox.dpdk.org>; Tue, 15 Oct 2024 23:00:33 +0200 (CEST)
Received: from mails.dpdk.org (localhost [127.0.0.1])
	by mails.dpdk.org (Postfix) with ESMTP id D579E4025D;
	Tue, 15 Oct 2024 23:00:32 +0200 (CEST)
Received: from mail-qv1-f98.google.com (mail-qv1-f98.google.com
 [209.85.219.98]) by mails.dpdk.org (Postfix) with ESMTP id D4FDA40144
 for <test-report@dpdk.org>; Tue, 15 Oct 2024 23:00:30 +0200 (CEST)
Received: by mail-qv1-f98.google.com with SMTP id
 6a1803df08f44-6cbe90c7c95so51778796d6.1
 for <test-report@dpdk.org>; Tue, 15 Oct 2024 14:00:30 -0700 (PDT)
DKIM-Signature: v=1; a=rsa-sha256; c=relaxed/relaxed;
 d=iol.unh.edu; s=unh-iol; t=1729026030; x=1729630830; darn=dpdk.org;
 h=references:in-reply-to:cc:to:from:subject:message-id:date:from:to
 :cc:subject:date:message-id:reply-to;
 bh=FuBFOxPNqxLiu0r833UScENQmr8R+JmrTtlQZ2YfxcE=;
 b=F7WOg6Pb1x8V05ee6blef2p5WSwybAFgtVekz9xgsSHtFFiDuYPy2hQrvkxE11qKFT
 40+hO8KB3wB91UBueDPQ8eTBiIzGTpuMU++a8PkxFaW93ilPXDKj05KOR/2inXF43Q9B
 TucmAJCz1VqlP8KjUgfrEBVfq3VEdfoBHh644=
X-Google-DKIM-Signature: v=1; a=rsa-sha256; c=relaxed/relaxed;
 d=1e100.net; s=20230601; t=1729026030; x=1729630830;
 h=references:in-reply-to:cc:to:from:subject:message-id:date
 :x-gm-message-state:from:to:cc:subject:date:message-id:reply-to;
 bh=FuBFOxPNqxLiu0r833UScENQmr8R+JmrTtlQZ2YfxcE=;
 b=v9IVG+xvVZSJG0qZ8B+XOTjy72wowi/z92+FmY+KC4F7xGn41TzvAOTFXzi48xaein
 qICMga935fTqnk7Yi+597vH38tpU4tp63k8OU9ol+T1IN+0etR11tKVFByKaD88ybf1t
 tNTKEWNIoHkS2eDOMPd+x8Vp/w0MtFxGs6SNCNVeRjPkd0nR/cZFMhWwT7+ZMVYew2xO
 yexB5fEHk4ihw6os9Si3FjaCkf8fFL7tcVj9rwZBzoxoIiFn8BJaK9hvTD/E/5SGwTF2
 7xITlR4ge/V5ATx4KmNwRoh873c5BoYDDOG7V1Le4VAtfWLFsmsgizviWsmT6IR+Ua04
 VZLg==
X-Gm-Message-State: AOJu0YzrQu6IA3mPXb4IR0L+KyC/5sdYJU7EItv8CqY+90gWMvhEcof1
 Na46T9Chg/Jmdhafad/57I/Gwg8R0vuUpSvQODsAup3oTtJrxLoeicT5dmc/n0+mrL2Yh8N9h9e
 EaiBGxIzr/eupUPpnHF9tWqMpFV63N4CG/9QDesSv
X-Google-Smtp-Source: AGHT+IGMuhU/64Zfl+Eka4hfmZkADBKFGDoK7hri9wPuYiyi8kiKP5XUeCVWtG1OcZ/oxdfT6ncGRE4iguPv
X-Received: by 2002:a05:6214:2f89:b0:6cb:4b70:8ead with SMTP id
 6a1803df08f44-6cbf9e76827mr234860986d6.37.1729026029798; 
 Tue, 15 Oct 2024 14:00:29 -0700 (PDT)
Received: from postal.iol.unh.edu (postal.iol.unh.edu. [132.177.123.84])
 by smtp-relay.gmail.com with ESMTPS id
 6a1803df08f44-6cc22972038sm579426d6.59.2024.10.15.14.00.29
 (version=TLS1_2 cipher=ECDHE-ECDSA-AES128-GCM-SHA256 bits=128/128);
 Tue, 15 Oct 2024 14:00:29 -0700 (PDT)
X-Relaying-Domain: iol.unh.edu
Date: Tue, 15 Oct 2024 14:00:29 -0700 (PDT)
Message-ID: <670ed7ed.0c0a0220.36deef.3de0SMTPIN_ADDED_MISSING@mx.google.com>
Received: from [172.21.0.3] (unknown [172.18.0.240])
 by postal.iol.unh.edu (Postfix) with ESMTP id 7D0586052471;
 Tue, 15 Oct 2024 17:00:29 -0400 (EDT)
Subject: |SUCCESS| pw145923-145924 [PATCH] [v1,2/2] baseband/acc: saturate in
From: dpdklab@iol.unh.edu
To: Test Report <test-report@dpdk.org>
Cc: dpdk-test-reports@iol.unh.edu
In-Reply-To: <20241014223046.544893-3-nicolas.chautru@intel.com>
References: <20241014223046.544893-3-nicolas.chautru@intel.com>
Content-Type: text/plain
X-BeenThere: test-report@dpdk.org
X-Mailman-Version: 2.1.29
Precedence: list
List-Id: automatic DPDK test reports <test-report.dpdk.org>
List-Unsubscribe: <https://mails.dpdk.org/options/test-report>,
 <mailto:test-report-request@dpdk.org?subject=unsubscribe>
List-Archive: <http://mails.dpdk.org/archives/test-report/>
List-Post: <mailto:test-report@dpdk.org>
List-Help: <mailto:test-report-request@dpdk.org?subject=help>
List-Subscribe: <https://mails.dpdk.org/listinfo/test-report>,
 <mailto:test-report-request@dpdk.org?subject=subscribe>
Errors-To: test-report-bounces@dpdk.org

Test-Label: iol-unit-amd64-testing
Test-Status: SUCCESS
http://dpdk.org/patch/145924

_Testing PASS_

Submitter: Nicolas Chautru <nicolas.chautru@intel.com>
Date: Monday, October 14 2024 22:30:46 
DPDK git baseline: Repo:dpdk
  Branch: master
  CommitID:fa65238aafca38880ff138943c7c3c0aef3bf1a4

145923-145924 --> testing pass

Upstream job id: Generic-Unit-Test-DPDK#275776

Test environment and result as below:

+---------------------+----------------+
|     Environment     | dpdk_unit_test |
+=====================+================+
| CentOS Stream 9     | PASS           |
+---------------------+----------------+
| Debian Bullseye     | PASS           |
+---------------------+----------------+
| Debian 12           | PASS           |
+---------------------+----------------+
| Fedora 37           | PASS           |
+---------------------+----------------+
| Fedora 38           | PASS           |
+---------------------+----------------+
| Fedora 38 (Clang)   | PASS           |
+---------------------+----------------+
| Fedora 39           | PASS           |
+---------------------+----------------+
| Fedora 39 (Clang)   | PASS           |
+---------------------+----------------+
| Fedora 40           | PASS           |
+---------------------+----------------+
| Fedora 40 (Clang)   | PASS           |
+---------------------+----------------+
| RHEL8               | PASS           |
+---------------------+----------------+
| RHEL9               | PASS           |
+---------------------+----------------+
| Ubuntu 20.04        | PASS           |
+---------------------+----------------+
| Ubuntu 22.04        | PASS           |
+---------------------+----------------+
| Ubuntu 24.04        | PASS           |
+---------------------+----------------+
| Windows Server 2022 | PASS           |
+---------------------+----------------+


CentOS Stream 9
	Kernel: Depends on container host
	Compiler: gcc 11.4.1 20231218 (Red Hat 11.4.1-3)

Debian Bullseye
	Kernel: Depends on container host
	Compiler: gcc (Debian 10.2.1-6) 10.2.1 20210110

Debian 12
	Kernel: Depends on container host
	Compiler: gcc (Debian 12.2.0-14) 12.2.0

Fedora 37
	Kernel: Depends on container host system
	Compiler: gcc 12.3.1 20230508 (Red Hat 12.3.1-1)

Fedora 38
	Kernel: Depends on container host
	Compiler: gcc 13.2.1 20240316 (Red Hat 13.2.1-7)

Fedora 38 (Clang)
	Kernel: Depends on container host
	Compiler: clang 16.0.6 (Fedora 16.0.6-4.fc38)

Fedora 39
	Kernel: Depends on container host
	Compiler: gcc 13.3.1 20240522 (Red Hat 13.3.1-1)

Fedora 39 (Clang)
	Kernel: Depends on container host
	Compiler: clang 17.0.6 (Fedora 17.0.6-2.fc39)

Fedora 40
	Kernel: Depends on container host
	Compiler: gcc 14.2.1 20240801 (Red Hat 14.2.1-1)

Fedora 40 (Clang)
	Kernel: Depends on container host
	Compiler: clang 18.1.6 (Fedora 18.1.6-3.fc40)

RHEL8
	Kernel: Depends on container host
	Compiler: gcc 8.5.0 20210514 (Red Hat 8.5.0-22)

RHEL9
	Kernel: Depends on container host
	Compiler: gcc 11.4.1 20231218 (Red Hat 11.4.1-3)

Ubuntu 20.04
	Kernel: Depends on container host
	Compiler: gcc (Ubuntu 9.4.0-1ubuntu1~20.04.2) 9.4.0

Ubuntu 22.04
	Kernel: Depends on container host
	Compiler: gcc (Ubuntu 11.4.0-1ubuntu1~22.04) 11.4.0

Ubuntu 24.04
	Kernel: Depends on container host
	Compiler: gcc (Ubuntu 13.2.0-23ubuntu4) 13.2.0

Windows Server 2022
	Kernel: 10.0.20348.2031
	Compiler: clang 15.0.7, gcc 14.1.0 (MinGW), and MSVC VS 19.39.33521

To view detailed results, visit:
https://lab.dpdk.org/results/dashboard/patchsets/31481/

UNH-IOL DPDK Community Lab

To manage your email subscriptions, visit: 
https://lab.dpdk.org/results/dashboard/preferences/subscriptions/