From mboxrd@z Thu Jan  1 00:00:00 1970
Return-Path: <test-report-bounces@dpdk.org>
Received: from mails.dpdk.org (mails.dpdk.org [217.70.189.124])
	by inbox.dpdk.org (Postfix) with ESMTP id 48BFD45B44
	for <public@inbox.dpdk.org>; Tue, 15 Oct 2024 23:53:57 +0200 (CEST)
Received: from mails.dpdk.org (localhost [127.0.0.1])
	by mails.dpdk.org (Postfix) with ESMTP id 45AE440144;
	Tue, 15 Oct 2024 23:53:57 +0200 (CEST)
Received: from mail-pf1-f227.google.com (mail-pf1-f227.google.com
 [209.85.210.227])
 by mails.dpdk.org (Postfix) with ESMTP id 01E7A400D7
 for <test-report@dpdk.org>; Tue, 15 Oct 2024 23:53:56 +0200 (CEST)
Received: by mail-pf1-f227.google.com with SMTP id
 d2e1a72fcca58-71e8235f0b6so18515b3a.3
 for <test-report@dpdk.org>; Tue, 15 Oct 2024 14:53:55 -0700 (PDT)
DKIM-Signature: v=1; a=rsa-sha256; c=relaxed/relaxed;
 d=iol.unh.edu; s=unh-iol; t=1729029235; x=1729634035; darn=dpdk.org;
 h=references:in-reply-to:cc:to:from:subject:message-id:date:from:to
 :cc:subject:date:message-id:reply-to;
 bh=WjMCIhb6ZuZOvoL7Xtqd4Kg+jjeWyURY6XIg6YlScl4=;
 b=VE4hE9Z1m3wwcxe/EtueMgJfaXfzOnomx5TrgsQUVsISIvn3J3n5EVW9zmUYLRBRFT
 VwwuKoLr8u9kAIbbuwXrNni+K1M4o90WY6cLziN3jlnJCCoSXM6OKHhj6yqn5gSSsA3y
 yGHgVmJzU3fNpHWBsJIwbdFP+oL0Ipal2EzTA=
X-Google-DKIM-Signature: v=1; a=rsa-sha256; c=relaxed/relaxed;
 d=1e100.net; s=20230601; t=1729029235; x=1729634035;
 h=references:in-reply-to:cc:to:from:subject:message-id:date
 :x-gm-message-state:from:to:cc:subject:date:message-id:reply-to;
 bh=WjMCIhb6ZuZOvoL7Xtqd4Kg+jjeWyURY6XIg6YlScl4=;
 b=RGzzxVKvZr2r2ciWCzg43pmwpCWSH3OQDQlnT26SydGsgMLTFtYn+/Ln8/bmGlF15o
 eurLNYVBn9N+TxIe9DXfTiFvUCeRJVZfhL7iUVVRC2LUID0TzKfJ148ydbHdWIniypMy
 +Msr7SDoRv8nhkDElKDtCFV0Dq+mCY0NrE1fRVgFZpK5dTBnXqnSxcGXv/JFsHikFoZ5
 Nun2uGqUzvdk4btXxOIgd4fAntvXp/kb2P2vwSfQnv9C2unDQz2mw9LU6KCuCfwV9bu8
 vbhrd9L/AOeD9566eGnIW7F7fM6G8MpoGgsT8GtSSASNIFwOCOi3MlADTV785xon1wML
 dfcA==
X-Gm-Message-State: AOJu0Yye8+dyAlw3a2J6XoqGtyW7B4G0gz/Dc4DdVON85PUsxNLd/izq
 8ShIslvxNuDHFBJuhYtdCvdbaJJ/mWNu+WKqjCXUZmqzEQ1Ttr+SurXhCKKK7fi+nvzd9zKbmpq
 gqgClwJZ0uV1muThn+1fl8qW6LLj1aiZPcPaxz9vYGfcq8stT443iOqzu
X-Google-Smtp-Source: AGHT+IFYZbkEhrtrWNnmA80EeIEDOuprtQ8RN/QGzFDOXB9gTM990EvrJu/pwsVw/EM1rRlp5Fzv1T8nzBsS
X-Received: by 2002:a05:6a00:10c9:b0:71e:5f2c:c019 with SMTP id
 d2e1a72fcca58-71e5f2ccbadmr13566634b3a.9.1729029234938; 
 Tue, 15 Oct 2024 14:53:54 -0700 (PDT)
Received: from postal.iol.unh.edu (postal.iol.unh.edu.
 [2606:4100:3880:1234::84]) by smtp-relay.gmail.com with ESMTPS id
 d2e1a72fcca58-71e774a6fb1sm127625b3a.23.2024.10.15.14.53.54
 (version=TLS1_2 cipher=ECDHE-ECDSA-AES128-GCM-SHA256 bits=128/128);
 Tue, 15 Oct 2024 14:53:54 -0700 (PDT)
X-Relaying-Domain: iol.unh.edu
Date: Tue, 15 Oct 2024 14:53:54 -0700 (PDT)
Message-ID: <670ee472.050a0220.346b79.869bSMTPIN_ADDED_MISSING@mx.google.com>
Received: from [172.21.0.3] (unknown [172.18.0.240])
 by postal.iol.unh.edu (Postfix) with ESMTP id 05D466052471;
 Tue, 15 Oct 2024 17:53:54 -0400 (EDT)
Subject: |SUCCESS| pw145820-145823 [PATCH] [v2,4/4] net/mlx5: update dump scr
From: dpdklab@iol.unh.edu
To: Test Report <test-report@dpdk.org>
Cc: dpdk-test-reports@iol.unh.edu
In-Reply-To: <20241014080434.1211629-5-viacheslavo@nvidia.com>
References: <20241014080434.1211629-5-viacheslavo@nvidia.com>
Content-Type: text/plain
X-BeenThere: test-report@dpdk.org
X-Mailman-Version: 2.1.29
Precedence: list
List-Id: automatic DPDK test reports <test-report.dpdk.org>
List-Unsubscribe: <https://mails.dpdk.org/options/test-report>,
 <mailto:test-report-request@dpdk.org?subject=unsubscribe>
List-Archive: <http://mails.dpdk.org/archives/test-report/>
List-Post: <mailto:test-report@dpdk.org>
List-Help: <mailto:test-report-request@dpdk.org?subject=help>
List-Subscribe: <https://mails.dpdk.org/listinfo/test-report>,
 <mailto:test-report-request@dpdk.org?subject=subscribe>
Errors-To: test-report-bounces@dpdk.org

Test-Label: iol-sample-apps-testing
Test-Status: SUCCESS
http://dpdk.org/patch/145823

_Testing PASS_

Submitter: Viacheslav Ovsiienko <viacheslavo@nvidia.com>
Date: Monday, October 14 2024 08:04:34 
DPDK git baseline: Repo:dpdk
  Branch: master
  CommitID:9c935343d8c7397198f2fb72500cc9db120c8d8d

145820-145823 --> testing pass

Upstream job id: ACVP-FIPS-testing#7330

Test environment and result as below:

+--------------------+----------------------+----------------------+
|    Environment     | compressdev_zlib_pmd | dpdk_fips_validation |
+====================+======================+======================+
| Ubuntu 22.04 (ARM) | PASS                 | SKIPPED              |
+--------------------+----------------------+----------------------+
| Ubuntu 22.04       | PASS                 | SKIPPED              |
+--------------------+----------------------+----------------------+
| Ubuntu 20.04       | SKIPPED              | PASS                 |
+--------------------+----------------------+----------------------+


Ubuntu 22.04 (ARM)
	Kernel: 5.15.0-97-generic
	Compiler: gcc gcc (Ubuntu 11.4.0-1ubuntu1~22.04) 11.4.0

Ubuntu 22.04
	Kernel: 5.15.0-100-generic
	Compiler: gcc gcc (Ubuntu 11.4.0-1ubuntu1~22.04) 11.4.0

Ubuntu 20.04
	Kernel: Depends on container host
	Compiler: gcc (Ubuntu 9.4.0-1ubuntu1~20.04.2) 9.4.0

To view detailed results, visit:
https://lab.dpdk.org/results/dashboard/patchsets/31457/

UNH-IOL DPDK Community Lab

To manage your email subscriptions, visit: 
https://lab.dpdk.org/results/dashboard/preferences/subscriptions/