From mboxrd@z Thu Jan  1 00:00:00 1970
Return-Path: <test-report-bounces@dpdk.org>
Received: from mails.dpdk.org (mails.dpdk.org [217.70.189.124])
	by inbox.dpdk.org (Postfix) with ESMTP id E957845B50
	for <public@inbox.dpdk.org>; Wed, 16 Oct 2024 11:25:40 +0200 (CEST)
Received: from mails.dpdk.org (localhost [127.0.0.1])
	by mails.dpdk.org (Postfix) with ESMTP id E40C3402A9;
	Wed, 16 Oct 2024 11:25:40 +0200 (CEST)
Received: from mail-yw1-f228.google.com (mail-yw1-f228.google.com
 [209.85.128.228])
 by mails.dpdk.org (Postfix) with ESMTP id C3F8B40273
 for <test-report@dpdk.org>; Wed, 16 Oct 2024 11:25:39 +0200 (CEST)
Received: by mail-yw1-f228.google.com with SMTP id
 00721157ae682-6e3a97a6010so29855147b3.1
 for <test-report@dpdk.org>; Wed, 16 Oct 2024 02:25:39 -0700 (PDT)
DKIM-Signature: v=1; a=rsa-sha256; c=relaxed/relaxed;
 d=iol.unh.edu; s=unh-iol; t=1729070739; x=1729675539; darn=dpdk.org;
 h=references:in-reply-to:cc:to:from:subject:message-id:date:from:to
 :cc:subject:date:message-id:reply-to;
 bh=2a9+PuFWDE6JSxnxjRa9Lo61+xVbmpPBzpyTN3wiaVg=;
 b=dgCS+uAFIdwwtWSKVmEfTt71qieGivYpkcIQIYhlV6z+Mty9NYh9filiLQ58Ku1AT0
 lDHOyf1J21oAEO8OWo68QC36yvCw+MQp+CWx2SdhUzwtX1nbbEAqapJr/zi8L/WXhDYq
 hYKLRFF32FsvNvA4xvfAWbMXFckdWRjXmdEio=
X-Google-DKIM-Signature: v=1; a=rsa-sha256; c=relaxed/relaxed;
 d=1e100.net; s=20230601; t=1729070739; x=1729675539;
 h=references:in-reply-to:cc:to:from:subject:message-id:date
 :x-gm-message-state:from:to:cc:subject:date:message-id:reply-to;
 bh=2a9+PuFWDE6JSxnxjRa9Lo61+xVbmpPBzpyTN3wiaVg=;
 b=uKY7h+1V6Xi2P+FGWM3WGkDL4+qFP4pWhWl01pc9Jz01xdSP+uPbMZoDdS5nxnGh7v
 8DlrpJh0iTtjEcRXUJyzRknlMuPgmNO9vtnps8zd1Vb0cgOIy7cHYFxPeypqLycIrJ+s
 vIeob95k4oPwGE38mluuLdqc6zZANQlhh6GNHLtcltoFIR8GdB6k2UZB2ZvGGZa6x0Al
 uA0tT9hgUErVGNAbVswIRRc8BVQVZJW645yjFTvukA4wxcdJ7aMahewQqm539G1KvTlm
 yGfYIqnqnpjEueIm22aQGaDaKgvd1/XSIfhVPK6Lhvkc/8TKyDUWOyNkcljrl4sApo7S
 dCIg==
X-Gm-Message-State: AOJu0YxDDQIud1Nk7tA3Yx+tFznVcEHUX0GTT/bnsxywMAcztNAvQP7O
 GO5aUpCyW9G+18ZPs0NIMJLRB0WjLZeNZ10sZq8Ye8ACEwRsU3blmv7wRAUYVLNUaZi8XohyLgD
 GicHJjuYnO5V45dTRsoKBizvnWNTi61mxDu+EAHeH
X-Google-Smtp-Source: AGHT+IHnJZ3H/lLu8AwKTFioAOux/HfPbm3kQlj9J5bem9RfB/++zH3B7pdWOKgNbHE+MXtR+L/xRHoBv3qj
X-Received: by 2002:a05:690c:dcf:b0:6de:1e2:d66a with SMTP id
 00721157ae682-6e3d407f362mr34749147b3.2.1729070739102; 
 Wed, 16 Oct 2024 02:25:39 -0700 (PDT)
Received: from postal.iol.unh.edu (postal.iol.unh.edu. [132.177.123.84])
 by smtp-relay.gmail.com with ESMTPS id
 00721157ae682-6e3c5caac49sm1108927b3.68.2024.10.16.02.25.39
 (version=TLS1_2 cipher=ECDHE-ECDSA-AES128-GCM-SHA256 bits=128/128);
 Wed, 16 Oct 2024 02:25:39 -0700 (PDT)
X-Relaying-Domain: iol.unh.edu
Date: Wed, 16 Oct 2024 02:25:39 -0700 (PDT)
Message-ID: <670f8693.050a0220.35b33e.7a38SMTPIN_ADDED_MISSING@mx.google.com>
Received: from [172.21.0.5] (unknown [172.18.0.240])
 by postal.iol.unh.edu (Postfix) with ESMTP id 7CACD6052471;
 Wed, 16 Oct 2024 05:25:38 -0400 (EDT)
Subject: |SUCCESS| pw145985 [PATCH] test/fib: fix RCU tests
From: dpdklab@iol.unh.edu
To: Test Report <test-report@dpdk.org>
Cc: dpdk-test-reports@iol.unh.edu
In-Reply-To: <20241015075111.968663-1-david.marchand@redhat.com>
References: <20241015075111.968663-1-david.marchand@redhat.com>
Content-Type: text/plain
X-BeenThere: test-report@dpdk.org
X-Mailman-Version: 2.1.29
Precedence: list
List-Id: automatic DPDK test reports <test-report.dpdk.org>
List-Unsubscribe: <https://mails.dpdk.org/options/test-report>,
 <mailto:test-report-request@dpdk.org?subject=unsubscribe>
List-Archive: <http://mails.dpdk.org/archives/test-report/>
List-Post: <mailto:test-report@dpdk.org>
List-Help: <mailto:test-report-request@dpdk.org?subject=help>
List-Subscribe: <https://mails.dpdk.org/listinfo/test-report>,
 <mailto:test-report-request@dpdk.org?subject=subscribe>
Errors-To: test-report-bounces@dpdk.org

Test-Label: iol-compile-amd64-testing
Test-Status: SUCCESS
http://dpdk.org/patch/145985

_Testing PASS_

Submitter: David Marchand <david.marchand@redhat.com>
Date: Tuesday, October 15 2024 07:51:11 
DPDK git baseline: Repo:dpdk
  Branch: master
  CommitID:9207f93640a709cad1412430c5f0edfee3ad5a87

145985 --> testing pass

Upstream job id: Generic-DPDK-Compile-Meson#316779

Test environment and result as below:

+---------------------+-----------------------+----------------------+--------------------+------------------+-------------------+
|     Environment     | dpdk_win_llvm_compile | dpdk_mingw64_compile | dpdk_meson_compile | dpdk_compile_ovs | dpdk_compile_spdk |
+=====================+=======================+======================+====================+==================+===================+
| Windows Server 2022 | PASS                  | PASS                 | SKIPPED            | SKIPPED          | SKIPPED           |
+---------------------+-----------------------+----------------------+--------------------+------------------+-------------------+
| FreeBSD 13.4        | SKIPPED               | SKIPPED              | PASS               | SKIPPED          | SKIPPED           |
+---------------------+-----------------------+----------------------+--------------------+------------------+-------------------+
| FreeBSD 14.1        | SKIPPED               | SKIPPED              | PASS               | SKIPPED          | SKIPPED           |
+---------------------+-----------------------+----------------------+--------------------+------------------+-------------------+
| CentOS Stream 9     | SKIPPED               | SKIPPED              | PASS               | PASS             | PASS              |
+---------------------+-----------------------+----------------------+--------------------+------------------+-------------------+
| Debian Bullseye     | SKIPPED               | SKIPPED              | PASS               | PASS             | PASS              |
+---------------------+-----------------------+----------------------+--------------------+------------------+-------------------+
| Debian 12           | SKIPPED               | SKIPPED              | PASS               | PASS             | PASS              |
+---------------------+-----------------------+----------------------+--------------------+------------------+-------------------+
| Fedora 37           | SKIPPED               | SKIPPED              | PASS               | PASS             | PASS              |
+---------------------+-----------------------+----------------------+--------------------+------------------+-------------------+
| Fedora 38 (Clang)   | SKIPPED               | SKIPPED              | PASS               | PASS             | PASS              |
+---------------------+-----------------------+----------------------+--------------------+------------------+-------------------+
| Fedora 38           | SKIPPED               | SKIPPED              | PASS               | PASS             | PASS              |
+---------------------+-----------------------+----------------------+--------------------+------------------+-------------------+
| Fedora 39 (Clang)   | SKIPPED               | SKIPPED              | PASS               | PASS             | PASS              |
+---------------------+-----------------------+----------------------+--------------------+------------------+-------------------+
| Fedora 39           | SKIPPED               | SKIPPED              | PASS               | PASS             | PASS              |
+---------------------+-----------------------+----------------------+--------------------+------------------+-------------------+
| Fedora 40 (Clang)   | SKIPPED               | SKIPPED              | PASS               | PASS             | PASS              |
+---------------------+-----------------------+----------------------+--------------------+------------------+-------------------+
| Fedora 40           | SKIPPED               | SKIPPED              | PASS               | PASS             | PASS              |
+---------------------+-----------------------+----------------------+--------------------+------------------+-------------------+
| openSUSE Leap 15    | SKIPPED               | SKIPPED              | PASS               | PASS             | SKIPPED           |
+---------------------+-----------------------+----------------------+--------------------+------------------+-------------------+
| RHEL8               | SKIPPED               | SKIPPED              | PASS               | PASS             | SKIPPED           |
+---------------------+-----------------------+----------------------+--------------------+------------------+-------------------+
| RHEL9               | SKIPPED               | SKIPPED              | PASS               | PASS             | SKIPPED           |
+---------------------+-----------------------+----------------------+--------------------+------------------+-------------------+
| Ubuntu 20.04        | SKIPPED               | SKIPPED              | PASS               | PASS             | SKIPPED           |
+---------------------+-----------------------+----------------------+--------------------+------------------+-------------------+
| Ubuntu 22.04        | SKIPPED               | SKIPPED              | PASS               | PASS             | PASS              |
+---------------------+-----------------------+----------------------+--------------------+------------------+-------------------+
| Ubuntu 24.04        | SKIPPED               | SKIPPED              | PASS               | PASS             | PASS              |
+---------------------+-----------------------+----------------------+--------------------+------------------+-------------------+
| Alpine              | SKIPPED               | SKIPPED              | PASS               | PASS             | SKIPPED           |
+---------------------+-----------------------+----------------------+--------------------+------------------+-------------------+


Windows Server 2022
	Kernel: 10.0.20348.2031
	Compiler: clang 15.0.7, gcc 14.1.0 (MinGW), and MSVC VS 19.39.33521

FreeBSD 13.4
	Kernel: 13.4-RELEASE-p1
	Compiler: clang 18.1.6

FreeBSD 14.1
	Kernel: 14.1-RELEASE-p3
	Compiler: clang 18.1.5

CentOS Stream 9
	Kernel: Depends on container host
	Compiler: gcc 11.4.1 20231218 (Red Hat 11.4.1-3)

Debian Bullseye
	Kernel: Depends on container host
	Compiler: gcc (Debian 10.2.1-6) 10.2.1 20210110

Debian 12
	Kernel: Depends on container host
	Compiler: gcc (Debian 12.2.0-14) 12.2.0

Fedora 37
	Kernel: Depends on container host system
	Compiler: gcc 12.3.1 20230508 (Red Hat 12.3.1-1)

Fedora 38 (Clang)
	Kernel: Depends on container host
	Compiler: clang 16.0.6 (Fedora 16.0.6-4.fc38)

Fedora 38
	Kernel: Depends on container host
	Compiler: gcc 13.2.1 20240316 (Red Hat 13.2.1-7)

Fedora 39 (Clang)
	Kernel: Depends on container host
	Compiler: clang 17.0.6 (Fedora 17.0.6-2.fc39)

Fedora 39
	Kernel: Depends on container host
	Compiler: gcc 13.3.1 20240522 (Red Hat 13.3.1-1)

Fedora 40 (Clang)
	Kernel: Depends on container host
	Compiler: clang 18.1.6 (Fedora 18.1.6-3.fc40)

Fedora 40
	Kernel: Depends on container host
	Compiler: gcc 14.2.1 20240801 (Red Hat 14.2.1-1)

openSUSE Leap 15
	Kernel: Depends on container host
	Compiler: gcc (SUSE Linux) 7.5.0

RHEL8
	Kernel: Depends on container host
	Compiler: gcc 8.5.0 20210514 (Red Hat 8.5.0-22)

RHEL9
	Kernel: Depends on container host
	Compiler: gcc 11.4.1 20231218 (Red Hat 11.4.1-3)

Ubuntu 20.04
	Kernel: Depends on container host
	Compiler: gcc (Ubuntu 9.4.0-1ubuntu1~20.04.2) 9.4.0

Ubuntu 22.04
	Kernel: Depends on container host
	Compiler: gcc (Ubuntu 11.4.0-1ubuntu1~22.04) 11.4.0

Ubuntu 24.04
	Kernel: Depends on container host
	Compiler: gcc (Ubuntu 13.2.0-23ubuntu4) 13.2.0

Alpine
	Kernel: Depends on container host
	Compiler: gcc (Alpine 13.2.1_git20240309) 13.2.1 20240309

To view detailed results, visit:
https://lab.dpdk.org/results/dashboard/patchsets/31491/

UNH-IOL DPDK Community Lab

To manage your email subscriptions, visit: 
https://lab.dpdk.org/results/dashboard/preferences/subscriptions/